BEGIN:VCALENDAR
VERSION:2.0
PRODID:-//Mamaway Wiidokdaadwin - ECPv6.15.12//NONSGML v1.0//EN
CALSCALE:GREGORIAN
METHOD:PUBLISH
X-ORIGINAL-URL:https://mamaway.ca
X-WR-CALDESC:Events for Mamaway Wiidokdaadwin
REFRESH-INTERVAL;VALUE=DURATION:PT1H
X-Robots-Tag:noindex
X-PUBLISHED-TTL:PT1H
BEGIN:VTIMEZONE
TZID:America/Toronto
BEGIN:DAYLIGHT
TZOFFSETFROM:-0500
TZOFFSETTO:-0400
TZNAME:EDT
DTSTART:20230312T070000
END:DAYLIGHT
BEGIN:STANDARD
TZOFFSETFROM:-0400
TZOFFSETTO:-0500
TZNAME:EST
DTSTART:20231105T060000
END:STANDARD
BEGIN:DAYLIGHT
TZOFFSETFROM:-0500
TZOFFSETTO:-0400
TZNAME:EDT
DTSTART:20240310T070000
END:DAYLIGHT
BEGIN:STANDARD
TZOFFSETFROM:-0400
TZOFFSETTO:-0500
TZNAME:EST
DTSTART:20241103T060000
END:STANDARD
BEGIN:DAYLIGHT
TZOFFSETFROM:-0500
TZOFFSETTO:-0400
TZNAME:EDT
DTSTART:20250309T070000
END:DAYLIGHT
BEGIN:STANDARD
TZOFFSETFROM:-0400
TZOFFSETTO:-0500
TZNAME:EST
DTSTART:20251102T060000
END:STANDARD
END:VTIMEZONE
BEGIN:VEVENT
DTSTART;TZID=America/Toronto:20240430T180000
DTEND;TZID=America/Toronto:20240430T200000
DTSTAMP:20260420T073145
CREATED:20240409T155218Z
LAST-MODIFIED:20240409T155709Z
UID:10002396-1714500000-1714507200@mamaway.ca
SUMMARY:Addiction Support and Education Circle (ASEC)
DESCRIPTION:Mamaway Wiidokdaadwin is partnering with CMHA to offer this 4-week series. \nPlease see attached the flyer with all the details \nIf this program interest you\, please register by calling 705-721-9554 \nFeel free to share with others who may benefit from this series.
URL:https://mamaway.ca/event/addiction-support-and-education-circle-asec/2024-04-30/
LOCATION:Virtual Offering
ATTACH;FMTTYPE=image/png:https://mamaway.ca/wp-content/uploads/2024/04/ASEC-Flyer-April-2024.png
ORGANIZER;CN="Lorie Roberts":MAILTO:lroberts@banac.on.ca
END:VEVENT
BEGIN:VEVENT
DTSTART;TZID=America/Toronto:20240429T180000
DTEND;TZID=America/Toronto:20240429T200000
DTSTAMP:20260420T073145
CREATED:20240409T155218Z
LAST-MODIFIED:20240409T155709Z
UID:10002395-1714413600-1714420800@mamaway.ca
SUMMARY:Addiction Support and Education Circle (ASEC)
DESCRIPTION:Mamaway Wiidokdaadwin is partnering with CMHA to offer this 4-week series. \nPlease see attached the flyer with all the details \nIf this program interest you\, please register by calling 705-721-9554 \nFeel free to share with others who may benefit from this series.
URL:https://mamaway.ca/event/addiction-support-and-education-circle-asec/2024-04-29/
LOCATION:Virtual Offering
ATTACH;FMTTYPE=image/png:https://mamaway.ca/wp-content/uploads/2024/04/ASEC-Flyer-April-2024.png
ORGANIZER;CN="Lorie Roberts":MAILTO:lroberts@banac.on.ca
END:VEVENT
BEGIN:VEVENT
DTSTART;TZID=America/Toronto:20240423T180000
DTEND;TZID=America/Toronto:20240423T200000
DTSTAMP:20260420T073145
CREATED:20240409T155218Z
LAST-MODIFIED:20240409T155709Z
UID:10002394-1713895200-1713902400@mamaway.ca
SUMMARY:Addiction Support and Education Circle (ASEC)
DESCRIPTION:Mamaway Wiidokdaadwin is partnering with CMHA to offer this 4-week series. \nPlease see attached the flyer with all the details \nIf this program interest you\, please register by calling 705-721-9554 \nFeel free to share with others who may benefit from this series.
URL:https://mamaway.ca/event/addiction-support-and-education-circle-asec/2024-04-23/
LOCATION:Virtual Offering
ATTACH;FMTTYPE=image/png:https://mamaway.ca/wp-content/uploads/2024/04/ASEC-Flyer-April-2024.png
ORGANIZER;CN="Lorie Roberts":MAILTO:lroberts@banac.on.ca
END:VEVENT
BEGIN:VEVENT
DTSTART;TZID=America/Toronto:20240422T180000
DTEND;TZID=America/Toronto:20240422T200000
DTSTAMP:20260420T073145
CREATED:20240409T155218Z
LAST-MODIFIED:20240409T155709Z
UID:10002393-1713808800-1713816000@mamaway.ca
SUMMARY:Addiction Support and Education Circle (ASEC)
DESCRIPTION:Mamaway Wiidokdaadwin is partnering with CMHA to offer this 4-week series. \nPlease see attached the flyer with all the details \nIf this program interest you\, please register by calling 705-721-9554 \nFeel free to share with others who may benefit from this series.
URL:https://mamaway.ca/event/addiction-support-and-education-circle-asec/2024-04-22/
LOCATION:Virtual Offering
ATTACH;FMTTYPE=image/png:https://mamaway.ca/wp-content/uploads/2024/04/ASEC-Flyer-April-2024.png
ORGANIZER;CN="Lorie Roberts":MAILTO:lroberts@banac.on.ca
END:VEVENT
END:VCALENDAR