BEGIN:VCALENDAR
VERSION:2.0
PRODID:-//Mamaway Wiidokdaadwin - ECPv6.15.12//NONSGML v1.0//EN
CALSCALE:GREGORIAN
METHOD:PUBLISH
X-WR-CALNAME:Mamaway Wiidokdaadwin
X-ORIGINAL-URL:https://mamaway.ca
X-WR-CALDESC:Events for Mamaway Wiidokdaadwin
REFRESH-INTERVAL;VALUE=DURATION:PT1H
X-Robots-Tag:noindex
X-PUBLISHED-TTL:PT1H
BEGIN:VTIMEZONE
TZID:America/Toronto
BEGIN:DAYLIGHT
TZOFFSETFROM:-0500
TZOFFSETTO:-0400
TZNAME:EDT
DTSTART:20250309T070000
END:DAYLIGHT
BEGIN:STANDARD
TZOFFSETFROM:-0400
TZOFFSETTO:-0500
TZNAME:EST
DTSTART:20251102T060000
END:STANDARD
BEGIN:DAYLIGHT
TZOFFSETFROM:-0500
TZOFFSETTO:-0400
TZNAME:EDT
DTSTART:20260308T070000
END:DAYLIGHT
BEGIN:STANDARD
TZOFFSETFROM:-0400
TZOFFSETTO:-0500
TZNAME:EST
DTSTART:20261101T060000
END:STANDARD
BEGIN:DAYLIGHT
TZOFFSETFROM:-0500
TZOFFSETTO:-0400
TZNAME:EDT
DTSTART:20270314T070000
END:DAYLIGHT
BEGIN:STANDARD
TZOFFSETFROM:-0400
TZOFFSETTO:-0500
TZNAME:EST
DTSTART:20271107T060000
END:STANDARD
END:VTIMEZONE
BEGIN:VEVENT
DTSTART;TZID=America/Toronto:20260922T180000
DTEND;TZID=America/Toronto:20260922T193000
DTSTAMP:20260419T115211
CREATED:20260407T214700Z
LAST-MODIFIED:20260415T154219Z
UID:10005714-1790100000-1790105400@mamaway.ca
SUMMARY:Anishnaabemowin Language Circle (Virtual)
DESCRIPTION:Anishnaabemowin Circle – Join the conversation \nElder\, Hector Copegog will be leading an Anishnaabemowin Talking Circle\,\nthe Fourth Tuesday of every month\, evening from 6-7:30pm \nThis virtual drop-in group is a space for supporting each other through a talking circle in the language. \nAll levels of speakers are welcome to join Hector! \nRegister here: https://survey.alchemer-ca.com/s3/50556148/Language-Conversation-circle-registration-2026-monthly \nIf you have any questions\, please email Lianne:\nlhudon@banac.on.ca and she will coordinate with Elder\, Hector
URL:https://mamaway.ca/event/anishnaabemowin-language-circle-virtual/2026-09-22/
LOCATION:teams
ATTACH;FMTTYPE=image/png:https://mamaway.ca/wp-content/uploads/2026/04/Evening-Monthly-Anishinaabemowin-Language-Circle-Flyer-2026.png
ORGANIZER;CN="Lianne Hudon":MAILTO:lhudon@banac.on.ca
END:VEVENT
BEGIN:VEVENT
DTSTART;TZID=America/Toronto:20261027T180000
DTEND;TZID=America/Toronto:20261027T193000
DTSTAMP:20260419T115211
CREATED:20260407T214700Z
LAST-MODIFIED:20260415T154219Z
UID:10005715-1793124000-1793129400@mamaway.ca
SUMMARY:Anishnaabemowin Language Circle (Virtual)
DESCRIPTION:Anishnaabemowin Circle – Join the conversation \nElder\, Hector Copegog will be leading an Anishnaabemowin Talking Circle\,\nthe Fourth Tuesday of every month\, evening from 6-7:30pm \nThis virtual drop-in group is a space for supporting each other through a talking circle in the language. \nAll levels of speakers are welcome to join Hector! \nRegister here: https://survey.alchemer-ca.com/s3/50556148/Language-Conversation-circle-registration-2026-monthly \nIf you have any questions\, please email Lianne:\nlhudon@banac.on.ca and she will coordinate with Elder\, Hector
URL:https://mamaway.ca/event/anishnaabemowin-language-circle-virtual/2026-10-27/
LOCATION:teams
ATTACH;FMTTYPE=image/png:https://mamaway.ca/wp-content/uploads/2026/04/Evening-Monthly-Anishinaabemowin-Language-Circle-Flyer-2026.png
ORGANIZER;CN="Lianne Hudon":MAILTO:lhudon@banac.on.ca
END:VEVENT
BEGIN:VEVENT
DTSTART;TZID=America/Toronto:20261124T180000
DTEND;TZID=America/Toronto:20261124T193000
DTSTAMP:20260419T115211
CREATED:20260407T214700Z
LAST-MODIFIED:20260415T154219Z
UID:10005716-1795543200-1795548600@mamaway.ca
SUMMARY:Anishnaabemowin Language Circle (Virtual)
DESCRIPTION:Anishnaabemowin Circle – Join the conversation \nElder\, Hector Copegog will be leading an Anishnaabemowin Talking Circle\,\nthe Fourth Tuesday of every month\, evening from 6-7:30pm \nThis virtual drop-in group is a space for supporting each other through a talking circle in the language. \nAll levels of speakers are welcome to join Hector! \nRegister here: https://survey.alchemer-ca.com/s3/50556148/Language-Conversation-circle-registration-2026-monthly \nIf you have any questions\, please email Lianne:\nlhudon@banac.on.ca and she will coordinate with Elder\, Hector
URL:https://mamaway.ca/event/anishnaabemowin-language-circle-virtual/2026-11-24/
LOCATION:teams
ATTACH;FMTTYPE=image/png:https://mamaway.ca/wp-content/uploads/2026/04/Evening-Monthly-Anishinaabemowin-Language-Circle-Flyer-2026.png
ORGANIZER;CN="Lianne Hudon":MAILTO:lhudon@banac.on.ca
END:VEVENT
BEGIN:VEVENT
DTSTART;TZID=America/Toronto:20261215T180000
DTEND;TZID=America/Toronto:20261215T193000
DTSTAMP:20260419T115211
CREATED:20260407T221949Z
LAST-MODIFIED:20260407T221949Z
UID:10005729-1797357600-1797363000@mamaway.ca
SUMMARY:Anishnaabemowin Language Circle (Virtual)
DESCRIPTION:Anishnaabemowin Circle – Join the conversation \nElder\, Hector Copegog will be leading an Anishnaabemowin Talking Circle\,\nthe Fourth Thursday of every month\, evening from 6-7:30pm \nThis virtual drop-in group is a space for supporting each other through a talking circle in the language. \nAll levels of speakers are welcome to join Hector! \nRegister here: https://survey.alchemer-ca.com/s3/50556148/Language-Conversation-circle-registration-2026-monthly \nIf you have any questions\, please email Lianne:\nlhudon@banac.on.ca and she will coordinate with Elder\, Hector
URL:https://mamaway.ca/event/anishnaabemowin-language-circle-virtual-2/
LOCATION:teams
ATTACH;FMTTYPE=image/png:https://mamaway.ca/wp-content/uploads/2026/04/Monthly-Anishinaabemowin-Language-Circle-Flyer-2026.png
ORGANIZER;CN="Lianne Hudon":MAILTO:lhudon@banac.on.ca
END:VEVENT
END:VCALENDAR