BEGIN:VCALENDAR
VERSION:2.0
PRODID:-//Mamaway Wiidokdaadwin - ECPv6.15.12//NONSGML v1.0//EN
CALSCALE:GREGORIAN
METHOD:PUBLISH
X-ORIGINAL-URL:https://mamaway.ca
X-WR-CALDESC:Events for Mamaway Wiidokdaadwin
REFRESH-INTERVAL;VALUE=DURATION:PT1H
X-Robots-Tag:noindex
X-PUBLISHED-TTL:PT1H
BEGIN:VTIMEZONE
TZID:America/Toronto
BEGIN:DAYLIGHT
TZOFFSETFROM:-0500
TZOFFSETTO:-0400
TZNAME:EDT
DTSTART:20210314T070000
END:DAYLIGHT
BEGIN:STANDARD
TZOFFSETFROM:-0400
TZOFFSETTO:-0500
TZNAME:EST
DTSTART:20211107T060000
END:STANDARD
BEGIN:DAYLIGHT
TZOFFSETFROM:-0500
TZOFFSETTO:-0400
TZNAME:EDT
DTSTART:20220313T070000
END:DAYLIGHT
BEGIN:STANDARD
TZOFFSETFROM:-0400
TZOFFSETTO:-0500
TZNAME:EST
DTSTART:20221106T060000
END:STANDARD
BEGIN:DAYLIGHT
TZOFFSETFROM:-0500
TZOFFSETTO:-0400
TZNAME:EDT
DTSTART:20230312T070000
END:DAYLIGHT
BEGIN:STANDARD
TZOFFSETFROM:-0400
TZOFFSETTO:-0500
TZNAME:EST
DTSTART:20231105T060000
END:STANDARD
END:VTIMEZONE
BEGIN:VEVENT
DTSTART;VALUE=DATE:20220606
DTEND;VALUE=DATE:20220611
DTSTAMP:20260425T200622
CREATED:20220518T160223Z
LAST-MODIFIED:20220526T171759Z
UID:10002018-1654473600-1654905599@mamaway.ca
SUMMARY:Gathering Our Bundles Land Based Family Wellness  Journey at Camp Kitchikewana Georgian Bay
DESCRIPTION:GB team and partners are hosting a week long pilot family wellness event on Beausoleil Island at Camp Kitchikewana on beautiful Georgian Bay. This camp combines two of Gathering Our Bundles elements\, our wellness program and our land based events and is scheduled for spring and fall 2022.
URL:https://mamaway.ca/event/gathering-our-bundles-land-based-family-wellness-journey/
LOCATION:https://ymcaofsimcoemuskoka.ca/ymca-camp-kitchikewana/
CATEGORIES:in-person,Mamaway Wiidokdaadwin
ORGANIZER;CN="Gathering Our Bundles":MAILTO:lpiftc1@banac.on.ca
END:VEVENT
END:VCALENDAR