BEGIN:VCALENDAR
VERSION:2.0
PRODID:-//Mamaway Wiidokdaadwin - ECPv6.15.12//NONSGML v1.0//EN
CALSCALE:GREGORIAN
METHOD:PUBLISH
X-WR-CALNAME:Mamaway Wiidokdaadwin
X-ORIGINAL-URL:https://mamaway.ca
X-WR-CALDESC:Events for Mamaway Wiidokdaadwin
REFRESH-INTERVAL;VALUE=DURATION:PT1H
X-Robots-Tag:noindex
X-PUBLISHED-TTL:PT1H
BEGIN:VTIMEZONE
TZID:America/Toronto
BEGIN:DAYLIGHT
TZOFFSETFROM:-0500
TZOFFSETTO:-0400
TZNAME:EDT
DTSTART:20230312T070000
END:DAYLIGHT
BEGIN:STANDARD
TZOFFSETFROM:-0400
TZOFFSETTO:-0500
TZNAME:EST
DTSTART:20231105T060000
END:STANDARD
BEGIN:DAYLIGHT
TZOFFSETFROM:-0500
TZOFFSETTO:-0400
TZNAME:EDT
DTSTART:20240310T070000
END:DAYLIGHT
BEGIN:STANDARD
TZOFFSETFROM:-0400
TZOFFSETTO:-0500
TZNAME:EST
DTSTART:20241103T060000
END:STANDARD
BEGIN:DAYLIGHT
TZOFFSETFROM:-0500
TZOFFSETTO:-0400
TZNAME:EDT
DTSTART:20250309T070000
END:DAYLIGHT
BEGIN:STANDARD
TZOFFSETFROM:-0400
TZOFFSETTO:-0500
TZNAME:EST
DTSTART:20251102T060000
END:STANDARD
END:VTIMEZONE
BEGIN:VEVENT
DTSTART;TZID=America/Toronto:20240927T100000
DTEND;TZID=America/Toronto:20240927T140000
DTSTAMP:20260421T151101
CREATED:20240816T154816Z
LAST-MODIFIED:20240816T155652Z
UID:10002780-1727431200-1727445600@mamaway.ca
SUMMARY:Haudenosaunee Lunch and Learn and Lacrosse Teachings
DESCRIPTION:Come and join us for a Haudenosaunee Lunch and Learn taking place from 10-11:30 at the Dorian Parker Center. A light lunch will be provided at 11:30 and the lacrosse teachings will take place outside after lunch.
URL:https://mamaway.ca/event/haudenosaunee-lunch-and-learn-and-lacrosse-teachings/
LOCATION:Dorian Park Centre\, 227 Sunnidale Rd\, Barrie\, Ontario\, L4M 3B9\, Canada
CATEGORIES:in-person,Mamaway Wiidokdaadwin
ATTACH;FMTTYPE=image/jpeg:https://mamaway.ca/wp-content/uploads/2024/08/Haudenosaunee-Lunch-Learn-Flyer-FINAL.jpg
ORGANIZER;CN="Courtney Thomas":MAILTO:cthomas@banac.on.ca
END:VEVENT
BEGIN:VEVENT
DTSTART;TZID=America/Toronto:20240610T100000
DTEND;TZID=America/Toronto:20240610T160000
DTSTAMP:20260421T151101
CREATED:20240507T211236Z
LAST-MODIFIED:20240521T142404Z
UID:10002463-1718013600-1718035200@mamaway.ca
SUMMARY:Creation Stories with John Rice & Leroy "Jock" Hill
DESCRIPTION:  \n \nJoin us for a two day event at Dorian Parker Centre with Leroy “Jock” Hill share the Haudenosaunee and John Rice\, the Anishinaabe Creation Story. \n\nHohahes Leroy “Jock” Hill is of the Cayuga Nation and Bear Clan. He is a Faithkeeper and Sub-Chief. He is a sanctioned speaker of The Great Law of Peace and Gaihwiyo. He is a speaker of 3 Haudenosaunee languages and one of the Wampum/Record Keepers for the Haudenosaunee and he will share the Haudenosaunee Creation Story on Thursday\, May 23rd\, 2024 at 10:00am-4:00pm.\nJohn Rice is a humorist\, traditional storyteller and knowledge keeper\, Zahgausgai zhinkaazo\, Mukwa Dodemim\, is an Ojibwa/Anishinabeninni and a 3rd Degree member of the Three Fires Midewiwin Society from WFN. John will share the Anishinaabe Creation Story on  Monday\, June 10\, 2024 at 10:00am-4:00pm.\n\nFeel free to bring your own chairs for comfort as seating is limited. \nplease click hyperlink below to register \nIf you have any questions\, please reach out to Courtney Thomas at cthomas@banac.on.ca or Troy Monague at tmonague@banac.on.ca
URL:https://mamaway.ca/event/creation-stories-with-john-rice-leroy-jock-hill-2/
LOCATION:Dorian Park Centre\, 227 Sunnidale Rd\, Barrie\, Ontario\, L4M 3B9\, Canada
CATEGORIES:Mamaway Wiidokdaadwin
ATTACH;FMTTYPE=image/jpeg:https://mamaway.ca/wp-content/uploads/2024/04/Creation-Story-Flyer-2024.jpg
ORGANIZER;CN="Courtney Thomas":MAILTO:cthomas@banac.on.ca
END:VEVENT
BEGIN:VEVENT
DTSTART;TZID=America/Toronto:20240523T100000
DTEND;TZID=America/Toronto:20240523T160000
DTSTAMP:20260421T151102
CREATED:20240418T185123Z
LAST-MODIFIED:20240521T142121Z
UID:10002455-1716458400-1716480000@mamaway.ca
SUMMARY:Creation Stories with John Rice & Leroy "Jock" Hill
DESCRIPTION:  \n \nJoin us for a two day event at Dorian Parker Centre with Leroy “Jock” Hill share the Haudenosaunee and John Rice\, the Anishinaabe Creation Story. \n\nHohahes Leroy “Jock” Hill is of the Cayuga Nation and Bear Clan. He is a Faithkeeper and Sub-Chief. He is a sanctioned speaker of The Great Law of Peace and Gaihwiyo. He is a speaker of 3 Haudenosaunee languages and one of the Wampum/Record Keepers for the Haudenosaunee and he will share the Haudenosaunee Creation Story on Wednesday\, May 23rd 2024 at 10:00am-4:00pm.\nJohn Rice is a humorist\, traditional storyteller and knowledge keeper\, Zahgausgai zhinkaazo\, Mukwa Dodemim\, is an Ojibwa/Anishinabeninni and a 3rd Degree member of the Three Fires Midewiwin Society from WFN. John will share the Anishinaabe Creation Story on  Monday\, June 10\, 2024 at 10:00am-4:00pm.\n\nFeel free to bring your own chairs for comfort as seating is limited. \nSee hyperlink below to register. \nIf you have any questions\, please reach out to Courtney Thomas at cthomas@banac.on.ca or Troy Monague at tmonague@banac.on.ca
URL:https://mamaway.ca/event/creation-stories-with-john-rice-leroy-jock-hill-2024-05-23/
LOCATION:Dorian Park Centre\, 227 Sunnidale Rd\, Barrie\, Ontario\, L4M 3B9\, Canada
CATEGORIES:Mamaway Wiidokdaadwin
ATTACH;FMTTYPE=image/jpeg:https://mamaway.ca/wp-content/uploads/2024/04/Creation-Story-Flyer-2024-FINAL_Date-Change.jpg
ORGANIZER;CN="Courtney Thomas":MAILTO:cthomas@banac.on.ca
END:VEVENT
BEGIN:VEVENT
DTSTART;TZID=America/Toronto:20240506T120000
DTEND;TZID=America/Toronto:20240506T170000
DTSTAMP:20260421T151102
CREATED:20240429T153751Z
LAST-MODIFIED:20240429T153751Z
UID:10002459-1714996800-1715014800@mamaway.ca
SUMMARY:Spring Community Feast
DESCRIPTION:  \n  \nSpring Community Feast \nhttps://survey.alchemer-ca.com/s3/50257934/Spring-Community-Feast-Reg-Monday-May-6th-2024
URL:https://mamaway.ca/event/spring-community-feast/
LOCATION:Dorian Park Centre\, 227 Sunnidale Rd\, Barrie\, Ontario\, L4M 3B9\, Canada
CATEGORIES:in-person,Mamaway Wiidokdaadwin
ORGANIZER;CN="Troy Monague":MAILTO:tmonague@banac.on.ca
END:VEVENT
END:VCALENDAR