BEGIN:VCALENDAR
VERSION:2.0
PRODID:-//Mamaway Wiidokdaadwin - ECPv6.15.12//NONSGML v1.0//EN
CALSCALE:GREGORIAN
METHOD:PUBLISH
X-WR-CALNAME:Mamaway Wiidokdaadwin
X-ORIGINAL-URL:https://mamaway.ca
X-WR-CALDESC:Events for Mamaway Wiidokdaadwin
REFRESH-INTERVAL;VALUE=DURATION:PT1H
X-Robots-Tag:noindex
X-PUBLISHED-TTL:PT1H
BEGIN:VTIMEZONE
TZID:America/Toronto
BEGIN:DAYLIGHT
TZOFFSETFROM:-0500
TZOFFSETTO:-0400
TZNAME:EDT
DTSTART:20230312T070000
END:DAYLIGHT
BEGIN:STANDARD
TZOFFSETFROM:-0400
TZOFFSETTO:-0500
TZNAME:EST
DTSTART:20231105T060000
END:STANDARD
BEGIN:DAYLIGHT
TZOFFSETFROM:-0500
TZOFFSETTO:-0400
TZNAME:EDT
DTSTART:20240310T070000
END:DAYLIGHT
BEGIN:STANDARD
TZOFFSETFROM:-0400
TZOFFSETTO:-0500
TZNAME:EST
DTSTART:20241103T060000
END:STANDARD
BEGIN:DAYLIGHT
TZOFFSETFROM:-0500
TZOFFSETTO:-0400
TZNAME:EDT
DTSTART:20250309T070000
END:DAYLIGHT
BEGIN:STANDARD
TZOFFSETFROM:-0400
TZOFFSETTO:-0500
TZNAME:EST
DTSTART:20251102T060000
END:STANDARD
BEGIN:DAYLIGHT
TZOFFSETFROM:-0500
TZOFFSETTO:-0400
TZNAME:EDT
DTSTART:20260308T070000
END:DAYLIGHT
BEGIN:STANDARD
TZOFFSETFROM:-0400
TZOFFSETTO:-0500
TZNAME:EST
DTSTART:20261101T060000
END:STANDARD
END:VTIMEZONE
BEGIN:VEVENT
DTSTART;TZID=America/Toronto:20250409T090000
DTEND;TZID=America/Toronto:20250409T160000
DTSTAMP:20260419T115632
CREATED:20250113T183510Z
LAST-MODIFIED:20250403T200230Z
UID:10003520-1744189200-1744214400@mamaway.ca
SUMMARY:TH John Rice; Sessions' (Elder/ Traditional Healing Counsellor )
DESCRIPTION:Please contact our clinic closest to you to make a referral \nBarrie Clinic Location \n125 Bell Farm Rd\, Suite 200\nHours: 8:00am – 4:00pm\nPhone: 705-721-9554\nFax: 855-941-2529 \nOrillia Clinic Location \n210 Memorial Ave\, Unit 112A&B\nHours: 8:00am – 4:00pm\nPhone: 705-259-9520\nFax: 855-941-2531 \nThis session is being held in the Mamaway Wiidokdaadwin Barrie Clinic while offering 1-1 Healing Sessions with John Rice\, sharing traditional teachings and offering counselling. \nMore about Elder\, John Rice: \nZahgausgai “Sun Ray”\, Mukwa “Bear Clan”\, is an Ojibwa and a 3rd Degree member of the Three Fires Midewiwin Society. John’s home community is Wasauksing First Nation near Parry Sound\, Ontario. John’s childhood was rich in stories of his people; his Midewiwin Education began in 1982 and is ongoing. He has made it a life passion to study the “Mlikaans” Teachings which are about the whole development of the human before\, during and after life. John is a Storyteller\, Big Drum Carrier\, Ceremonialist\, Singer and Dancer. His greatest joy is watching Ojibwa youth learn and practice the culture. John generously shares his knowledge throughout the Ontario region. He currently works as part of the Early Psychosis Intervention Team at Canadian Mental Health Association in Barrie\, Ontario as a Healer. His past work experience includes work as the Elder/Healer at the Mental Health Centre in Penetanguishene and Fenbrook Medium Institution near Gravenhurst\, Ontario. He has lectured part time at Georgian College in Barrie. John travels internationally and is a well-respected teacher and elder in the Anishinaabe Nation.
URL:https://mamaway.ca/event/th-john-rice-sessions-elder-traditional-healing-counsellor/
LOCATION:Barrie Mamaway Wiidokdaadwin\, 125 Bell Farm Suite 200\, Barrie\, Ontario\, L4M6L2\, Canada
CATEGORIES:in-person,Mamaway Wiidokdaadwin
END:VEVENT
BEGIN:VEVENT
DTSTART;TZID=America/Toronto:20250326T090000
DTEND;TZID=America/Toronto:20250326T160000
DTSTAMP:20260419T115632
CREATED:20250214T163257Z
LAST-MODIFIED:20250214T163257Z
UID:10003605-1742979600-1743004800@mamaway.ca
SUMMARY:TH Esstin Mcleod Session's (Medicine Healer)
DESCRIPTION:Traditional Healing Session with Esstin Mcleod  in Mamaway Wiidokdaadwins Orillia clinic (in-person) \nPlease contact our clinic closest to you to make a referral \nBarrie Clinic Location \n125 Bell Farm Rd\, Suite 200\nHours: 8:00am – 4:00pm\nPhone: 705-721-9554\nFax: 855-941-2529 \nOrillia Clinic Location \n210 Memorial Ave\, Unit 112A&B\nHours: 8:00am – 4:00pm\nPhone: 705-259-9520\nFax: 855-941-2531 \nA little more about Esstin; \nEsstin (Niganobe)\, Anishinaabe Kwe of the Mississaugi First Nations in Mid-Northern Ontario\, is a Healer / Medicine Practitioner. Esstin provides spiritual consultation and remedies to Native Health Care Centers in northern Ontario. \nAs Medicine Practitioner\, Esstin provides plant-based remedies and instruction. As a Healer\, Esstin works with spiritual energies and is influenced by ceremonial practices and Anishinaabe Elders and teachers. Throughout her 30 years of study and experience\, Esstin developed a “Anishinaabe Wisdom Healing\,” workshop series. Esstin facilitates Anishinaabe Women’s retreats and healing workshops utilizing the Medicine Wheel as an approach to holistic health and healing. \nPlease prepare your tobacco ahead of time to provide to Esstin Mcleod at your session. \nDue to high demand\, we ask that you please call if you have to cancel your appointment so others on the waitlist can see Esstin. Miigwech for your understanding.
URL:https://mamaway.ca/event/th-esstin-mcleod-orillia-sessions-medicine-healer-3/
LOCATION:125 Bell Farm Suite 200\, Barrie\, Ontario\, L4M6L2\, Canada
CATEGORIES:in-person,Mamaway Wiidokdaadwin,Virtual Event Offering
END:VEVENT
BEGIN:VEVENT
DTSTART;TZID=America/Toronto:20241209T090000
DTEND;TZID=America/Toronto:20241209T160000
DTSTAMP:20260419T115632
CREATED:20241126T161841Z
LAST-MODIFIED:20241126T163544Z
UID:10003380-1733734800-1733760000@mamaway.ca
SUMMARY:Traditional Healing Session with Arrole = Barrie
DESCRIPTION:Please contact our clinic closest to you to make a referral \nBarrie Clinic Location \n125 Bell Farm Rd\, Suite 200\nHours: 8:00am – 4:00pm\nPhone: 705-721-9554\nFax: 855-941-2529 \nOrillia Clinic Location \n210 Memorial Ave\, Unit 112A&B\nHours: 8:00am – 4:00pm\nPhone: 705-259-9520\nFax: 855-941-2531 \nSessions are also offered in Midland (Chigamik) and Rama BANAC Head Office\, 6030 Rama Rd\, Unit 3 \nA little more about Arrole\, Our energy healer \nArrole Lawrence is a Saulteaux healer and band member of the Keeseekoowenin First Nation located in Elphinstone\, Manitoba. Over 20 years of practice\, he has worked at many First Nations healing centres across south and central Ontario\, where he has performed thousands of healing sessions. \nThe healing centres have given him extensive experience in addressing physical disease\, injury rehabilitation\, as well as dealing with issues of a mental and emotional nature.  Healing has required development of skills sets for addressing physical and emotional trauma\, addiction recovery\, ancestor healing\, the breaking of spiritual agreements and helping clients connect to the heart and spirit so they can live a life in communication with spirit. As an indigenous healer\, Arrole helps individuals to quickly resolve\, crippling physical ailments\, patterns of depression\, grief and trauma. \nClients seeking healing are asked to come forward\, exchange tobacco for the healing they will be receiving and be prepared to provide permission for the healing work. Once permission is granted\, you will be guided inward by closing your eyes\, deep breathing\, then connecting to the heart. \nOnce the connection is made\, clients are guided through their physical and spiritual systems to address\, trauma\, drama\, fear\, pain\, suffering and spiritual fragmentation. The work is extensive and so much can be healed in an hour.  The goal is always to return the individual to health\, wellness and balance for the highest possible outcome.
URL:https://mamaway.ca/event/traditional-healing-session-with-arrole-barrie/
LOCATION:Barrie Mamaway Wiidokdaadwin\, 125 Bell Farm Suite 200\, Barrie\, Ontario\, L4M6L2\, Canada
ATTACH;FMTTYPE=image/png:https://mamaway.ca/wp-content/uploads/2024/11/Mamaway-consultations-1-1.png
ORGANIZER;CN="Troy Monague":MAILTO:tmonague@banac.on.ca
END:VEVENT
BEGIN:VEVENT
DTSTART;TZID=America/Toronto:20240326T130000
DTEND;TZID=America/Toronto:20240326T143000
DTSTAMP:20260419T115632
CREATED:20240202T194134Z
LAST-MODIFIED:20240202T194134Z
UID:10001782-1711458000-1711463400@mamaway.ca
SUMMARY:Diabetes Sharing Circle - Barrie
DESCRIPTION:Join us for a Diabetes Sharing Circle where we will meet to discuss experiences living with diabetes. \nOur diabetes nurse will have resources and can provide education on nutrition\, fitness\, mobility\, holistic methods and traditional approaches for diabetes management. \nTuesday March 26th\, 2024 \n1:00pm  to 2:30pm \nMamaway Wiidokdaadwin Barrie Clinic\, Boardroom \nEmail: lgordon@banac.on.ca with any questions \nRegistration \nTo register please click the link and fill out registration form: https://forms.office.com/r/dHjujkHc8h
URL:https://mamaway.ca/event/diabetes-sharing-circle-barrie/
LOCATION:Barrie Mamaway Wiidokdaadwin\, 125 Bell Farm Suite 200\, Barrie\, Ontario\, L4M6L2\, Canada
CATEGORIES:in-person
ATTACH;FMTTYPE=image/jpeg:https://mamaway.ca/wp-content/uploads/2024/02/Diabetes-Sharing-Circle-WordPress.jpg
ORGANIZER;CN="Laura Gordon%2C Diabetes Nurse":MAILTO:lgordon@banac.on.ca
END:VEVENT
BEGIN:VEVENT
DTSTART;TZID=America/Toronto:20240229T130000
DTEND;TZID=America/Toronto:20240229T140000
DTSTAMP:20260419T115632
CREATED:20240202T203204Z
LAST-MODIFIED:20240202T203218Z
UID:10001793-1709211600-1709215200@mamaway.ca
SUMMARY:Chair Exercise Group - Barrie
DESCRIPTION:Join our diabetes nurse for our chair exercise group. \nChair exercises are low impact and can be done either seated or standing. We will work on balance and functional muscle strength. \nModifications provided for mobility and chronic conditions as needed. \nMamaway Wiidokdaadwin Barrie Clinic \n125 Bell Farm Rd\, Suite 200 Barrie\, ON in the Boardroom \nSee events calendar for group dates and times \nEmail: lgordon@banac.on.ca with any questions \nTo register visit link: https://forms.office.com/r/WEnk4feZ2i
URL:https://mamaway.ca/event/chair-exercise-group/
LOCATION:Barrie Mamaway Wiidokdaadwin\, 125 Bell Farm Suite 200\, Barrie\, Ontario\, L4M6L2\, Canada
CATEGORIES:in-person
ATTACH;FMTTYPE=image/jpeg:https://mamaway.ca/wp-content/uploads/2024/02/Chair-Exercise-Group-Barrie-Wordpress.jpg
ORGANIZER;CN="Laura Gordon%2C Diabetes Nurse":MAILTO:lgordon@banac.on.ca
END:VEVENT
BEGIN:VEVENT
DTSTART;TZID=America/Toronto:20240111T100000
DTEND;TZID=America/Toronto:20240111T120000
DTSTAMP:20260419T115632
CREATED:20231221T051305Z
LAST-MODIFIED:20231221T051847Z
UID:10002350-1704967200-1704974400@mamaway.ca
SUMMARY:Wellness Thursdays - Barrie
DESCRIPTION:Are you looking to connect with others who are living with Diabetes? \nPlease register with the link below. \nMiigwech
URL:https://mamaway.ca/event/wellness-thursdays/
LOCATION:Barrie Mamaway Wiidokdaadwin\, 125 Bell Farm Suite 200\, Barrie\, Ontario\, L4M6L2\, Canada
ATTACH;FMTTYPE=image/png:https://mamaway.ca/wp-content/uploads/2023/12/Wellness-Thursdays-Barrie.png
ORGANIZER;CN="Lianne Hudon":MAILTO:lhudon@banac.on.ca
END:VEVENT
END:VCALENDAR