BEGIN:VCALENDAR
VERSION:2.0
PRODID:-//Mamaway Wiidokdaadwin - ECPv6.15.12//NONSGML v1.0//EN
CALSCALE:GREGORIAN
METHOD:PUBLISH
X-ORIGINAL-URL:https://mamaway.ca
X-WR-CALDESC:Events for Mamaway Wiidokdaadwin
REFRESH-INTERVAL;VALUE=DURATION:PT1H
X-Robots-Tag:noindex
X-PUBLISHED-TTL:PT1H
BEGIN:VTIMEZONE
TZID:America/Toronto
BEGIN:DAYLIGHT
TZOFFSETFROM:-0500
TZOFFSETTO:-0400
TZNAME:EDT
DTSTART:20230312T070000
END:DAYLIGHT
BEGIN:STANDARD
TZOFFSETFROM:-0400
TZOFFSETTO:-0500
TZNAME:EST
DTSTART:20231105T060000
END:STANDARD
BEGIN:DAYLIGHT
TZOFFSETFROM:-0500
TZOFFSETTO:-0400
TZNAME:EDT
DTSTART:20240310T070000
END:DAYLIGHT
BEGIN:STANDARD
TZOFFSETFROM:-0400
TZOFFSETTO:-0500
TZNAME:EST
DTSTART:20241103T060000
END:STANDARD
BEGIN:DAYLIGHT
TZOFFSETFROM:-0500
TZOFFSETTO:-0400
TZNAME:EDT
DTSTART:20250309T070000
END:DAYLIGHT
BEGIN:STANDARD
TZOFFSETFROM:-0400
TZOFFSETTO:-0500
TZNAME:EST
DTSTART:20251102T060000
END:STANDARD
END:VTIMEZONE
BEGIN:VEVENT
DTSTART;TZID=America/Toronto:20240411T090000
DTEND;TZID=America/Toronto:20240411T170000
DTSTAMP:20260419T181540
CREATED:20240130T170750Z
LAST-MODIFIED:20240130T170922Z
UID:10001754-1712826000-1712854800@mamaway.ca
SUMMARY:Snow Shoe Weaving April 11th\, 2024
DESCRIPTION:
URL:https://mamaway.ca/event/snow-shoe-weaving-april-11th-2024/
LOCATION:210 Memorial Ave Orillia\, Unit 108\, 210 Memorial Ave Unit 108\, Orillia\, ONJ\, L3V7V1\, Canada
CATEGORIES:in-person,Mamaway Wiidokdaadwin
ORGANIZER;CN="Chris Walser%2C Land Based Healing Coordinator":MAILTO:cwalser@banac.on.ca
END:VEVENT
BEGIN:VEVENT
DTSTART;TZID=America/Toronto:20240404T090000
DTEND;TZID=America/Toronto:20240404T170000
DTSTAMP:20260419T181540
CREATED:20240130T145334Z
LAST-MODIFIED:20240130T160231Z
UID:10002364-1712221200-1712250000@mamaway.ca
SUMMARY:Snow Shoe Weaving April 4th\, 2024
DESCRIPTION:
URL:https://mamaway.ca/event/snow-shoe-weaving-2/
LOCATION:210 Memorial Ave Orillia\, Unit 108\, 210 Memorial Ave Unit 108\, Orillia\, ONJ\, L3V7V1\, Canada
CATEGORIES:in-person,Mamaway Wiidokdaadwin
ORGANIZER;CN="Chris Walser%2C Land Based Healing Coordinator":MAILTO:cwalser@banac.on.ca
END:VEVENT
BEGIN:VEVENT
DTSTART;TZID=America/Toronto:20240328T100000
DTEND;TZID=America/Toronto:20240328T120000
DTSTAMP:20260419T181540
CREATED:20240304T141812Z
LAST-MODIFIED:20240320T175643Z
UID:10002366-1711620000-1711627200@mamaway.ca
SUMMARY:Wellness Thursday = Orillia
DESCRIPTION:
URL:https://mamaway.ca/event/wellness-thursday-orillia-2/
LOCATION:210 Memorial Ave Orillia\, Unit 108\, 210 Memorial Ave Unit 108\, Orillia\, ONJ\, L3V7V1\, Canada
ATTACH;FMTTYPE=image/png:https://mamaway.ca/wp-content/uploads/2023/12/Wellness-Thursdays-Orillia.png
ORGANIZER;CN="Lianne Hudon":MAILTO:lhudon@banac.on.ca
END:VEVENT
END:VCALENDAR