BEGIN:VCALENDAR
VERSION:2.0
PRODID:-//Mamaway Wiidokdaadwin - ECPv6.15.12//NONSGML v1.0//EN
CALSCALE:GREGORIAN
METHOD:PUBLISH
X-ORIGINAL-URL:https://mamaway.ca
X-WR-CALDESC:Events for Mamaway Wiidokdaadwin
REFRESH-INTERVAL;VALUE=DURATION:PT1H
X-Robots-Tag:noindex
X-PUBLISHED-TTL:PT1H
BEGIN:VTIMEZONE
TZID:America/Toronto
BEGIN:DAYLIGHT
TZOFFSETFROM:-0500
TZOFFSETTO:-0400
TZNAME:EDT
DTSTART:20250309T070000
END:DAYLIGHT
BEGIN:STANDARD
TZOFFSETFROM:-0400
TZOFFSETTO:-0500
TZNAME:EST
DTSTART:20251102T060000
END:STANDARD
BEGIN:DAYLIGHT
TZOFFSETFROM:-0500
TZOFFSETTO:-0400
TZNAME:EDT
DTSTART:20260308T070000
END:DAYLIGHT
BEGIN:STANDARD
TZOFFSETFROM:-0400
TZOFFSETTO:-0500
TZNAME:EST
DTSTART:20261101T060000
END:STANDARD
BEGIN:DAYLIGHT
TZOFFSETFROM:-0500
TZOFFSETTO:-0400
TZNAME:EDT
DTSTART:20270314T070000
END:DAYLIGHT
BEGIN:STANDARD
TZOFFSETFROM:-0400
TZOFFSETTO:-0500
TZNAME:EST
DTSTART:20271107T060000
END:STANDARD
END:VTIMEZONE
BEGIN:VEVENT
DTSTART;TZID=America/Toronto:20260421T130000
DTEND;TZID=America/Toronto:20260421T150000
DTSTAMP:20260419T150810
CREATED:20260407T142424Z
LAST-MODIFIED:20260407T142424Z
UID:10005668-1776776400-1776783600@mamaway.ca
SUMMARY:Orillia Red Road
DESCRIPTION:Aaniin\, \nWe will be hosting our 10-week Red Road to Recovery program at 210 Memorial Ave\, Orillia\, Suite 108\, starting Tuesday\, April 14th. \nThis group meets every Tuesday in Orillia from 1:00-3:00 pm. \n(No Group on: April 28th & May 26th) \nPlease reach out to Roxanne to register. \nMiigwetch!
URL:https://mamaway.ca/event/orillia-red-road/2026-04-21/
LOCATION:210 Memorial Ave Orillia\, Unit 108\, 210 Memorial Ave Unit 108\, Orillia\, ONJ\, L3V7V1\, Canada
CATEGORIES:in-person
ATTACH;FMTTYPE=image/png:https://mamaway.ca/wp-content/uploads/2026/04/Orillia-RR2R-Apr-Jun-2026.png
ORGANIZER;CN="Roxanne Haslam":MAILTO:rhaslam@banac.on.ca
END:VEVENT
BEGIN:VEVENT
DTSTART;TZID=America/Toronto:20260505T130000
DTEND;TZID=America/Toronto:20260505T150000
DTSTAMP:20260419T150810
CREATED:20260407T142424Z
LAST-MODIFIED:20260407T142424Z
UID:10005669-1777986000-1777993200@mamaway.ca
SUMMARY:Orillia Red Road
DESCRIPTION:Aaniin\, \nWe will be hosting our 10-week Red Road to Recovery program at 210 Memorial Ave\, Orillia\, Suite 108\, starting Tuesday\, April 14th. \nThis group meets every Tuesday in Orillia from 1:00-3:00 pm. \n(No Group on: April 28th & May 26th) \nPlease reach out to Roxanne to register. \nMiigwetch!
URL:https://mamaway.ca/event/orillia-red-road/2026-05-05/
LOCATION:210 Memorial Ave Orillia\, Unit 108\, 210 Memorial Ave Unit 108\, Orillia\, ONJ\, L3V7V1\, Canada
CATEGORIES:in-person
ATTACH;FMTTYPE=image/png:https://mamaway.ca/wp-content/uploads/2026/04/Orillia-RR2R-Apr-Jun-2026.png
ORGANIZER;CN="Roxanne Haslam":MAILTO:rhaslam@banac.on.ca
END:VEVENT
BEGIN:VEVENT
DTSTART;TZID=America/Toronto:20260512T130000
DTEND;TZID=America/Toronto:20260512T150000
DTSTAMP:20260419T150810
CREATED:20260407T142424Z
LAST-MODIFIED:20260407T142424Z
UID:10005670-1778590800-1778598000@mamaway.ca
SUMMARY:Orillia Red Road
DESCRIPTION:Aaniin\, \nWe will be hosting our 10-week Red Road to Recovery program at 210 Memorial Ave\, Orillia\, Suite 108\, starting Tuesday\, April 14th. \nThis group meets every Tuesday in Orillia from 1:00-3:00 pm. \n(No Group on: April 28th & May 26th) \nPlease reach out to Roxanne to register. \nMiigwetch!
URL:https://mamaway.ca/event/orillia-red-road/2026-05-12/
LOCATION:210 Memorial Ave Orillia\, Unit 108\, 210 Memorial Ave Unit 108\, Orillia\, ONJ\, L3V7V1\, Canada
CATEGORIES:in-person
ATTACH;FMTTYPE=image/png:https://mamaway.ca/wp-content/uploads/2026/04/Orillia-RR2R-Apr-Jun-2026.png
ORGANIZER;CN="Roxanne Haslam":MAILTO:rhaslam@banac.on.ca
END:VEVENT
BEGIN:VEVENT
DTSTART;TZID=America/Toronto:20260519T130000
DTEND;TZID=America/Toronto:20260519T150000
DTSTAMP:20260419T150810
CREATED:20260407T142424Z
LAST-MODIFIED:20260407T142424Z
UID:10005671-1779195600-1779202800@mamaway.ca
SUMMARY:Orillia Red Road
DESCRIPTION:Aaniin\, \nWe will be hosting our 10-week Red Road to Recovery program at 210 Memorial Ave\, Orillia\, Suite 108\, starting Tuesday\, April 14th. \nThis group meets every Tuesday in Orillia from 1:00-3:00 pm. \n(No Group on: April 28th & May 26th) \nPlease reach out to Roxanne to register. \nMiigwetch!
URL:https://mamaway.ca/event/orillia-red-road/2026-05-19/
LOCATION:210 Memorial Ave Orillia\, Unit 108\, 210 Memorial Ave Unit 108\, Orillia\, ONJ\, L3V7V1\, Canada
CATEGORIES:in-person
ATTACH;FMTTYPE=image/png:https://mamaway.ca/wp-content/uploads/2026/04/Orillia-RR2R-Apr-Jun-2026.png
ORGANIZER;CN="Roxanne Haslam":MAILTO:rhaslam@banac.on.ca
END:VEVENT
BEGIN:VEVENT
DTSTART;TZID=America/Toronto:20260602T130000
DTEND;TZID=America/Toronto:20260602T150000
DTSTAMP:20260419T150810
CREATED:20260407T142424Z
LAST-MODIFIED:20260407T142424Z
UID:10005672-1780405200-1780412400@mamaway.ca
SUMMARY:Orillia Red Road
DESCRIPTION:Aaniin\, \nWe will be hosting our 10-week Red Road to Recovery program at 210 Memorial Ave\, Orillia\, Suite 108\, starting Tuesday\, April 14th. \nThis group meets every Tuesday in Orillia from 1:00-3:00 pm. \n(No Group on: April 28th & May 26th) \nPlease reach out to Roxanne to register. \nMiigwetch!
URL:https://mamaway.ca/event/orillia-red-road/2026-06-02/
LOCATION:210 Memorial Ave Orillia\, Unit 108\, 210 Memorial Ave Unit 108\, Orillia\, ONJ\, L3V7V1\, Canada
CATEGORIES:in-person
ATTACH;FMTTYPE=image/png:https://mamaway.ca/wp-content/uploads/2026/04/Orillia-RR2R-Apr-Jun-2026.png
ORGANIZER;CN="Roxanne Haslam":MAILTO:rhaslam@banac.on.ca
END:VEVENT
BEGIN:VEVENT
DTSTART;TZID=America/Toronto:20260609T130000
DTEND;TZID=America/Toronto:20260609T150000
DTSTAMP:20260419T150810
CREATED:20260407T142424Z
LAST-MODIFIED:20260407T142424Z
UID:10005673-1781010000-1781017200@mamaway.ca
SUMMARY:Orillia Red Road
DESCRIPTION:Aaniin\, \nWe will be hosting our 10-week Red Road to Recovery program at 210 Memorial Ave\, Orillia\, Suite 108\, starting Tuesday\, April 14th. \nThis group meets every Tuesday in Orillia from 1:00-3:00 pm. \n(No Group on: April 28th & May 26th) \nPlease reach out to Roxanne to register. \nMiigwetch!
URL:https://mamaway.ca/event/orillia-red-road/2026-06-09/
LOCATION:210 Memorial Ave Orillia\, Unit 108\, 210 Memorial Ave Unit 108\, Orillia\, ONJ\, L3V7V1\, Canada
CATEGORIES:in-person
ATTACH;FMTTYPE=image/png:https://mamaway.ca/wp-content/uploads/2026/04/Orillia-RR2R-Apr-Jun-2026.png
ORGANIZER;CN="Roxanne Haslam":MAILTO:rhaslam@banac.on.ca
END:VEVENT
BEGIN:VEVENT
DTSTART;TZID=America/Toronto:20260616T130000
DTEND;TZID=America/Toronto:20260616T150000
DTSTAMP:20260419T150810
CREATED:20260407T142424Z
LAST-MODIFIED:20260407T142424Z
UID:10005674-1781614800-1781622000@mamaway.ca
SUMMARY:Orillia Red Road
DESCRIPTION:Aaniin\, \nWe will be hosting our 10-week Red Road to Recovery program at 210 Memorial Ave\, Orillia\, Suite 108\, starting Tuesday\, April 14th. \nThis group meets every Tuesday in Orillia from 1:00-3:00 pm. \n(No Group on: April 28th & May 26th) \nPlease reach out to Roxanne to register. \nMiigwetch!
URL:https://mamaway.ca/event/orillia-red-road/2026-06-16/
LOCATION:210 Memorial Ave Orillia\, Unit 108\, 210 Memorial Ave Unit 108\, Orillia\, ONJ\, L3V7V1\, Canada
CATEGORIES:in-person
ATTACH;FMTTYPE=image/png:https://mamaway.ca/wp-content/uploads/2026/04/Orillia-RR2R-Apr-Jun-2026.png
ORGANIZER;CN="Roxanne Haslam":MAILTO:rhaslam@banac.on.ca
END:VEVENT
BEGIN:VEVENT
DTSTART;TZID=America/Toronto:20260623T130000
DTEND;TZID=America/Toronto:20260623T150000
DTSTAMP:20260419T150810
CREATED:20260407T142424Z
LAST-MODIFIED:20260407T142424Z
UID:10005675-1782219600-1782226800@mamaway.ca
SUMMARY:Orillia Red Road
DESCRIPTION:Aaniin\, \nWe will be hosting our 10-week Red Road to Recovery program at 210 Memorial Ave\, Orillia\, Suite 108\, starting Tuesday\, April 14th. \nThis group meets every Tuesday in Orillia from 1:00-3:00 pm. \n(No Group on: April 28th & May 26th) \nPlease reach out to Roxanne to register. \nMiigwetch!
URL:https://mamaway.ca/event/orillia-red-road/2026-06-23/
LOCATION:210 Memorial Ave Orillia\, Unit 108\, 210 Memorial Ave Unit 108\, Orillia\, ONJ\, L3V7V1\, Canada
CATEGORIES:in-person
ATTACH;FMTTYPE=image/png:https://mamaway.ca/wp-content/uploads/2026/04/Orillia-RR2R-Apr-Jun-2026.png
ORGANIZER;CN="Roxanne Haslam":MAILTO:rhaslam@banac.on.ca
END:VEVENT
BEGIN:VEVENT
DTSTART;TZID=America/Toronto:20260630T130000
DTEND;TZID=America/Toronto:20260630T150000
DTSTAMP:20260419T150810
CREATED:20260407T142424Z
LAST-MODIFIED:20260407T142424Z
UID:10005676-1782824400-1782831600@mamaway.ca
SUMMARY:Orillia Red Road
DESCRIPTION:Aaniin\, \nWe will be hosting our 10-week Red Road to Recovery program at 210 Memorial Ave\, Orillia\, Suite 108\, starting Tuesday\, April 14th. \nThis group meets every Tuesday in Orillia from 1:00-3:00 pm. \n(No Group on: April 28th & May 26th) \nPlease reach out to Roxanne to register. \nMiigwetch!
URL:https://mamaway.ca/event/orillia-red-road/2026-06-30/
LOCATION:210 Memorial Ave Orillia\, Unit 108\, 210 Memorial Ave Unit 108\, Orillia\, ONJ\, L3V7V1\, Canada
CATEGORIES:in-person
ATTACH;FMTTYPE=image/png:https://mamaway.ca/wp-content/uploads/2026/04/Orillia-RR2R-Apr-Jun-2026.png
ORGANIZER;CN="Roxanne Haslam":MAILTO:rhaslam@banac.on.ca
END:VEVENT
END:VCALENDAR