BEGIN:VCALENDAR
VERSION:2.0
PRODID:-//Mamaway Wiidokdaadwin - ECPv6.15.12//NONSGML v1.0//EN
CALSCALE:GREGORIAN
METHOD:PUBLISH
X-WR-CALNAME:Mamaway Wiidokdaadwin
X-ORIGINAL-URL:https://mamaway.ca
X-WR-CALDESC:Events for Mamaway Wiidokdaadwin
REFRESH-INTERVAL;VALUE=DURATION:PT1H
X-Robots-Tag:noindex
X-PUBLISHED-TTL:PT1H
BEGIN:VTIMEZONE
TZID:America/Toronto
BEGIN:DAYLIGHT
TZOFFSETFROM:-0500
TZOFFSETTO:-0400
TZNAME:EDT
DTSTART:20230312T070000
END:DAYLIGHT
BEGIN:STANDARD
TZOFFSETFROM:-0400
TZOFFSETTO:-0500
TZNAME:EST
DTSTART:20231105T060000
END:STANDARD
BEGIN:DAYLIGHT
TZOFFSETFROM:-0500
TZOFFSETTO:-0400
TZNAME:EDT
DTSTART:20240310T070000
END:DAYLIGHT
BEGIN:STANDARD
TZOFFSETFROM:-0400
TZOFFSETTO:-0500
TZNAME:EST
DTSTART:20241103T060000
END:STANDARD
BEGIN:DAYLIGHT
TZOFFSETFROM:-0500
TZOFFSETTO:-0400
TZNAME:EDT
DTSTART:20250309T070000
END:DAYLIGHT
BEGIN:STANDARD
TZOFFSETFROM:-0400
TZOFFSETTO:-0500
TZNAME:EST
DTSTART:20251102T060000
END:STANDARD
END:VTIMEZONE
BEGIN:VEVENT
DTSTART;TZID=America/Toronto:20241113T140000
DTEND;TZID=America/Toronto:20241113T180000
DTSTAMP:20260419T151109
CREATED:20241028T111620Z
LAST-MODIFIED:20241028T111620Z
UID:10003341-1731506400-1731520800@mamaway.ca
SUMMARY:Fireside Flu Clinic
DESCRIPTION:Please be advised that our Mamaway Clinical Team is hosting a flu vaccine clinic for those who self ID as Indigenous at the Matchedash Hub on Weds\, Nov 13th from 2-6pm. \nAddress: 110 Matchedash St N\, Orillia \nPlease scan QR Code on the flyer to pre-register your spot OR book online at:  https://ocean.cognisantmd.com/intake/patients.html?linkRef=c83f1ce6-50fc-4740-9071-633c47540318#/online-booking \nYou can enjoy a cozy fire\, some soup and warm apple cider with members of the Community Health team members while you wait for your appointment in the mobile clinic. \nIf you have any questions\, please contact your closest clinic.
URL:https://mamaway.ca/event/fireside-flu-clinic/
LOCATION:110 Matchedash Street N\, Orillia (Mamaway Wiidokdaadwin Match Hub)\, 110 Matchedash Street N\, Orillia\, Ontario\, L3V 4T8\, Canada
ATTACH;FMTTYPE=image/png:https://mamaway.ca/wp-content/uploads/2024/10/Fireside-flu-clinic-Nov-13-2024-FINAL.png
END:VEVENT
BEGIN:VEVENT
DTSTART;TZID=America/Toronto:20241107T163000
DTEND;TZID=America/Toronto:20241107T210000
DTSTAMP:20260419T151109
CREATED:20241008T173424Z
LAST-MODIFIED:20241008T173424Z
UID:10003001-1730997000-1731013200@mamaway.ca
SUMMARY:Mamaway Wiidokdaadwin's Fall Memorial Feast with Elder Hector Copegog
DESCRIPTION:https://survey.alchemer-ca.com/s3/50278690/Memorial-Feast-Reg-November-7th-2024 \n  \nPlease see this Memorial Feast opportunity happening soon. Please register  via the link. \n  \nWhen: Thursday\, November 7th\, 2024 \nTime: 4:00pm-9:00PM (Depending on turnout\, it could be an earlier end time) \nWhat to bring: Feast Bundle (Plate\, bowl\, cup\, cutlery) Shaker\, Ribbon shirt (Women identifying)\, Ribbon shirt (Male identifying) \nWhy: Dish being made for a Loved one. who has passed away a year or more before the ceremony date \n  \nDetails for the dish \n  \n-Dish to be made with kind thoughts towards the spirit who is being called in (Do not taste while making) \n-Loosely made tobacco tie to be used with the dish \n-No drugs or alcohol permitted to be in the dish \n-Shaker will be used during the songs \n-All food must be eaten\, please bring a small portion for 1 person (Large Cereal Bowl sized dish) \n 
URL:https://mamaway.ca/event/mamaway-wiidokdaadwins-fall-memorial-feast-with-elder-hector-copegog/
LOCATION:110 Matchedash Street N\, Orillia (Mamaway Wiidokdaadwin Match Hub)\, 110 Matchedash Street N\, Orillia\, Ontario\, L3V 4T8\, Canada
CATEGORIES:in-person,Mamaway Wiidokdaadwin
END:VEVENT
BEGIN:VEVENT
DTSTART;TZID=America/Toronto:20241029T163000
DTEND;TZID=America/Toronto:20241029T163000
DTSTAMP:20260419T151109
CREATED:20241002T153457Z
LAST-MODIFIED:20241005T133042Z
UID:10002999-1730219400-1730219400@mamaway.ca
SUMMARY:Haunted House on Match 10/29/24  4:40 / 5:30 / 6:30
DESCRIPTION:👻 Welcome\, brave souls\, to the Haunted House on Matchedash! 🎃 \nEnter if you dare\, but beware! Once you step through these creaky doors\, there’s no turning back. Our ghouls and goblins have been dying to meet you… literally! Our haunted house is filled with spine-chilling surprises and ghostly delights. But don’t worry\, our resident ghosts are mostly friendly… mostly. So\, gather your courage\, hold onto your friends\, and prepare for a night of frightful fun by registering with the appropriate link below. Welcome to the Haunted House \, where every corner holds a new surprise and every scream echoes through the night! \n  \nThe 4:30 show is less spooky for the little ones. Haunted House 10/29/24 4:30 (alchemer-ca.com) \n  \nThe 5:30 show. Haunted House 10/29/24 5:30pm (alchemer-ca.com) \n  \nand the 6:30 show. Haunted House 10/29/24 6:30pm (alchemer-ca.com)  for the brave only. \n  \nHappy Haunting! 🎃👻 \n  \n 
URL:https://mamaway.ca/event/haunted-house-on-match-10-28-24-440-530-630/
LOCATION:110 Matchedash Street N\, Orillia (Mamaway Wiidokdaadwin Match Hub)\, 110 Matchedash Street N\, Orillia\, Ontario\, L3V 4T8\, Canada
CATEGORIES:in-person
ATTACH;FMTTYPE=image/png:https://mamaway.ca/wp-content/uploads/2024/10/HH-on-Match-OCT-29th.png
ORGANIZER;CN="Bawd Elliott":MAILTO:belliott@banac.on.ca
END:VEVENT
BEGIN:VEVENT
DTSTART;TZID=America/Toronto:20240925T100000
DTEND;TZID=America/Toronto:20240925T160000
DTSTAMP:20260419T151109
CREATED:20240920T171252Z
LAST-MODIFIED:20240920T171252Z
UID:10002985-1727258400-1727280000@mamaway.ca
SUMMARY:Plant Medicine Making
DESCRIPTION:Now that you have joined Chris Walser on September 20th for the harvesting of the medicines. \n2 part engagement – We will now make some medicines together. \nPlease only attend this workshop if you have registered and attended the September 20th engagement. \nMiigwech for your understanding.
URL:https://mamaway.ca/event/plant-medicine-making/
LOCATION:110 Matchedash Street N\, Orillia (Mamaway Wiidokdaadwin Match Hub)\, 110 Matchedash Street N\, Orillia\, Ontario\, L3V 4T8\, Canada
ATTACH;FMTTYPE=image/jpeg:https://mamaway.ca/wp-content/uploads/2024/08/Medicine-Making.jpg
ORGANIZER;CN="Chris Walser%2C Land Based Healing Coordinator":MAILTO:cwalser@banac.on.ca
END:VEVENT
BEGIN:VEVENT
DTSTART;TZID=America/Toronto:20240828T120000
DTEND;TZID=America/Toronto:20240828T170000
DTSTAMP:20260419T151110
CREATED:20240717T171902Z
LAST-MODIFIED:20240806T174706Z
UID:10002770-1724846400-1724864400@mamaway.ca
SUMMARY:Mamaway Wiidokdaadwin's Summer Community Feast (Hector Copegog)
DESCRIPTION:  \nhttps://survey.alchemer-ca.com/s3/50265515/Summer-Community-Feast-Reg-Monday-July-22nd-2024 \n  \nPlease Join Mamaway Wiidokdaadwin on Wednesday\, August\, 2024 at 12:00pm-5:00pm for this ceremony for community. \nNotes (What to Bring) \nWild Game\, Fish\, Wild Rice\, Corn \nFeast Bundle (Plate\, Bowl\, cup\, utensils \nNo Bear Meat \nLarge Cereal bowl maximum size of food dish to bring into the ceremony
URL:https://mamaway.ca/event/mamaway-wiidokdaadwins-summer-community-feast-hector-copegog/
LOCATION:110 Matchedash Street N\, Orillia (Mamaway Wiidokdaadwin Match Hub)\, 110 Matchedash Street N\, Orillia\, Ontario\, L3V 4T8\, Canada
ORGANIZER;CN="Troy Monague":MAILTO:tmonague@banac.on.ca
END:VEVENT
BEGIN:VEVENT
DTSTART;TZID=America/Toronto:20240821T120000
DTEND;TZID=America/Toronto:20240821T150000
DTSTAMP:20260419T151110
CREATED:20240731T183006Z
LAST-MODIFIED:20240731T185419Z
UID:10002773-1724241600-1724252400@mamaway.ca
SUMMARY:Nokomis Giizis Gathering - Datgaagmin Dbik Giizis
DESCRIPTION:Join us for this monthly Nokomis engagement happening Wednesday\, August 21st\, 2024\, from 12-3pm\, that will offer both healing and connection as we lean into our culture\, traditions\, and Nokomis Giizis Teachings. \nThis month we lean into the energy of the Thimbleberry Moon – Datgaagmin Dbik Giizis.\n(Thimbleberry Moon) August is when the last of the berries are harvested. The Datgaagmin (Thimbleberry) produces fruits every three years and reminds us that good things take time in Life. And to honor that in all of us. \nThis Nokomis engagement location will be at Matchedash Hub where we will explore a recipe with Blueberries!\nWe will gather to share some teachings and to embrace yourself in the experience of what the Berry moon has to offer. \nFeel free to share with those who this may interest. \nThank you for registering with the link below so we can prepare adequately.\nhttps://survey.alchemer-ca.com/s3/50267723/Nokomis-Giizis-Series-Aug-2024 \nVisit our website to see all the other programs happening this month: www.mamaway.ca/events\nDon’t forget to follow us on Socials if you haven’t done so (Facebook\, Instagram and Twitter) \nThroughout the year\, we will gather on the land each month to deepen our connection to the land and self.\nEach month our adventures will include traditional moon teaching\, wellness teachings\, periodically a physical adventure or a hands-on creation.
URL:https://mamaway.ca/event/nokomis-giizis-gathering-datgaagmin-dbik-giizis/
LOCATION:110 Matchedash Street N\, Orillia (Mamaway Wiidokdaadwin Match Hub)\, 110 Matchedash Street N\, Orillia\, Ontario\, L3V 4T8\, Canada
ATTACH;FMTTYPE=image/png:https://mamaway.ca/wp-content/uploads/2024/07/Nokomis-Giizis-Series-Aug2024.png
ORGANIZER;CN="Lianne Hudon":MAILTO:lhudon@banac.on.ca
END:VEVENT
END:VCALENDAR