BEGIN:VCALENDAR
VERSION:2.0
PRODID:-//Mamaway Wiidokdaadwin - ECPv6.15.12//NONSGML v1.0//EN
CALSCALE:GREGORIAN
METHOD:PUBLISH
X-ORIGINAL-URL:https://mamaway.ca
X-WR-CALDESC:Events for Mamaway Wiidokdaadwin
REFRESH-INTERVAL;VALUE=DURATION:PT1H
X-Robots-Tag:noindex
X-PUBLISHED-TTL:PT1H
BEGIN:VTIMEZONE
TZID:America/Toronto
BEGIN:DAYLIGHT
TZOFFSETFROM:-0500
TZOFFSETTO:-0400
TZNAME:EDT
DTSTART:20220313T070000
END:DAYLIGHT
BEGIN:STANDARD
TZOFFSETFROM:-0400
TZOFFSETTO:-0500
TZNAME:EST
DTSTART:20221106T060000
END:STANDARD
BEGIN:DAYLIGHT
TZOFFSETFROM:-0500
TZOFFSETTO:-0400
TZNAME:EDT
DTSTART:20230312T070000
END:DAYLIGHT
BEGIN:STANDARD
TZOFFSETFROM:-0400
TZOFFSETTO:-0500
TZNAME:EST
DTSTART:20231105T060000
END:STANDARD
BEGIN:DAYLIGHT
TZOFFSETFROM:-0500
TZOFFSETTO:-0400
TZNAME:EDT
DTSTART:20240310T070000
END:DAYLIGHT
BEGIN:STANDARD
TZOFFSETFROM:-0400
TZOFFSETTO:-0500
TZNAME:EST
DTSTART:20241103T060000
END:STANDARD
END:VTIMEZONE
BEGIN:VEVENT
DTSTART;TZID=America/Toronto:20231101T190000
DTEND;TZID=America/Toronto:20231101T200000
DTSTAMP:20260421T131435
CREATED:20231030T142522Z
LAST-MODIFIED:20231030T142522Z
UID:10001726-1698865200-1698868800@mamaway.ca
SUMMARY:Pow Wow Dance Workshop
DESCRIPTION:Dates: Nov 1\, 8\, 15\, 22\, 29 Every Wednesday evening \nOn Nov 1st & 8th we will be showcasing dancers in full regalia
URL:https://mamaway.ca/event/pow-wow-dance-workshop/2023-11-01/
LOCATION:Barrie Native Friendship Centre\, 175 Bayfield St\, Barrie\, Ontario\, L4M 3B4\, Canada
ATTACH;FMTTYPE=image/png:https://mamaway.ca/wp-content/uploads/2023/10/Pow-WoW-Workshop-Flyer-10_2023.png
ORGANIZER;CN="Courtney Thomas":MAILTO:cthomas@banac.on.ca
END:VEVENT
END:VCALENDAR