BEGIN:VCALENDAR
VERSION:2.0
PRODID:-//Mamaway Wiidokdaadwin - ECPv6.15.12//NONSGML v1.0//EN
CALSCALE:GREGORIAN
METHOD:PUBLISH
X-WR-CALNAME:Mamaway Wiidokdaadwin
X-ORIGINAL-URL:https://mamaway.ca
X-WR-CALDESC:Events for Mamaway Wiidokdaadwin
REFRESH-INTERVAL;VALUE=DURATION:PT1H
X-Robots-Tag:noindex
X-PUBLISHED-TTL:PT1H
BEGIN:VTIMEZONE
TZID:America/Toronto
BEGIN:DAYLIGHT
TZOFFSETFROM:-0500
TZOFFSETTO:-0400
TZNAME:EDT
DTSTART:20230312T070000
END:DAYLIGHT
BEGIN:STANDARD
TZOFFSETFROM:-0400
TZOFFSETTO:-0500
TZNAME:EST
DTSTART:20231105T060000
END:STANDARD
BEGIN:DAYLIGHT
TZOFFSETFROM:-0500
TZOFFSETTO:-0400
TZNAME:EDT
DTSTART:20240310T070000
END:DAYLIGHT
BEGIN:STANDARD
TZOFFSETFROM:-0400
TZOFFSETTO:-0500
TZNAME:EST
DTSTART:20241103T060000
END:STANDARD
BEGIN:DAYLIGHT
TZOFFSETFROM:-0500
TZOFFSETTO:-0400
TZNAME:EDT
DTSTART:20250309T070000
END:DAYLIGHT
BEGIN:STANDARD
TZOFFSETFROM:-0400
TZOFFSETTO:-0500
TZNAME:EST
DTSTART:20251102T060000
END:STANDARD
END:VTIMEZONE
BEGIN:VEVENT
DTSTART;TZID=America/Toronto:20240202T130000
DTEND;TZID=America/Toronto:20240202T140000
DTSTAMP:20260420T090853
CREATED:20240109T052853Z
LAST-MODIFIED:20240109T053236Z
UID:10001743-1706878800-1706882400@mamaway.ca
SUMMARY:Bimaagime - Goes snowshoeing at the farm!
DESCRIPTION:Please register with the link below \nChris will reach out to registrants week to week to update on snowshoeing (weather pending)
URL:https://mamaway.ca/event/bimaagime-goes-snowshoeing-at-the-farm/2024-02-02/
LOCATION:HEART Retreat at 328 Line 15 North Oro/Medonte\, 328 Line 15 North\, Oro Medonte\, Ontario\, Canada
ATTACH;FMTTYPE=image/png:https://mamaway.ca/wp-content/uploads/2024/01/snowshoeing-Jan-2024.png
ORGANIZER;CN="Chris Walser%2C Land Based Healing Coordinator":MAILTO:cwalser@banac.on.ca
END:VEVENT
BEGIN:VEVENT
DTSTART;TZID=America/Toronto:20240126T130000
DTEND;TZID=America/Toronto:20240126T140000
DTSTAMP:20260420T090853
CREATED:20240109T052853Z
LAST-MODIFIED:20240109T053236Z
UID:10001742-1706274000-1706277600@mamaway.ca
SUMMARY:Bimaagime - Goes snowshoeing at the farm!
DESCRIPTION:Please register with the link below \nChris will reach out to registrants week to week to update on snowshoeing (weather pending)
URL:https://mamaway.ca/event/bimaagime-goes-snowshoeing-at-the-farm/2024-01-26/
LOCATION:HEART Retreat at 328 Line 15 North Oro/Medonte\, 328 Line 15 North\, Oro Medonte\, Ontario\, Canada
ATTACH;FMTTYPE=image/png:https://mamaway.ca/wp-content/uploads/2024/01/snowshoeing-Jan-2024.png
ORGANIZER;CN="Chris Walser%2C Land Based Healing Coordinator":MAILTO:cwalser@banac.on.ca
END:VEVENT
BEGIN:VEVENT
DTSTART;TZID=America/Toronto:20240119T130000
DTEND;TZID=America/Toronto:20240119T140000
DTSTAMP:20260420T090853
CREATED:20240109T052853Z
LAST-MODIFIED:20240109T053236Z
UID:10001741-1705669200-1705672800@mamaway.ca
SUMMARY:Bimaagime - Goes snowshoeing at the farm!
DESCRIPTION:Please register with the link below \nChris will reach out to registrants week to week to update on snowshoeing (weather pending)
URL:https://mamaway.ca/event/bimaagime-goes-snowshoeing-at-the-farm/2024-01-19/
LOCATION:HEART Retreat at 328 Line 15 North Oro/Medonte\, 328 Line 15 North\, Oro Medonte\, Ontario\, Canada
ATTACH;FMTTYPE=image/png:https://mamaway.ca/wp-content/uploads/2024/01/snowshoeing-Jan-2024.png
ORGANIZER;CN="Chris Walser%2C Land Based Healing Coordinator":MAILTO:cwalser@banac.on.ca
END:VEVENT
BEGIN:VEVENT
DTSTART;TZID=America/Toronto:20240112T130000
DTEND;TZID=America/Toronto:20240112T140000
DTSTAMP:20260420T090853
CREATED:20240109T052853Z
LAST-MODIFIED:20240109T053236Z
UID:10001740-1705064400-1705068000@mamaway.ca
SUMMARY:Bimaagime - Goes snowshoeing at the farm!
DESCRIPTION:Please register with the link below \nChris will reach out to registrants week to week to update on snowshoeing (weather pending)
URL:https://mamaway.ca/event/bimaagime-goes-snowshoeing-at-the-farm/2024-01-12/
LOCATION:HEART Retreat at 328 Line 15 North Oro/Medonte\, 328 Line 15 North\, Oro Medonte\, Ontario\, Canada
ATTACH;FMTTYPE=image/png:https://mamaway.ca/wp-content/uploads/2024/01/snowshoeing-Jan-2024.png
ORGANIZER;CN="Chris Walser%2C Land Based Healing Coordinator":MAILTO:cwalser@banac.on.ca
END:VEVENT
END:VCALENDAR