BEGIN:VCALENDAR
VERSION:2.0
PRODID:-//Mamaway Wiidokdaadwin - ECPv6.15.12//NONSGML v1.0//EN
CALSCALE:GREGORIAN
METHOD:PUBLISH
X-WR-CALNAME:Mamaway Wiidokdaadwin
X-ORIGINAL-URL:https://mamaway.ca
X-WR-CALDESC:Events for Mamaway Wiidokdaadwin
REFRESH-INTERVAL;VALUE=DURATION:PT1H
X-Robots-Tag:noindex
X-PUBLISHED-TTL:PT1H
BEGIN:VTIMEZONE
TZID:America/Toronto
BEGIN:DAYLIGHT
TZOFFSETFROM:-0500
TZOFFSETTO:-0400
TZNAME:EDT
DTSTART:20210314T070000
END:DAYLIGHT
BEGIN:STANDARD
TZOFFSETFROM:-0400
TZOFFSETTO:-0500
TZNAME:EST
DTSTART:20211107T060000
END:STANDARD
BEGIN:DAYLIGHT
TZOFFSETFROM:-0500
TZOFFSETTO:-0400
TZNAME:EDT
DTSTART:20220313T070000
END:DAYLIGHT
BEGIN:STANDARD
TZOFFSETFROM:-0400
TZOFFSETTO:-0500
TZNAME:EST
DTSTART:20221106T060000
END:STANDARD
BEGIN:DAYLIGHT
TZOFFSETFROM:-0500
TZOFFSETTO:-0400
TZNAME:EDT
DTSTART:20230312T070000
END:DAYLIGHT
BEGIN:STANDARD
TZOFFSETFROM:-0400
TZOFFSETTO:-0500
TZNAME:EST
DTSTART:20231105T060000
END:STANDARD
END:VTIMEZONE
BEGIN:VEVENT
DTSTART;TZID=America/Toronto:20220414T120000
DTEND;TZID=America/Toronto:20220414T130000
DTSTAMP:20260424T162055
CREATED:20211213T195715Z
LAST-MODIFIED:20220413T144925Z
UID:10001901-1649937600-1649941200@mamaway.ca
SUMMARY:Working Together- Wiijinokiiwag Community Storytelling Series
DESCRIPTION:As a continued effort to build the bridges of connection within our mainstream communities. It was expressed during our Working Together- Wiijinokiiwag pilot program reviews that the opportunity to share culture for understanding was a crucial step forward to grow& promote confident leaders in our goals of allyship! We are so very excited to be bringing you all the opportunity to share in some of our Anishinaabe Oral Teachings during this Winter Journey of Reflection. As Indigenous Peoples we take this sacred Winter Season to learn\, to grow\, reflect and share knowledge with the communities around us! Winter is all about Storytelling and we would like to invite you to join us as we explore the adventures of our featured guests to learn\, connect and grow together! \nWe will be showcasing four different guest Storytellers. Each guest will be listed inside the calendar listing and registration for the event is required! \nRegistration is required for access to event! \nPlease fill out the event website survey link below to participate!
URL:https://mamaway.ca/event/working-together-wiijinokiiwag-community-storytelling-series-3/
LOCATION:Zoom
CATEGORIES:Virtual Event Offering
ATTACH;FMTTYPE=image/png:https://mamaway.ca/wp-content/uploads/2021/12/Community-Storytelling-with-Kathy.png
ORGANIZER;CN="Heather McIntyre - WOrking Together- Wiijinokiiwag":MAILTO:hmcintyre@banac.on.ca
END:VEVENT
BEGIN:VEVENT
DTSTART;TZID=America/Toronto:20220419T120000
DTEND;TZID=America/Toronto:20220419T133000
DTSTAMP:20260424T162055
CREATED:20211214T144637Z
LAST-MODIFIED:20220413T145144Z
UID:10001913-1650369600-1650375000@mamaway.ca
SUMMARY:Working Together- Wiijinokiiwag April Community Collaboration Circle
DESCRIPTION:Working Together- Wiijinokiiwag is a collaborative program created to Empower Mainstream Organizations to Grow Indigenous Cultural Safety Practices. This circle is a monthly extension tool that enhances our Moccasin Walk of Collaboration while building our conversations of growth\, expansion and unity for all to explore. \nEach session we will explore a new theme or intention from a shared perspective to cultivate change and growth inside a circle of community connection. This community circle is open to all individuals looking to further grow\, enhance and intentionally build steps towards unity\, equality\, understanding and respect. \nPlease register through our Alchemer Survey Link below! \nMiigwetch
URL:https://mamaway.ca/event/working-together-wiijinokiiwag-april-community-collaboration-circle/
LOCATION:Zoom
CATEGORIES:Virtual Event Offering
ATTACH;FMTTYPE=image/png:https://mamaway.ca/wp-content/uploads/2021/12/Community-Collaboration-Circle-with-Steve.png
ORGANIZER;CN="Heather McIntre- Working Together- Wiijinokiiwag":MAILTO:hmcintyre@banac.on.ca
END:VEVENT
BEGIN:VEVENT
DTSTART;TZID=America/Toronto:20220421T133000
DTEND;TZID=America/Toronto:20220421T153000
DTSTAMP:20260424T162055
CREATED:20211213T220943Z
LAST-MODIFIED:20220413T145530Z
UID:10001905-1650547800-1650555000@mamaway.ca
SUMMARY:Working Together- Wiijinokiiwag Presents- Diversity- A Different View of Collaboration
DESCRIPTION:During our initial Pilot Program Launch it was expressed to us that more information was needed around the ways that we could fully embrace & blend the best of both the Western & Indigenous lenses of knowledge to enhance our ability of understanding & growth. This 2-hour extension program builds on the topic of Diversity- A Different View of Collaboration digs deeper into the diversity of the workplace\, community\, and world. We recap the importance of seeing through all lens of “humanness”\, while brainstorming concrete ways to create and initiate changes that not only support & empower Indigenous Peoples but all Peoples to safely show-up in ways that truly impact a generational change for us all to live by! \nThe program is open our Mainstream Community and will allow you the opportunity to explore what the Working Together- Wiijinokiiwag Program has to offer. As a participant you can expect to dig deeper into this concept of living\, learning and connecting so that you can further build your toolbox of Cultural Safety Practices in growing your relationships with the Indigenous Peoples you are connecting with in your daily life and professional/organizational practice.  As a participant you can expect to dig deeper into this concept of living\, learning and connecting so that you can further build your toolbox of Cultural Safety Practices in growing your relationships with the Indigenous Peoples you are connecting with in your daily life and professional/organizational practice. \nPlease register your space by clicking the link listed below.
URL:https://mamaway.ca/event/working-together-wiijinokiiwag-presents-diversity-a-different-view-of-collaboration/
LOCATION:Zoom
CATEGORIES:Virtual Program Offering
ATTACH;FMTTYPE=image/png:https://mamaway.ca/wp-content/uploads/2021/12/Diversity-Workshop.png
ORGANIZER;CN="Heather McIntre- Working Together- Wiijinokiiwag":MAILTO:hmcintyre@banac.on.ca
END:VEVENT
END:VCALENDAR