BEGIN:VCALENDAR
VERSION:2.0
PRODID:-//Mamaway Wiidokdaadwin - ECPv6.15.12//NONSGML v1.0//EN
CALSCALE:GREGORIAN
METHOD:PUBLISH
X-ORIGINAL-URL:https://mamaway.ca
X-WR-CALDESC:Events for Mamaway Wiidokdaadwin
REFRESH-INTERVAL;VALUE=DURATION:PT1H
X-Robots-Tag:noindex
X-PUBLISHED-TTL:PT1H
BEGIN:VTIMEZONE
TZID:America/Toronto
BEGIN:DAYLIGHT
TZOFFSETFROM:-0500
TZOFFSETTO:-0400
TZNAME:EDT
DTSTART:20210314T070000
END:DAYLIGHT
BEGIN:STANDARD
TZOFFSETFROM:-0400
TZOFFSETTO:-0500
TZNAME:EST
DTSTART:20211107T060000
END:STANDARD
BEGIN:DAYLIGHT
TZOFFSETFROM:-0500
TZOFFSETTO:-0400
TZNAME:EDT
DTSTART:20220313T070000
END:DAYLIGHT
BEGIN:STANDARD
TZOFFSETFROM:-0400
TZOFFSETTO:-0500
TZNAME:EST
DTSTART:20221106T060000
END:STANDARD
BEGIN:DAYLIGHT
TZOFFSETFROM:-0500
TZOFFSETTO:-0400
TZNAME:EDT
DTSTART:20230312T070000
END:DAYLIGHT
BEGIN:STANDARD
TZOFFSETFROM:-0400
TZOFFSETTO:-0500
TZNAME:EST
DTSTART:20231105T060000
END:STANDARD
END:VTIMEZONE
BEGIN:VEVENT
DTSTART;TZID=America/Toronto:20220506T091500
DTEND;TZID=America/Toronto:20220506T121500
DTSTAMP:20260425T113828
CREATED:20220214T193448Z
LAST-MODIFIED:20220602T153341Z
UID:10001596-1651828500-1651839300@mamaway.ca
SUMMARY:Working Together- Wiijinokiiwag- Day Two- Virtual Spring/Summer Sessions
DESCRIPTION:Working Together – Wiijinokiiwag Collaboration Project was created and released in September 2021 to mainstream organizations who support and empower Indigenous Peoples within their organizations. This 1.5 Day Virtual Program is designed to bring awareness to life promotion\, awareness\, education\, and collaboration that supports mainstream organizations to grow Indigenous Cultural Safety Practices. We focus on empowering\, building\, and growing connections & resources to ensure that we have safer environments for everyone. \nThis collaboration project is run in Seasonal Session from 9:15 am- 4:15 pm Day One and from 9:15 am- 12:15 noon Day Two with Expansion Projects\, Community Collaboration Circles and Teaching Events offered additionally throughout the year to further the work of creating strong relationships of support between organization and services for the Indigenous Peoples in our community. \nHeather McIntyre is the Project Coordinator and Programs Facilitation Lead and can be contacted at: hmcintyre@banac.on.ca to enquire about participating in this ground breaking community programming! \nPlease fill out the Alchemer Program survey link below!
URL:https://mamaway.ca/event/working-together-wiijinokiiwag-day-two-spring-sessions/2022-05-06/
LOCATION:Zoom
CATEGORIES:Mamaway Wiidokdaadwin,Virtual Event Offering,Virtual Program Offering
ATTACH;FMTTYPE=image/png:https://mamaway.ca/wp-content/uploads/2022/02/Working-Together-Wiijinokiiwag-Outline-14.png
ORGANIZER;CN="Heather McIntre- Working Together- Wiijinokiiwag":MAILTO:hmcintyre@banac.on.ca
END:VEVENT
BEGIN:VEVENT
DTSTART;TZID=America/Toronto:20220525T091500
DTEND;TZID=America/Toronto:20220525T161500
DTSTAMP:20260425T113828
CREATED:20220214T184633Z
LAST-MODIFIED:20220602T153125Z
UID:10001582-1653470100-1653495300@mamaway.ca
SUMMARY:Working Together- Wiijinokiiwag Day One- Virtual Spring/Summer Sessions
DESCRIPTION:Working Together – Wiijinokiiwag Collaboration Project was created and released in September 2021 to mainstream organizations who support and empower Indigenous Peoples within their organizations. This 1.5 Day Virtual Program is designed to bring awareness to life promotion\, awareness\, education\, and collaboration that supports mainstream organizations to grow Indigenous Cultural Safety Practices. We focus on empowering\, building\, and growing connections & resources to ensure that we have safer environments for everyone. \nThis collaboration project is run in Seasonal Session from 9:15 am- 4:15 pm Day One and from 9:15 am- 12:15 noon Day Two with Expansion Projects\, Community Collaboration Circles and Teaching Events offered additionally throughout the year to further the work of creating strong relationships of support between organization and services for the Indigenous Peoples in our community. \nHeather McIntyre is the Project Coordinator and Programs Facilitation Lead and can be contacted at: hmcintyre@banac.on.ca to enquire about participating in this ground breaking community programming! \nPlease fill out the Alchemer Program survey link below!
URL:https://mamaway.ca/event/working-together-wiijinokiiwag-day-one-spring-sessions/2022-05-25/
LOCATION:Zoom
CATEGORIES:Mamaway Wiidokdaadwin,Virtual Event Offering,Virtual Program Offering
ATTACH;FMTTYPE=image/png:https://mamaway.ca/wp-content/uploads/2022/02/Working-Together-Wiijinokiiwag-Outline-14.png
ORGANIZER;CN="Heather McIntre- Working Together- Wiijinokiiwag":MAILTO:hmcintyre@banac.on.ca
END:VEVENT
BEGIN:VEVENT
DTSTART;TZID=America/Toronto:20220527T080000
DTEND;TZID=America/Toronto:20220527T090000
DTSTAMP:20260425T113828
CREATED:20211214T182011Z
LAST-MODIFIED:20220413T152726Z
UID:10001922-1653638400-1653642000@mamaway.ca
SUMMARY:Working Together- Wiijinokiiwag Presents Voices of Change Series One
DESCRIPTION:It is our mission in the Working Together- Wiijinokiiwag program to create and empower change\, awareness and space for all peoples to shine on their path of humanness! In light of all the truths that are coming to the worlds attention\, we need to ensure that Indigenous voices are heard! Not only around our peoples stories\, losses\, learnings and celebrations… but to ensure that the hard work of our ancestors is carried forward in that “good way” for all to embrace! \nIt was expressed inside of our Working Together- Wiijinokiiwag  Program that collaborations of unity & strength are desired… it was identified\, that there is a gap on how we get there as many are afraid to further deepen the pain being felt. “Fear is a silent partner” that holds us bound to the history of the past we are longing to change! On both sides of this discovery we wrestle with the next steps forward… at Working Together- Wiijinokiiwag we say” take the step”\, then do it again\, and together\, we will get to the place were looking for exactly how creator intended\, as one! \nFor all of these reasons\, we give you Voices of Change… filled with magical wisdom\, strength\, courage\, pain and celebrations… we promise their will be teachings for all to explore. What will be left on the community table is “what will you do” with the information you seek? \nInside this very special series we will have many conversations around all of the topics of life. We will showcase the courage\, resilience and glory of our Indigenous brothers and sisters and we will invite all peoples to lean in and rise with us all as we create a world together that fits us all in equality\, safety\, celebration and strength! \nThis will be an 8- Part Speaker Series found exclusively on social media and it all kicks off on Jan 27th- 2022! \n8 Different Speakers \n8 Different Views \n8 Different Stories \n8 Different Opportunities \nOne goal…  Connection! \n  \n 
URL:https://mamaway.ca/event/working-together-wiijinokiiwag-presents-voices-of-change-series-one/2022-05-27/
LOCATION:You Tube
CATEGORIES:Virtual Event Offering
ATTACH;FMTTYPE=image/png:https://mamaway.ca/wp-content/uploads/2021/12/Working-Together-Wiijinokiiwag-Proudly-Presents-5.png
ORGANIZER;CN="Heather McIntre- Working Together- Wiijinokiiwag":MAILTO:hmcintyre@banac.on.ca
END:VEVENT
BEGIN:VEVENT
DTSTART;TZID=America/Toronto:20220527T091500
DTEND;TZID=America/Toronto:20220527T121500
DTSTAMP:20260425T113828
CREATED:20220214T193448Z
LAST-MODIFIED:20220602T153341Z
UID:10001597-1653642900-1653653700@mamaway.ca
SUMMARY:Working Together- Wiijinokiiwag- Day Two- Virtual Spring/Summer Sessions
DESCRIPTION:Working Together – Wiijinokiiwag Collaboration Project was created and released in September 2021 to mainstream organizations who support and empower Indigenous Peoples within their organizations. This 1.5 Day Virtual Program is designed to bring awareness to life promotion\, awareness\, education\, and collaboration that supports mainstream organizations to grow Indigenous Cultural Safety Practices. We focus on empowering\, building\, and growing connections & resources to ensure that we have safer environments for everyone. \nThis collaboration project is run in Seasonal Session from 9:15 am- 4:15 pm Day One and from 9:15 am- 12:15 noon Day Two with Expansion Projects\, Community Collaboration Circles and Teaching Events offered additionally throughout the year to further the work of creating strong relationships of support between organization and services for the Indigenous Peoples in our community. \nHeather McIntyre is the Project Coordinator and Programs Facilitation Lead and can be contacted at: hmcintyre@banac.on.ca to enquire about participating in this ground breaking community programming! \nPlease fill out the Alchemer Program survey link below!
URL:https://mamaway.ca/event/working-together-wiijinokiiwag-day-two-spring-sessions/2022-05-27/
LOCATION:Zoom
CATEGORIES:Mamaway Wiidokdaadwin,Virtual Event Offering,Virtual Program Offering
ATTACH;FMTTYPE=image/png:https://mamaway.ca/wp-content/uploads/2022/02/Working-Together-Wiijinokiiwag-Outline-14.png
ORGANIZER;CN="Heather McIntre- Working Together- Wiijinokiiwag":MAILTO:hmcintyre@banac.on.ca
END:VEVENT
END:VCALENDAR