BEGIN:VCALENDAR
VERSION:2.0
PRODID:-//Mamaway Wiidokdaadwin - ECPv6.15.12//NONSGML v1.0//EN
CALSCALE:GREGORIAN
METHOD:PUBLISH
X-WR-CALNAME:Mamaway Wiidokdaadwin
X-ORIGINAL-URL:https://mamaway.ca
X-WR-CALDESC:Events for Mamaway Wiidokdaadwin
REFRESH-INTERVAL;VALUE=DURATION:PT1H
X-Robots-Tag:noindex
X-PUBLISHED-TTL:PT1H
BEGIN:VTIMEZONE
TZID:America/Toronto
BEGIN:DAYLIGHT
TZOFFSETFROM:-0500
TZOFFSETTO:-0400
TZNAME:EDT
DTSTART:20250309T070000
END:DAYLIGHT
BEGIN:STANDARD
TZOFFSETFROM:-0400
TZOFFSETTO:-0500
TZNAME:EST
DTSTART:20251102T060000
END:STANDARD
BEGIN:DAYLIGHT
TZOFFSETFROM:-0500
TZOFFSETTO:-0400
TZNAME:EDT
DTSTART:20260308T070000
END:DAYLIGHT
BEGIN:STANDARD
TZOFFSETFROM:-0400
TZOFFSETTO:-0500
TZNAME:EST
DTSTART:20261101T060000
END:STANDARD
BEGIN:DAYLIGHT
TZOFFSETFROM:-0500
TZOFFSETTO:-0400
TZNAME:EDT
DTSTART:20270314T070000
END:DAYLIGHT
BEGIN:STANDARD
TZOFFSETFROM:-0400
TZOFFSETTO:-0500
TZNAME:EST
DTSTART:20271107T060000
END:STANDARD
END:VTIMEZONE
BEGIN:VEVENT
DTSTART;TZID=America/Toronto:20260608T080000
DTEND;TZID=America/Toronto:20260608T170000
DTSTAMP:20260425T124643
CREATED:20260424T174703Z
LAST-MODIFIED:20260424T180823Z
UID:10005841-1780905600-1780938000@mamaway.ca
SUMMARY:Hunter Safety/PAL Course in partnership with Barrie Native Friendship Center
DESCRIPTION:Come and join Mamaway’s Land Based Healing coordinator in partnership with the Barrie Native Friendship Center\, on June 8th and 9th\, 2026 for a course for community to learn about Hunter Safety and Fire arms safety. You will learn essential \, legal and ethical practices for hunting. You will also learn wildlife identification\, conservation principles and hunting techniques. Hunter safety happens on June 8th 2026 from 8am – 5 pm. Firearms Safety will be June 9th\, 2026 from 8 am – 6 pm.  Both courses happening at BNFC.
URL:https://mamaway.ca/event/hunter-safety-pal-course-in-partnership-with-barrie-native-friendship-center/2026-06-08/
LOCATION:Barrie Native Friendship Centre\, 175 Bayfield St\, Barrie\, Ontario\, L4M 3B4\, Canada
ATTACH;FMTTYPE=image/png:https://mamaway.ca/wp-content/uploads/2026/04/Hunter-Saftey-PAL-BNFC.png
ORGANIZER;CN="Chris Walser%2C Land Based Healing Coordinator":MAILTO:cwalser@banac.on.ca
END:VEVENT
BEGIN:VEVENT
DTSTART;TZID=America/Toronto:20260609T080000
DTEND;TZID=America/Toronto:20260610T180000
DTSTAMP:20260425T124643
CREATED:20260424T174703Z
LAST-MODIFIED:20260424T180823Z
UID:10005842-1780992000-1781114400@mamaway.ca
SUMMARY:Hunter Safety/PAL Course in partnership with Barrie Native Friendship Center
DESCRIPTION:Come and join Mamaway’s Land Based Healing coordinator in partnership with the Barrie Native Friendship Center\, on June 8th and 9th\, 2026 for a course for community to learn about Hunter Safety and Fire arms safety. You will learn essential \, legal and ethical practices for hunting. You will also learn wildlife identification\, conservation principles and hunting techniques. Hunter safety happens on June 8th 2026 from 8am – 5 pm. Firearms Safety will be June 9th\, 2026 from 8 am – 6 pm.  Both courses happening at BNFC.
URL:https://mamaway.ca/event/hunter-safety-pal-course-in-partnership-with-barrie-native-friendship-center/2026-06-09/
LOCATION:Barrie Native Friendship Centre\, 175 Bayfield St\, Barrie\, Ontario\, L4M 3B4\, Canada
ATTACH;FMTTYPE=image/png:https://mamaway.ca/wp-content/uploads/2026/04/Hunter-Saftey-PAL-BNFC.png
ORGANIZER;CN="Chris Walser%2C Land Based Healing Coordinator":MAILTO:cwalser@banac.on.ca
END:VEVENT
END:VCALENDAR