BEGIN:VCALENDAR
VERSION:2.0
PRODID:-//Mamaway Wiidokdaadwin - ECPv6.15.12//NONSGML v1.0//EN
CALSCALE:GREGORIAN
METHOD:PUBLISH
X-ORIGINAL-URL:https://mamaway.ca
X-WR-CALDESC:Events for Mamaway Wiidokdaadwin
REFRESH-INTERVAL;VALUE=DURATION:PT1H
X-Robots-Tag:noindex
X-PUBLISHED-TTL:PT1H
BEGIN:VTIMEZONE
TZID:America/Toronto
BEGIN:DAYLIGHT
TZOFFSETFROM:-0500
TZOFFSETTO:-0400
TZNAME:EDT
DTSTART:20250309T070000
END:DAYLIGHT
BEGIN:STANDARD
TZOFFSETFROM:-0400
TZOFFSETTO:-0500
TZNAME:EST
DTSTART:20251102T060000
END:STANDARD
BEGIN:DAYLIGHT
TZOFFSETFROM:-0500
TZOFFSETTO:-0400
TZNAME:EDT
DTSTART:20260308T070000
END:DAYLIGHT
BEGIN:STANDARD
TZOFFSETFROM:-0400
TZOFFSETTO:-0500
TZNAME:EST
DTSTART:20261101T060000
END:STANDARD
BEGIN:DAYLIGHT
TZOFFSETFROM:-0500
TZOFFSETTO:-0400
TZNAME:EDT
DTSTART:20270314T070000
END:DAYLIGHT
BEGIN:STANDARD
TZOFFSETFROM:-0400
TZOFFSETTO:-0500
TZNAME:EST
DTSTART:20271107T060000
END:STANDARD
END:VTIMEZONE
BEGIN:VEVENT
DTSTART;TZID=America/Toronto:20260608T100000
DTEND;TZID=America/Toronto:20260608T230000
DTSTAMP:20260420T034048
CREATED:20260327T191835Z
LAST-MODIFIED:20260327T191835Z
UID:10005547-1780912800-1780959600@mamaway.ca
SUMMARY:Midland walking group
DESCRIPTION:Come and join Chris and Katy for a walk along Midland’s water front. We will meet at the Midland town dock at 9:45 am and walk for 45 minutes to an hour.
URL:https://mamaway.ca/event/midland-walking-group/2026-06-08/
LOCATION:Midland Town Dock\, 575 Dominion Ave\, Midland\, ON\, L4R1R2\, Canada
CATEGORIES:in-person,Mamaway Wiidokdaadwin
ATTACH;FMTTYPE=image/png:https://mamaway.ca/wp-content/uploads/2026/03/Midland-Walking-Group-1.png
ORGANIZER;CN="Chris Walser%2C Land Based Healing Coordinator":MAILTO:cwalser@banac.on.ca
END:VEVENT
BEGIN:VEVENT
DTSTART;TZID=America/Toronto:20260609T100000
DTEND;TZID=America/Toronto:20260609T140000
DTSTAMP:20260420T034048
CREATED:20260417T152114Z
LAST-MODIFIED:20260417T152237Z
UID:10005795-1780999200-1781013600@mamaway.ca
SUMMARY:Building Our Bundles: Uplifting Your Spirit 6-week Series
DESCRIPTION:Join Mamaway Wiidokdaadwin Life Promoters Courtney Thomas for Building Our Bundles: Uplifting Your Spirit 6-week Series! \nThis series will provide a safe and supportive space to connect with other community members and explore a range of topics related to cultural teachings and building your own bundle. By participating in the program\, it will provide you with the tools and resources you need to help you live a good life! \nHere is the breakdown of the 6-week Series and what we will be doing each week: \n\nWeek 1: What’s in Your Bundle?: What is a bundle? Bundle teachings.\n\n\nWeek 2: Four Sacred Medicines: Teachings about the four sacred medicines and harvesting.\n\n\nWeek 3: Shaker: What are shakers for?\n\n\nWeek 4: Eagle Feather Teachings: Eagle feather dressing and teachings.\n\n\nWeek 5: Ribbon Skirt/Shirt Teachings: Why do we wear ribbon skirts and ribbon skirts? \n\n\nWeek 6: Feast Your Bundles: Potluck Feast! Bring your favorite dish to share!\n\nThroughout the 6 weeks\, participants will make a bundle bag\, smudge kit\, medicine bags\, dress a feather\, a feather case\,  a shaker\, ribbon skirts/shirts and lastly\, bring their favorite dish to feast their bundles. \nThe series will run every Tuesday from 10:00am – 2:00pm in Orillia. \nClick link to register: https://survey.alchemer-ca.com/s3/50560302/Building-Our-Bundles-Uplifting-Your-Spirit-Q1-2026 \nIf you have any questions\, please reach out to Courtney Thomas at cthomas@banac.on.ca or 705-795-3371
URL:https://mamaway.ca/event/building-our-bundles-uplifting-your-spirit-6-week-series/2026-06-09/
LOCATION:110 Matchedash St. N.\, 110 Matchedash St.\, N\, Orillia\, ON\, L3V 4T8\, Canada
CATEGORIES:in-person,Mamaway Wiidokdaadwin
ATTACH;FMTTYPE=image/jpeg:https://mamaway.ca/wp-content/uploads/2026/04/Building-Our-Bundles-Series-Q1-2026-Flyer-.jpg
ORGANIZER;CN="Courtney Thomas":MAILTO:cthomas@banac.on.ca
END:VEVENT
BEGIN:VEVENT
DTSTART;TZID=America/Toronto:20260615T100000
DTEND;TZID=America/Toronto:20260615T230000
DTSTAMP:20260420T034048
CREATED:20260327T191835Z
LAST-MODIFIED:20260327T191835Z
UID:10005548-1781517600-1781564400@mamaway.ca
SUMMARY:Midland walking group
DESCRIPTION:Come and join Chris and Katy for a walk along Midland’s water front. We will meet at the Midland town dock at 9:45 am and walk for 45 minutes to an hour.
URL:https://mamaway.ca/event/midland-walking-group/2026-06-15/
LOCATION:Midland Town Dock\, 575 Dominion Ave\, Midland\, ON\, L4R1R2\, Canada
CATEGORIES:in-person,Mamaway Wiidokdaadwin
ATTACH;FMTTYPE=image/png:https://mamaway.ca/wp-content/uploads/2026/03/Midland-Walking-Group-1.png
ORGANIZER;CN="Chris Walser%2C Land Based Healing Coordinator":MAILTO:cwalser@banac.on.ca
END:VEVENT
BEGIN:VEVENT
DTSTART;TZID=America/Toronto:20260616T100000
DTEND;TZID=America/Toronto:20260616T140000
DTSTAMP:20260420T034048
CREATED:20260417T152114Z
LAST-MODIFIED:20260417T152237Z
UID:10005796-1781604000-1781618400@mamaway.ca
SUMMARY:Building Our Bundles: Uplifting Your Spirit 6-week Series
DESCRIPTION:Join Mamaway Wiidokdaadwin Life Promoters Courtney Thomas for Building Our Bundles: Uplifting Your Spirit 6-week Series! \nThis series will provide a safe and supportive space to connect with other community members and explore a range of topics related to cultural teachings and building your own bundle. By participating in the program\, it will provide you with the tools and resources you need to help you live a good life! \nHere is the breakdown of the 6-week Series and what we will be doing each week: \n\nWeek 1: What’s in Your Bundle?: What is a bundle? Bundle teachings.\n\n\nWeek 2: Four Sacred Medicines: Teachings about the four sacred medicines and harvesting.\n\n\nWeek 3: Shaker: What are shakers for?\n\n\nWeek 4: Eagle Feather Teachings: Eagle feather dressing and teachings.\n\n\nWeek 5: Ribbon Skirt/Shirt Teachings: Why do we wear ribbon skirts and ribbon skirts? \n\n\nWeek 6: Feast Your Bundles: Potluck Feast! Bring your favorite dish to share!\n\nThroughout the 6 weeks\, participants will make a bundle bag\, smudge kit\, medicine bags\, dress a feather\, a feather case\,  a shaker\, ribbon skirts/shirts and lastly\, bring their favorite dish to feast their bundles. \nThe series will run every Tuesday from 10:00am – 2:00pm in Orillia. \nClick link to register: https://survey.alchemer-ca.com/s3/50560302/Building-Our-Bundles-Uplifting-Your-Spirit-Q1-2026 \nIf you have any questions\, please reach out to Courtney Thomas at cthomas@banac.on.ca or 705-795-3371
URL:https://mamaway.ca/event/building-our-bundles-uplifting-your-spirit-6-week-series/2026-06-16/
LOCATION:110 Matchedash St. N.\, 110 Matchedash St.\, N\, Orillia\, ON\, L3V 4T8\, Canada
CATEGORIES:in-person,Mamaway Wiidokdaadwin
ATTACH;FMTTYPE=image/jpeg:https://mamaway.ca/wp-content/uploads/2026/04/Building-Our-Bundles-Series-Q1-2026-Flyer-.jpg
ORGANIZER;CN="Courtney Thomas":MAILTO:cthomas@banac.on.ca
END:VEVENT
BEGIN:VEVENT
DTSTART;TZID=America/Toronto:20260622T100000
DTEND;TZID=America/Toronto:20260622T230000
DTSTAMP:20260420T034048
CREATED:20260327T191835Z
LAST-MODIFIED:20260327T191835Z
UID:10005549-1782122400-1782169200@mamaway.ca
SUMMARY:Midland walking group
DESCRIPTION:Come and join Chris and Katy for a walk along Midland’s water front. We will meet at the Midland town dock at 9:45 am and walk for 45 minutes to an hour.
URL:https://mamaway.ca/event/midland-walking-group/2026-06-22/
LOCATION:Midland Town Dock\, 575 Dominion Ave\, Midland\, ON\, L4R1R2\, Canada
CATEGORIES:in-person,Mamaway Wiidokdaadwin
ATTACH;FMTTYPE=image/png:https://mamaway.ca/wp-content/uploads/2026/03/Midland-Walking-Group-1.png
ORGANIZER;CN="Chris Walser%2C Land Based Healing Coordinator":MAILTO:cwalser@banac.on.ca
END:VEVENT
BEGIN:VEVENT
DTSTART;TZID=America/Toronto:20260629T100000
DTEND;TZID=America/Toronto:20260629T230000
DTSTAMP:20260420T034048
CREATED:20260327T191835Z
LAST-MODIFIED:20260327T191835Z
UID:10005550-1782727200-1782774000@mamaway.ca
SUMMARY:Midland walking group
DESCRIPTION:Come and join Chris and Katy for a walk along Midland’s water front. We will meet at the Midland town dock at 9:45 am and walk for 45 minutes to an hour.
URL:https://mamaway.ca/event/midland-walking-group/2026-06-29/
LOCATION:Midland Town Dock\, 575 Dominion Ave\, Midland\, ON\, L4R1R2\, Canada
CATEGORIES:in-person,Mamaway Wiidokdaadwin
ATTACH;FMTTYPE=image/png:https://mamaway.ca/wp-content/uploads/2026/03/Midland-Walking-Group-1.png
ORGANIZER;CN="Chris Walser%2C Land Based Healing Coordinator":MAILTO:cwalser@banac.on.ca
END:VEVENT
BEGIN:VEVENT
DTSTART;TZID=America/Toronto:20260706T100000
DTEND;TZID=America/Toronto:20260706T230000
DTSTAMP:20260420T034048
CREATED:20260327T191835Z
LAST-MODIFIED:20260327T191835Z
UID:10005551-1783332000-1783378800@mamaway.ca
SUMMARY:Midland walking group
DESCRIPTION:Come and join Chris and Katy for a walk along Midland’s water front. We will meet at the Midland town dock at 9:45 am and walk for 45 minutes to an hour.
URL:https://mamaway.ca/event/midland-walking-group/2026-07-06/
LOCATION:Midland Town Dock\, 575 Dominion Ave\, Midland\, ON\, L4R1R2\, Canada
CATEGORIES:in-person,Mamaway Wiidokdaadwin
ATTACH;FMTTYPE=image/png:https://mamaway.ca/wp-content/uploads/2026/03/Midland-Walking-Group-1.png
ORGANIZER;CN="Chris Walser%2C Land Based Healing Coordinator":MAILTO:cwalser@banac.on.ca
END:VEVENT
BEGIN:VEVENT
DTSTART;TZID=America/Toronto:20260713T100000
DTEND;TZID=America/Toronto:20260713T230000
DTSTAMP:20260420T034048
CREATED:20260327T191835Z
LAST-MODIFIED:20260327T191835Z
UID:10005552-1783936800-1783983600@mamaway.ca
SUMMARY:Midland walking group
DESCRIPTION:Come and join Chris and Katy for a walk along Midland’s water front. We will meet at the Midland town dock at 9:45 am and walk for 45 minutes to an hour.
URL:https://mamaway.ca/event/midland-walking-group/2026-07-13/
LOCATION:Midland Town Dock\, 575 Dominion Ave\, Midland\, ON\, L4R1R2\, Canada
CATEGORIES:in-person,Mamaway Wiidokdaadwin
ATTACH;FMTTYPE=image/png:https://mamaway.ca/wp-content/uploads/2026/03/Midland-Walking-Group-1.png
ORGANIZER;CN="Chris Walser%2C Land Based Healing Coordinator":MAILTO:cwalser@banac.on.ca
END:VEVENT
BEGIN:VEVENT
DTSTART;TZID=America/Toronto:20260720T100000
DTEND;TZID=America/Toronto:20260720T230000
DTSTAMP:20260420T034048
CREATED:20260327T191835Z
LAST-MODIFIED:20260327T191835Z
UID:10005553-1784541600-1784588400@mamaway.ca
SUMMARY:Midland walking group
DESCRIPTION:Come and join Chris and Katy for a walk along Midland’s water front. We will meet at the Midland town dock at 9:45 am and walk for 45 minutes to an hour.
URL:https://mamaway.ca/event/midland-walking-group/2026-07-20/
LOCATION:Midland Town Dock\, 575 Dominion Ave\, Midland\, ON\, L4R1R2\, Canada
CATEGORIES:in-person,Mamaway Wiidokdaadwin
ATTACH;FMTTYPE=image/png:https://mamaway.ca/wp-content/uploads/2026/03/Midland-Walking-Group-1.png
ORGANIZER;CN="Chris Walser%2C Land Based Healing Coordinator":MAILTO:cwalser@banac.on.ca
END:VEVENT
BEGIN:VEVENT
DTSTART;TZID=America/Toronto:20260727T100000
DTEND;TZID=America/Toronto:20260727T230000
DTSTAMP:20260420T034048
CREATED:20260327T191835Z
LAST-MODIFIED:20260327T191835Z
UID:10005554-1785146400-1785193200@mamaway.ca
SUMMARY:Midland walking group
DESCRIPTION:Come and join Chris and Katy for a walk along Midland’s water front. We will meet at the Midland town dock at 9:45 am and walk for 45 minutes to an hour.
URL:https://mamaway.ca/event/midland-walking-group/2026-07-27/
LOCATION:Midland Town Dock\, 575 Dominion Ave\, Midland\, ON\, L4R1R2\, Canada
CATEGORIES:in-person,Mamaway Wiidokdaadwin
ATTACH;FMTTYPE=image/png:https://mamaway.ca/wp-content/uploads/2026/03/Midland-Walking-Group-1.png
ORGANIZER;CN="Chris Walser%2C Land Based Healing Coordinator":MAILTO:cwalser@banac.on.ca
END:VEVENT
BEGIN:VEVENT
DTSTART;TZID=America/Toronto:20260803T100000
DTEND;TZID=America/Toronto:20260803T230000
DTSTAMP:20260420T034048
CREATED:20260327T191835Z
LAST-MODIFIED:20260327T191835Z
UID:10005555-1785751200-1785798000@mamaway.ca
SUMMARY:Midland walking group
DESCRIPTION:Come and join Chris and Katy for a walk along Midland’s water front. We will meet at the Midland town dock at 9:45 am and walk for 45 minutes to an hour.
URL:https://mamaway.ca/event/midland-walking-group/2026-08-03/
LOCATION:Midland Town Dock\, 575 Dominion Ave\, Midland\, ON\, L4R1R2\, Canada
CATEGORIES:in-person,Mamaway Wiidokdaadwin
ATTACH;FMTTYPE=image/png:https://mamaway.ca/wp-content/uploads/2026/03/Midland-Walking-Group-1.png
ORGANIZER;CN="Chris Walser%2C Land Based Healing Coordinator":MAILTO:cwalser@banac.on.ca
END:VEVENT
BEGIN:VEVENT
DTSTART;TZID=America/Toronto:20260810T100000
DTEND;TZID=America/Toronto:20260810T230000
DTSTAMP:20260420T034048
CREATED:20260327T191835Z
LAST-MODIFIED:20260327T191835Z
UID:10005556-1786356000-1786402800@mamaway.ca
SUMMARY:Midland walking group
DESCRIPTION:Come and join Chris and Katy for a walk along Midland’s water front. We will meet at the Midland town dock at 9:45 am and walk for 45 minutes to an hour.
URL:https://mamaway.ca/event/midland-walking-group/2026-08-10/
LOCATION:Midland Town Dock\, 575 Dominion Ave\, Midland\, ON\, L4R1R2\, Canada
CATEGORIES:in-person,Mamaway Wiidokdaadwin
ATTACH;FMTTYPE=image/png:https://mamaway.ca/wp-content/uploads/2026/03/Midland-Walking-Group-1.png
ORGANIZER;CN="Chris Walser%2C Land Based Healing Coordinator":MAILTO:cwalser@banac.on.ca
END:VEVENT
BEGIN:VEVENT
DTSTART;TZID=America/Toronto:20260817T100000
DTEND;TZID=America/Toronto:20260817T230000
DTSTAMP:20260420T034048
CREATED:20260327T191835Z
LAST-MODIFIED:20260327T191835Z
UID:10005557-1786960800-1787007600@mamaway.ca
SUMMARY:Midland walking group
DESCRIPTION:Come and join Chris and Katy for a walk along Midland’s water front. We will meet at the Midland town dock at 9:45 am and walk for 45 minutes to an hour.
URL:https://mamaway.ca/event/midland-walking-group/2026-08-17/
LOCATION:Midland Town Dock\, 575 Dominion Ave\, Midland\, ON\, L4R1R2\, Canada
CATEGORIES:in-person,Mamaway Wiidokdaadwin
ATTACH;FMTTYPE=image/png:https://mamaway.ca/wp-content/uploads/2026/03/Midland-Walking-Group-1.png
ORGANIZER;CN="Chris Walser%2C Land Based Healing Coordinator":MAILTO:cwalser@banac.on.ca
END:VEVENT
BEGIN:VEVENT
DTSTART;TZID=America/Toronto:20260824T100000
DTEND;TZID=America/Toronto:20260824T230000
DTSTAMP:20260420T034048
CREATED:20260327T191835Z
LAST-MODIFIED:20260327T191835Z
UID:10005558-1787565600-1787612400@mamaway.ca
SUMMARY:Midland walking group
DESCRIPTION:Come and join Chris and Katy for a walk along Midland’s water front. We will meet at the Midland town dock at 9:45 am and walk for 45 minutes to an hour.
URL:https://mamaway.ca/event/midland-walking-group/2026-08-24/
LOCATION:Midland Town Dock\, 575 Dominion Ave\, Midland\, ON\, L4R1R2\, Canada
CATEGORIES:in-person,Mamaway Wiidokdaadwin
ATTACH;FMTTYPE=image/png:https://mamaway.ca/wp-content/uploads/2026/03/Midland-Walking-Group-1.png
ORGANIZER;CN="Chris Walser%2C Land Based Healing Coordinator":MAILTO:cwalser@banac.on.ca
END:VEVENT
BEGIN:VEVENT
DTSTART;TZID=America/Toronto:20260831T100000
DTEND;TZID=America/Toronto:20260831T230000
DTSTAMP:20260420T034048
CREATED:20260327T191835Z
LAST-MODIFIED:20260327T191835Z
UID:10005559-1788170400-1788217200@mamaway.ca
SUMMARY:Midland walking group
DESCRIPTION:Come and join Chris and Katy for a walk along Midland’s water front. We will meet at the Midland town dock at 9:45 am and walk for 45 minutes to an hour.
URL:https://mamaway.ca/event/midland-walking-group/2026-08-31/
LOCATION:Midland Town Dock\, 575 Dominion Ave\, Midland\, ON\, L4R1R2\, Canada
CATEGORIES:in-person,Mamaway Wiidokdaadwin
ATTACH;FMTTYPE=image/png:https://mamaway.ca/wp-content/uploads/2026/03/Midland-Walking-Group-1.png
ORGANIZER;CN="Chris Walser%2C Land Based Healing Coordinator":MAILTO:cwalser@banac.on.ca
END:VEVENT
BEGIN:VEVENT
DTSTART;TZID=America/Toronto:20260907T100000
DTEND;TZID=America/Toronto:20260907T230000
DTSTAMP:20260420T034048
CREATED:20260327T191835Z
LAST-MODIFIED:20260327T191835Z
UID:10005560-1788775200-1788822000@mamaway.ca
SUMMARY:Midland walking group
DESCRIPTION:Come and join Chris and Katy for a walk along Midland’s water front. We will meet at the Midland town dock at 9:45 am and walk for 45 minutes to an hour.
URL:https://mamaway.ca/event/midland-walking-group/2026-09-07/
LOCATION:Midland Town Dock\, 575 Dominion Ave\, Midland\, ON\, L4R1R2\, Canada
CATEGORIES:in-person,Mamaway Wiidokdaadwin
ATTACH;FMTTYPE=image/png:https://mamaway.ca/wp-content/uploads/2026/03/Midland-Walking-Group-1.png
ORGANIZER;CN="Chris Walser%2C Land Based Healing Coordinator":MAILTO:cwalser@banac.on.ca
END:VEVENT
BEGIN:VEVENT
DTSTART;TZID=America/Toronto:20260914T100000
DTEND;TZID=America/Toronto:20260914T230000
DTSTAMP:20260420T034048
CREATED:20260327T191835Z
LAST-MODIFIED:20260327T191835Z
UID:10005561-1789380000-1789426800@mamaway.ca
SUMMARY:Midland walking group
DESCRIPTION:Come and join Chris and Katy for a walk along Midland’s water front. We will meet at the Midland town dock at 9:45 am and walk for 45 minutes to an hour.
URL:https://mamaway.ca/event/midland-walking-group/2026-09-14/
LOCATION:Midland Town Dock\, 575 Dominion Ave\, Midland\, ON\, L4R1R2\, Canada
CATEGORIES:in-person,Mamaway Wiidokdaadwin
ATTACH;FMTTYPE=image/png:https://mamaway.ca/wp-content/uploads/2026/03/Midland-Walking-Group-1.png
ORGANIZER;CN="Chris Walser%2C Land Based Healing Coordinator":MAILTO:cwalser@banac.on.ca
END:VEVENT
BEGIN:VEVENT
DTSTART;TZID=America/Toronto:20260921T100000
DTEND;TZID=America/Toronto:20260921T230000
DTSTAMP:20260420T034048
CREATED:20260327T191835Z
LAST-MODIFIED:20260327T191835Z
UID:10005562-1789984800-1790031600@mamaway.ca
SUMMARY:Midland walking group
DESCRIPTION:Come and join Chris and Katy for a walk along Midland’s water front. We will meet at the Midland town dock at 9:45 am and walk for 45 minutes to an hour.
URL:https://mamaway.ca/event/midland-walking-group/2026-09-21/
LOCATION:Midland Town Dock\, 575 Dominion Ave\, Midland\, ON\, L4R1R2\, Canada
CATEGORIES:in-person,Mamaway Wiidokdaadwin
ATTACH;FMTTYPE=image/png:https://mamaway.ca/wp-content/uploads/2026/03/Midland-Walking-Group-1.png
ORGANIZER;CN="Chris Walser%2C Land Based Healing Coordinator":MAILTO:cwalser@banac.on.ca
END:VEVENT
BEGIN:VEVENT
DTSTART;TZID=America/Toronto:20260928T100000
DTEND;TZID=America/Toronto:20260928T230000
DTSTAMP:20260420T034048
CREATED:20260327T191835Z
LAST-MODIFIED:20260327T191835Z
UID:10005563-1790589600-1790636400@mamaway.ca
SUMMARY:Midland walking group
DESCRIPTION:Come and join Chris and Katy for a walk along Midland’s water front. We will meet at the Midland town dock at 9:45 am and walk for 45 minutes to an hour.
URL:https://mamaway.ca/event/midland-walking-group/2026-09-28/
LOCATION:Midland Town Dock\, 575 Dominion Ave\, Midland\, ON\, L4R1R2\, Canada
CATEGORIES:in-person,Mamaway Wiidokdaadwin
ATTACH;FMTTYPE=image/png:https://mamaway.ca/wp-content/uploads/2026/03/Midland-Walking-Group-1.png
ORGANIZER;CN="Chris Walser%2C Land Based Healing Coordinator":MAILTO:cwalser@banac.on.ca
END:VEVENT
BEGIN:VEVENT
DTSTART;TZID=America/Toronto:20261005T100000
DTEND;TZID=America/Toronto:20261005T230000
DTSTAMP:20260420T034048
CREATED:20260327T191835Z
LAST-MODIFIED:20260327T191835Z
UID:10005564-1791194400-1791241200@mamaway.ca
SUMMARY:Midland walking group
DESCRIPTION:Come and join Chris and Katy for a walk along Midland’s water front. We will meet at the Midland town dock at 9:45 am and walk for 45 minutes to an hour.
URL:https://mamaway.ca/event/midland-walking-group/2026-10-05/
LOCATION:Midland Town Dock\, 575 Dominion Ave\, Midland\, ON\, L4R1R2\, Canada
CATEGORIES:in-person,Mamaway Wiidokdaadwin
ATTACH;FMTTYPE=image/png:https://mamaway.ca/wp-content/uploads/2026/03/Midland-Walking-Group-1.png
ORGANIZER;CN="Chris Walser%2C Land Based Healing Coordinator":MAILTO:cwalser@banac.on.ca
END:VEVENT
BEGIN:VEVENT
DTSTART;TZID=America/Toronto:20261012T100000
DTEND;TZID=America/Toronto:20261012T230000
DTSTAMP:20260420T034048
CREATED:20260327T191835Z
LAST-MODIFIED:20260327T191835Z
UID:10005565-1791799200-1791846000@mamaway.ca
SUMMARY:Midland walking group
DESCRIPTION:Come and join Chris and Katy for a walk along Midland’s water front. We will meet at the Midland town dock at 9:45 am and walk for 45 minutes to an hour.
URL:https://mamaway.ca/event/midland-walking-group/2026-10-12/
LOCATION:Midland Town Dock\, 575 Dominion Ave\, Midland\, ON\, L4R1R2\, Canada
CATEGORIES:in-person,Mamaway Wiidokdaadwin
ATTACH;FMTTYPE=image/png:https://mamaway.ca/wp-content/uploads/2026/03/Midland-Walking-Group-1.png
ORGANIZER;CN="Chris Walser%2C Land Based Healing Coordinator":MAILTO:cwalser@banac.on.ca
END:VEVENT
BEGIN:VEVENT
DTSTART;TZID=America/Toronto:20261019T100000
DTEND;TZID=America/Toronto:20261019T230000
DTSTAMP:20260420T034048
CREATED:20260327T191835Z
LAST-MODIFIED:20260327T191835Z
UID:10005566-1792404000-1792450800@mamaway.ca
SUMMARY:Midland walking group
DESCRIPTION:Come and join Chris and Katy for a walk along Midland’s water front. We will meet at the Midland town dock at 9:45 am and walk for 45 minutes to an hour.
URL:https://mamaway.ca/event/midland-walking-group/2026-10-19/
LOCATION:Midland Town Dock\, 575 Dominion Ave\, Midland\, ON\, L4R1R2\, Canada
CATEGORIES:in-person,Mamaway Wiidokdaadwin
ATTACH;FMTTYPE=image/png:https://mamaway.ca/wp-content/uploads/2026/03/Midland-Walking-Group-1.png
ORGANIZER;CN="Chris Walser%2C Land Based Healing Coordinator":MAILTO:cwalser@banac.on.ca
END:VEVENT
BEGIN:VEVENT
DTSTART;TZID=America/Toronto:20261026T100000
DTEND;TZID=America/Toronto:20261026T230000
DTSTAMP:20260420T034048
CREATED:20260327T191835Z
LAST-MODIFIED:20260327T191835Z
UID:10005567-1793008800-1793055600@mamaway.ca
SUMMARY:Midland walking group
DESCRIPTION:Come and join Chris and Katy for a walk along Midland’s water front. We will meet at the Midland town dock at 9:45 am and walk for 45 minutes to an hour.
URL:https://mamaway.ca/event/midland-walking-group/2026-10-26/
LOCATION:Midland Town Dock\, 575 Dominion Ave\, Midland\, ON\, L4R1R2\, Canada
CATEGORIES:in-person,Mamaway Wiidokdaadwin
ATTACH;FMTTYPE=image/png:https://mamaway.ca/wp-content/uploads/2026/03/Midland-Walking-Group-1.png
ORGANIZER;CN="Chris Walser%2C Land Based Healing Coordinator":MAILTO:cwalser@banac.on.ca
END:VEVENT
BEGIN:VEVENT
DTSTART;TZID=America/Toronto:20261102T100000
DTEND;TZID=America/Toronto:20261102T230000
DTSTAMP:20260420T034048
CREATED:20260327T191835Z
LAST-MODIFIED:20260327T191835Z
UID:10005568-1793613600-1793660400@mamaway.ca
SUMMARY:Midland walking group
DESCRIPTION:Come and join Chris and Katy for a walk along Midland’s water front. We will meet at the Midland town dock at 9:45 am and walk for 45 minutes to an hour.
URL:https://mamaway.ca/event/midland-walking-group/2026-11-02/
LOCATION:Midland Town Dock\, 575 Dominion Ave\, Midland\, ON\, L4R1R2\, Canada
CATEGORIES:in-person,Mamaway Wiidokdaadwin
ATTACH;FMTTYPE=image/png:https://mamaway.ca/wp-content/uploads/2026/03/Midland-Walking-Group-1.png
ORGANIZER;CN="Chris Walser%2C Land Based Healing Coordinator":MAILTO:cwalser@banac.on.ca
END:VEVENT
BEGIN:VEVENT
DTSTART;TZID=America/Toronto:20261109T100000
DTEND;TZID=America/Toronto:20261109T230000
DTSTAMP:20260420T034048
CREATED:20260327T191835Z
LAST-MODIFIED:20260327T191835Z
UID:10005569-1794218400-1794265200@mamaway.ca
SUMMARY:Midland walking group
DESCRIPTION:Come and join Chris and Katy for a walk along Midland’s water front. We will meet at the Midland town dock at 9:45 am and walk for 45 minutes to an hour.
URL:https://mamaway.ca/event/midland-walking-group/2026-11-09/
LOCATION:Midland Town Dock\, 575 Dominion Ave\, Midland\, ON\, L4R1R2\, Canada
CATEGORIES:in-person,Mamaway Wiidokdaadwin
ATTACH;FMTTYPE=image/png:https://mamaway.ca/wp-content/uploads/2026/03/Midland-Walking-Group-1.png
ORGANIZER;CN="Chris Walser%2C Land Based Healing Coordinator":MAILTO:cwalser@banac.on.ca
END:VEVENT
BEGIN:VEVENT
DTSTART;TZID=America/Toronto:20261116T100000
DTEND;TZID=America/Toronto:20261116T230000
DTSTAMP:20260420T034048
CREATED:20260327T191835Z
LAST-MODIFIED:20260327T191835Z
UID:10005570-1794823200-1794870000@mamaway.ca
SUMMARY:Midland walking group
DESCRIPTION:Come and join Chris and Katy for a walk along Midland’s water front. We will meet at the Midland town dock at 9:45 am and walk for 45 minutes to an hour.
URL:https://mamaway.ca/event/midland-walking-group/2026-11-16/
LOCATION:Midland Town Dock\, 575 Dominion Ave\, Midland\, ON\, L4R1R2\, Canada
CATEGORIES:in-person,Mamaway Wiidokdaadwin
ATTACH;FMTTYPE=image/png:https://mamaway.ca/wp-content/uploads/2026/03/Midland-Walking-Group-1.png
ORGANIZER;CN="Chris Walser%2C Land Based Healing Coordinator":MAILTO:cwalser@banac.on.ca
END:VEVENT
BEGIN:VEVENT
DTSTART;TZID=America/Toronto:20261123T100000
DTEND;TZID=America/Toronto:20261123T230000
DTSTAMP:20260420T034048
CREATED:20260327T191835Z
LAST-MODIFIED:20260327T191835Z
UID:10005571-1795428000-1795474800@mamaway.ca
SUMMARY:Midland walking group
DESCRIPTION:Come and join Chris and Katy for a walk along Midland’s water front. We will meet at the Midland town dock at 9:45 am and walk for 45 minutes to an hour.
URL:https://mamaway.ca/event/midland-walking-group/2026-11-23/
LOCATION:Midland Town Dock\, 575 Dominion Ave\, Midland\, ON\, L4R1R2\, Canada
CATEGORIES:in-person,Mamaway Wiidokdaadwin
ATTACH;FMTTYPE=image/png:https://mamaway.ca/wp-content/uploads/2026/03/Midland-Walking-Group-1.png
ORGANIZER;CN="Chris Walser%2C Land Based Healing Coordinator":MAILTO:cwalser@banac.on.ca
END:VEVENT
BEGIN:VEVENT
DTSTART;TZID=America/Toronto:20261130T100000
DTEND;TZID=America/Toronto:20261130T230000
DTSTAMP:20260420T034048
CREATED:20260327T191835Z
LAST-MODIFIED:20260327T191835Z
UID:10005572-1796032800-1796079600@mamaway.ca
SUMMARY:Midland walking group
DESCRIPTION:Come and join Chris and Katy for a walk along Midland’s water front. We will meet at the Midland town dock at 9:45 am and walk for 45 minutes to an hour.
URL:https://mamaway.ca/event/midland-walking-group/2026-11-30/
LOCATION:Midland Town Dock\, 575 Dominion Ave\, Midland\, ON\, L4R1R2\, Canada
CATEGORIES:in-person,Mamaway Wiidokdaadwin
ATTACH;FMTTYPE=image/png:https://mamaway.ca/wp-content/uploads/2026/03/Midland-Walking-Group-1.png
ORGANIZER;CN="Chris Walser%2C Land Based Healing Coordinator":MAILTO:cwalser@banac.on.ca
END:VEVENT
END:VCALENDAR