BEGIN:VCALENDAR
VERSION:2.0
PRODID:-//Mamaway Wiidokdaadwin - ECPv6.15.12//NONSGML v1.0//EN
CALSCALE:GREGORIAN
METHOD:PUBLISH
X-WR-CALNAME:Mamaway Wiidokdaadwin
X-ORIGINAL-URL:https://mamaway.ca
X-WR-CALDESC:Events for Mamaway Wiidokdaadwin
REFRESH-INTERVAL;VALUE=DURATION:PT1H
X-Robots-Tag:noindex
X-PUBLISHED-TTL:PT1H
BEGIN:VTIMEZONE
TZID:America/Toronto
BEGIN:DAYLIGHT
TZOFFSETFROM:-0500
TZOFFSETTO:-0400
TZNAME:EDT
DTSTART:20250309T070000
END:DAYLIGHT
BEGIN:STANDARD
TZOFFSETFROM:-0400
TZOFFSETTO:-0500
TZNAME:EST
DTSTART:20251102T060000
END:STANDARD
BEGIN:DAYLIGHT
TZOFFSETFROM:-0500
TZOFFSETTO:-0400
TZNAME:EDT
DTSTART:20260308T070000
END:DAYLIGHT
BEGIN:STANDARD
TZOFFSETFROM:-0400
TZOFFSETTO:-0500
TZNAME:EST
DTSTART:20261101T060000
END:STANDARD
BEGIN:DAYLIGHT
TZOFFSETFROM:-0500
TZOFFSETTO:-0400
TZNAME:EDT
DTSTART:20270314T070000
END:DAYLIGHT
BEGIN:STANDARD
TZOFFSETFROM:-0400
TZOFFSETTO:-0500
TZNAME:EST
DTSTART:20271107T060000
END:STANDARD
END:VTIMEZONE
BEGIN:VEVENT
DTSTART;TZID=America/Toronto:20260410T130000
DTEND;TZID=America/Toronto:20260410T150000
DTSTAMP:20260419T223238
CREATED:20260310T155846Z
LAST-MODIFIED:20260310T155846Z
UID:10005538-1775826000-1775833200@mamaway.ca
SUMMARY:Indigenous Pathways to a Healthy Diet
DESCRIPTION:Indigenous Pathways to a Healthy Diet. Understanding and healing your body’s relationship with food \nwould like to announce we are partnering with Bridget Foley (Anung Kwe) of Babaamaazkonenjike Counselling Service to bring to you a 4 hour workshop to help address the dietary needs of indigenous people. Using a two eyed seeing approach to weight loss\, Bridget shares knowledge on how to fuel the body to decrease cravings\, achieve sustainable weight loss\, and address self sabotaging thoughts and behaviors\, while promoting balanced living that incorporates indigenous knowledge and teachings. \nDate: April 10th\nTime: 1pm to 3pm\nLocation: Midland \nRegister for this workshop by clicking here –>  Indigenous Pathways to a Healthy Diet April 10 \nChi Miigwech and Baa Maa Pii.
URL:https://mamaway.ca/event/indigenous-pathways-to-a-healthy-diet-3/
LOCATION:562 King St\, Midland ON\, 562 King St\, Midland\, Ontario\, L4R 4P3\, Canada
CATEGORIES:Mamaway Wiidokdaadwin
ATTACH;FMTTYPE=image/png:https://mamaway.ca/wp-content/uploads/2026/03/IPHD-April-10-2026-scaled.png
ORGANIZER;CN="Bawd Elliott":MAILTO:belliott@banac.on.ca
END:VEVENT
END:VCALENDAR