BEGIN:VCALENDAR
VERSION:2.0
PRODID:-//Mamaway Wiidokdaadwin - ECPv6.15.12//NONSGML v1.0//EN
CALSCALE:GREGORIAN
METHOD:PUBLISH
X-ORIGINAL-URL:https://mamaway.ca
X-WR-CALDESC:Events for Mamaway Wiidokdaadwin
REFRESH-INTERVAL;VALUE=DURATION:PT1H
X-Robots-Tag:noindex
X-PUBLISHED-TTL:PT1H
BEGIN:VTIMEZONE
TZID:America/Toronto
BEGIN:DAYLIGHT
TZOFFSETFROM:-0500
TZOFFSETTO:-0400
TZNAME:EDT
DTSTART:20240310T070000
END:DAYLIGHT
BEGIN:STANDARD
TZOFFSETFROM:-0400
TZOFFSETTO:-0500
TZNAME:EST
DTSTART:20241103T060000
END:STANDARD
BEGIN:DAYLIGHT
TZOFFSETFROM:-0500
TZOFFSETTO:-0400
TZNAME:EDT
DTSTART:20250309T070000
END:DAYLIGHT
BEGIN:STANDARD
TZOFFSETFROM:-0400
TZOFFSETTO:-0500
TZNAME:EST
DTSTART:20251102T060000
END:STANDARD
BEGIN:DAYLIGHT
TZOFFSETFROM:-0500
TZOFFSETTO:-0400
TZNAME:EDT
DTSTART:20260308T070000
END:DAYLIGHT
BEGIN:STANDARD
TZOFFSETFROM:-0400
TZOFFSETTO:-0500
TZNAME:EST
DTSTART:20261101T060000
END:STANDARD
END:VTIMEZONE
BEGIN:VEVENT
DTSTART;TZID=America/Toronto:20250409T090000
DTEND;TZID=America/Toronto:20250409T160000
DTSTAMP:20260424T224431
CREATED:20250113T183510Z
LAST-MODIFIED:20250403T200230Z
UID:10003520-1744189200-1744214400@mamaway.ca
SUMMARY:TH John Rice; Sessions' (Elder/ Traditional Healing Counsellor )
DESCRIPTION:Please contact our clinic closest to you to make a referral \nBarrie Clinic Location \n125 Bell Farm Rd\, Suite 200\nHours: 8:00am – 4:00pm\nPhone: 705-721-9554\nFax: 855-941-2529 \nOrillia Clinic Location \n210 Memorial Ave\, Unit 112A&B\nHours: 8:00am – 4:00pm\nPhone: 705-259-9520\nFax: 855-941-2531 \nThis session is being held in the Mamaway Wiidokdaadwin Barrie Clinic while offering 1-1 Healing Sessions with John Rice\, sharing traditional teachings and offering counselling. \nMore about Elder\, John Rice: \nZahgausgai “Sun Ray”\, Mukwa “Bear Clan”\, is an Ojibwa and a 3rd Degree member of the Three Fires Midewiwin Society. John’s home community is Wasauksing First Nation near Parry Sound\, Ontario. John’s childhood was rich in stories of his people; his Midewiwin Education began in 1982 and is ongoing. He has made it a life passion to study the “Mlikaans” Teachings which are about the whole development of the human before\, during and after life. John is a Storyteller\, Big Drum Carrier\, Ceremonialist\, Singer and Dancer. His greatest joy is watching Ojibwa youth learn and practice the culture. John generously shares his knowledge throughout the Ontario region. He currently works as part of the Early Psychosis Intervention Team at Canadian Mental Health Association in Barrie\, Ontario as a Healer. His past work experience includes work as the Elder/Healer at the Mental Health Centre in Penetanguishene and Fenbrook Medium Institution near Gravenhurst\, Ontario. He has lectured part time at Georgian College in Barrie. John travels internationally and is a well-respected teacher and elder in the Anishinaabe Nation.
URL:https://mamaway.ca/event/th-john-rice-sessions-elder-traditional-healing-counsellor/
LOCATION:Barrie Mamaway Wiidokdaadwin\, 125 Bell Farm Suite 200\, Barrie\, Ontario\, L4M6L2\, Canada
CATEGORIES:in-person,Mamaway Wiidokdaadwin
END:VEVENT
END:VCALENDAR