BEGIN:VCALENDAR
VERSION:2.0
PRODID:-//Mamaway Wiidokdaadwin - ECPv6.15.12//NONSGML v1.0//EN
CALSCALE:GREGORIAN
METHOD:PUBLISH
X-WR-CALNAME:Mamaway Wiidokdaadwin
X-ORIGINAL-URL:https://mamaway.ca
X-WR-CALDESC:Events for Mamaway Wiidokdaadwin
REFRESH-INTERVAL;VALUE=DURATION:PT1H
X-Robots-Tag:noindex
X-PUBLISHED-TTL:PT1H
BEGIN:VTIMEZONE
TZID:America/Toronto
BEGIN:DAYLIGHT
TZOFFSETFROM:-0500
TZOFFSETTO:-0400
TZNAME:EDT
DTSTART:20250309T070000
END:DAYLIGHT
BEGIN:STANDARD
TZOFFSETFROM:-0400
TZOFFSETTO:-0500
TZNAME:EST
DTSTART:20251102T060000
END:STANDARD
BEGIN:DAYLIGHT
TZOFFSETFROM:-0500
TZOFFSETTO:-0400
TZNAME:EDT
DTSTART:20260308T070000
END:DAYLIGHT
BEGIN:STANDARD
TZOFFSETFROM:-0400
TZOFFSETTO:-0500
TZNAME:EST
DTSTART:20261101T060000
END:STANDARD
BEGIN:DAYLIGHT
TZOFFSETFROM:-0500
TZOFFSETTO:-0400
TZNAME:EDT
DTSTART:20270314T070000
END:DAYLIGHT
BEGIN:STANDARD
TZOFFSETFROM:-0400
TZOFFSETTO:-0500
TZNAME:EST
DTSTART:20271107T060000
END:STANDARD
END:VTIMEZONE
BEGIN:VEVENT
DTSTART;TZID=America/Toronto:20260601T100000
DTEND;TZID=America/Toronto:20260601T230000
DTSTAMP:20260420T002157
CREATED:20260327T191835Z
LAST-MODIFIED:20260327T191835Z
UID:10005546-1780308000-1780354800@mamaway.ca
SUMMARY:Midland walking group
DESCRIPTION:Come and join Chris and Katy for a walk along Midland’s water front. We will meet at the Midland town dock at 9:45 am and walk for 45 minutes to an hour.
URL:https://mamaway.ca/event/midland-walking-group/2026-06-01/
LOCATION:Midland Town Dock\, 575 Dominion Ave\, Midland\, ON\, L4R1R2\, Canada
CATEGORIES:in-person,Mamaway Wiidokdaadwin
ATTACH;FMTTYPE=image/png:https://mamaway.ca/wp-content/uploads/2026/03/Midland-Walking-Group-1.png
ORGANIZER;CN="Chris Walser%2C Land Based Healing Coordinator":MAILTO:cwalser@banac.on.ca
END:VEVENT
BEGIN:VEVENT
DTSTART;TZID=America/Toronto:20260602T100000
DTEND;TZID=America/Toronto:20260602T140000
DTSTAMP:20260420T002157
CREATED:20260417T152114Z
LAST-MODIFIED:20260417T152237Z
UID:10005794-1780394400-1780408800@mamaway.ca
SUMMARY:Building Our Bundles: Uplifting Your Spirit 6-week Series
DESCRIPTION:Join Mamaway Wiidokdaadwin Life Promoters Courtney Thomas for Building Our Bundles: Uplifting Your Spirit 6-week Series! \nThis series will provide a safe and supportive space to connect with other community members and explore a range of topics related to cultural teachings and building your own bundle. By participating in the program\, it will provide you with the tools and resources you need to help you live a good life! \nHere is the breakdown of the 6-week Series and what we will be doing each week: \n\nWeek 1: What’s in Your Bundle?: What is a bundle? Bundle teachings.\n\n\nWeek 2: Four Sacred Medicines: Teachings about the four sacred medicines and harvesting.\n\n\nWeek 3: Shaker: What are shakers for?\n\n\nWeek 4: Eagle Feather Teachings: Eagle feather dressing and teachings.\n\n\nWeek 5: Ribbon Skirt/Shirt Teachings: Why do we wear ribbon skirts and ribbon skirts? \n\n\nWeek 6: Feast Your Bundles: Potluck Feast! Bring your favorite dish to share!\n\nThroughout the 6 weeks\, participants will make a bundle bag\, smudge kit\, medicine bags\, dress a feather\, a feather case\,  a shaker\, ribbon skirts/shirts and lastly\, bring their favorite dish to feast their bundles. \nThe series will run every Tuesday from 10:00am – 2:00pm in Orillia. \nClick link to register: https://survey.alchemer-ca.com/s3/50560302/Building-Our-Bundles-Uplifting-Your-Spirit-Q1-2026 \nIf you have any questions\, please reach out to Courtney Thomas at cthomas@banac.on.ca or 705-795-3371
URL:https://mamaway.ca/event/building-our-bundles-uplifting-your-spirit-6-week-series/2026-06-02/
LOCATION:110 Matchedash St. N.\, 110 Matchedash St.\, N\, Orillia\, ON\, L3V 4T8\, Canada
CATEGORIES:in-person,Mamaway Wiidokdaadwin
ATTACH;FMTTYPE=image/jpeg:https://mamaway.ca/wp-content/uploads/2026/04/Building-Our-Bundles-Series-Q1-2026-Flyer-.jpg
ORGANIZER;CN="Courtney Thomas":MAILTO:cthomas@banac.on.ca
END:VEVENT
BEGIN:VEVENT
DTSTART;TZID=America/Toronto:20260603T183000
DTEND;TZID=America/Toronto:20260603T200000
DTSTAMP:20260420T002158
CREATED:20260415T204457Z
LAST-MODIFIED:20260415T204457Z
UID:10005823-1780511400-1780516800@mamaway.ca
SUMMARY:Virtual Haudenosaunee Thanksgiving Teachings with Hohahes Leroy Hill
DESCRIPTION:Mamaway Wiidokdaadwin’s Life Promoter Courtney Thomas invites you to join us virtually for Haudenosaunee Thanksgiving Teachings with Hohahes Leroy Hill on Wednesday\, June 3rd\, 2026 from 6:30 pm – 8:00 pm! \nZoom Link will be shared upon registration! (Please check your junk and/or spam mail if you have not received the link) \nPlease register here: https://survey.alchemer-ca.com/s3/50560473/Virtual-Haudenosaunee-Thanksgiving-Teachings-with-Leroy-Jock-Hill \nIf you have any questions\, please reach out to Courtney Thomas at cthomas@banac.on.ca or 705-795-3371
URL:https://mamaway.ca/event/virtual-haudenosaunee-thanksgiving-teachings-with-hohahes-leroy-hill/
LOCATION:ON
CATEGORIES:Mamaway Wiidokdaadwin,Virtual Event Offering
ATTACH;FMTTYPE=image/jpeg:https://mamaway.ca/wp-content/uploads/2026/04/Haudenosaunee-Teachings-with-Jock-Hill-June-2026.jpg
ORGANIZER;CN="Courtney Thomas":MAILTO:cthomas@banac.on.ca
END:VEVENT
BEGIN:VEVENT
DTSTART;TZID=America/Toronto:20260608T100000
DTEND;TZID=America/Toronto:20260608T230000
DTSTAMP:20260420T002158
CREATED:20260327T191835Z
LAST-MODIFIED:20260327T191835Z
UID:10005547-1780912800-1780959600@mamaway.ca
SUMMARY:Midland walking group
DESCRIPTION:Come and join Chris and Katy for a walk along Midland’s water front. We will meet at the Midland town dock at 9:45 am and walk for 45 minutes to an hour.
URL:https://mamaway.ca/event/midland-walking-group/2026-06-08/
LOCATION:Midland Town Dock\, 575 Dominion Ave\, Midland\, ON\, L4R1R2\, Canada
CATEGORIES:in-person,Mamaway Wiidokdaadwin
ATTACH;FMTTYPE=image/png:https://mamaway.ca/wp-content/uploads/2026/03/Midland-Walking-Group-1.png
ORGANIZER;CN="Chris Walser%2C Land Based Healing Coordinator":MAILTO:cwalser@banac.on.ca
END:VEVENT
BEGIN:VEVENT
DTSTART;TZID=America/Toronto:20260609T100000
DTEND;TZID=America/Toronto:20260609T140000
DTSTAMP:20260420T002158
CREATED:20260417T152114Z
LAST-MODIFIED:20260417T152237Z
UID:10005795-1780999200-1781013600@mamaway.ca
SUMMARY:Building Our Bundles: Uplifting Your Spirit 6-week Series
DESCRIPTION:Join Mamaway Wiidokdaadwin Life Promoters Courtney Thomas for Building Our Bundles: Uplifting Your Spirit 6-week Series! \nThis series will provide a safe and supportive space to connect with other community members and explore a range of topics related to cultural teachings and building your own bundle. By participating in the program\, it will provide you with the tools and resources you need to help you live a good life! \nHere is the breakdown of the 6-week Series and what we will be doing each week: \n\nWeek 1: What’s in Your Bundle?: What is a bundle? Bundle teachings.\n\n\nWeek 2: Four Sacred Medicines: Teachings about the four sacred medicines and harvesting.\n\n\nWeek 3: Shaker: What are shakers for?\n\n\nWeek 4: Eagle Feather Teachings: Eagle feather dressing and teachings.\n\n\nWeek 5: Ribbon Skirt/Shirt Teachings: Why do we wear ribbon skirts and ribbon skirts? \n\n\nWeek 6: Feast Your Bundles: Potluck Feast! Bring your favorite dish to share!\n\nThroughout the 6 weeks\, participants will make a bundle bag\, smudge kit\, medicine bags\, dress a feather\, a feather case\,  a shaker\, ribbon skirts/shirts and lastly\, bring their favorite dish to feast their bundles. \nThe series will run every Tuesday from 10:00am – 2:00pm in Orillia. \nClick link to register: https://survey.alchemer-ca.com/s3/50560302/Building-Our-Bundles-Uplifting-Your-Spirit-Q1-2026 \nIf you have any questions\, please reach out to Courtney Thomas at cthomas@banac.on.ca or 705-795-3371
URL:https://mamaway.ca/event/building-our-bundles-uplifting-your-spirit-6-week-series/2026-06-09/
LOCATION:110 Matchedash St. N.\, 110 Matchedash St.\, N\, Orillia\, ON\, L3V 4T8\, Canada
CATEGORIES:in-person,Mamaway Wiidokdaadwin
ATTACH;FMTTYPE=image/jpeg:https://mamaway.ca/wp-content/uploads/2026/04/Building-Our-Bundles-Series-Q1-2026-Flyer-.jpg
ORGANIZER;CN="Courtney Thomas":MAILTO:cthomas@banac.on.ca
END:VEVENT
BEGIN:VEVENT
DTSTART;TZID=America/Toronto:20260615T100000
DTEND;TZID=America/Toronto:20260615T230000
DTSTAMP:20260420T002158
CREATED:20260327T191835Z
LAST-MODIFIED:20260327T191835Z
UID:10005548-1781517600-1781564400@mamaway.ca
SUMMARY:Midland walking group
DESCRIPTION:Come and join Chris and Katy for a walk along Midland’s water front. We will meet at the Midland town dock at 9:45 am and walk for 45 minutes to an hour.
URL:https://mamaway.ca/event/midland-walking-group/2026-06-15/
LOCATION:Midland Town Dock\, 575 Dominion Ave\, Midland\, ON\, L4R1R2\, Canada
CATEGORIES:in-person,Mamaway Wiidokdaadwin
ATTACH;FMTTYPE=image/png:https://mamaway.ca/wp-content/uploads/2026/03/Midland-Walking-Group-1.png
ORGANIZER;CN="Chris Walser%2C Land Based Healing Coordinator":MAILTO:cwalser@banac.on.ca
END:VEVENT
BEGIN:VEVENT
DTSTART;TZID=America/Toronto:20260616T100000
DTEND;TZID=America/Toronto:20260616T140000
DTSTAMP:20260420T002158
CREATED:20260417T152114Z
LAST-MODIFIED:20260417T152237Z
UID:10005796-1781604000-1781618400@mamaway.ca
SUMMARY:Building Our Bundles: Uplifting Your Spirit 6-week Series
DESCRIPTION:Join Mamaway Wiidokdaadwin Life Promoters Courtney Thomas for Building Our Bundles: Uplifting Your Spirit 6-week Series! \nThis series will provide a safe and supportive space to connect with other community members and explore a range of topics related to cultural teachings and building your own bundle. By participating in the program\, it will provide you with the tools and resources you need to help you live a good life! \nHere is the breakdown of the 6-week Series and what we will be doing each week: \n\nWeek 1: What’s in Your Bundle?: What is a bundle? Bundle teachings.\n\n\nWeek 2: Four Sacred Medicines: Teachings about the four sacred medicines and harvesting.\n\n\nWeek 3: Shaker: What are shakers for?\n\n\nWeek 4: Eagle Feather Teachings: Eagle feather dressing and teachings.\n\n\nWeek 5: Ribbon Skirt/Shirt Teachings: Why do we wear ribbon skirts and ribbon skirts? \n\n\nWeek 6: Feast Your Bundles: Potluck Feast! Bring your favorite dish to share!\n\nThroughout the 6 weeks\, participants will make a bundle bag\, smudge kit\, medicine bags\, dress a feather\, a feather case\,  a shaker\, ribbon skirts/shirts and lastly\, bring their favorite dish to feast their bundles. \nThe series will run every Tuesday from 10:00am – 2:00pm in Orillia. \nClick link to register: https://survey.alchemer-ca.com/s3/50560302/Building-Our-Bundles-Uplifting-Your-Spirit-Q1-2026 \nIf you have any questions\, please reach out to Courtney Thomas at cthomas@banac.on.ca or 705-795-3371
URL:https://mamaway.ca/event/building-our-bundles-uplifting-your-spirit-6-week-series/2026-06-16/
LOCATION:110 Matchedash St. N.\, 110 Matchedash St.\, N\, Orillia\, ON\, L3V 4T8\, Canada
CATEGORIES:in-person,Mamaway Wiidokdaadwin
ATTACH;FMTTYPE=image/jpeg:https://mamaway.ca/wp-content/uploads/2026/04/Building-Our-Bundles-Series-Q1-2026-Flyer-.jpg
ORGANIZER;CN="Courtney Thomas":MAILTO:cthomas@banac.on.ca
END:VEVENT
BEGIN:VEVENT
DTSTART;TZID=America/Toronto:20260622T100000
DTEND;TZID=America/Toronto:20260622T230000
DTSTAMP:20260420T002158
CREATED:20260327T191835Z
LAST-MODIFIED:20260327T191835Z
UID:10005549-1782122400-1782169200@mamaway.ca
SUMMARY:Midland walking group
DESCRIPTION:Come and join Chris and Katy for a walk along Midland’s water front. We will meet at the Midland town dock at 9:45 am and walk for 45 minutes to an hour.
URL:https://mamaway.ca/event/midland-walking-group/2026-06-22/
LOCATION:Midland Town Dock\, 575 Dominion Ave\, Midland\, ON\, L4R1R2\, Canada
CATEGORIES:in-person,Mamaway Wiidokdaadwin
ATTACH;FMTTYPE=image/png:https://mamaway.ca/wp-content/uploads/2026/03/Midland-Walking-Group-1.png
ORGANIZER;CN="Chris Walser%2C Land Based Healing Coordinator":MAILTO:cwalser@banac.on.ca
END:VEVENT
BEGIN:VEVENT
DTSTART;TZID=America/Toronto:20260629T100000
DTEND;TZID=America/Toronto:20260629T230000
DTSTAMP:20260420T002158
CREATED:20260327T191835Z
LAST-MODIFIED:20260327T191835Z
UID:10005550-1782727200-1782774000@mamaway.ca
SUMMARY:Midland walking group
DESCRIPTION:Come and join Chris and Katy for a walk along Midland’s water front. We will meet at the Midland town dock at 9:45 am and walk for 45 minutes to an hour.
URL:https://mamaway.ca/event/midland-walking-group/2026-06-29/
LOCATION:Midland Town Dock\, 575 Dominion Ave\, Midland\, ON\, L4R1R2\, Canada
CATEGORIES:in-person,Mamaway Wiidokdaadwin
ATTACH;FMTTYPE=image/png:https://mamaway.ca/wp-content/uploads/2026/03/Midland-Walking-Group-1.png
ORGANIZER;CN="Chris Walser%2C Land Based Healing Coordinator":MAILTO:cwalser@banac.on.ca
END:VEVENT
END:VCALENDAR