BEGIN:VCALENDAR
VERSION:2.0
PRODID:-//Mamaway Wiidokdaadwin - ECPv6.15.12//NONSGML v1.0//EN
CALSCALE:GREGORIAN
METHOD:PUBLISH
X-ORIGINAL-URL:https://mamaway.ca
X-WR-CALDESC:Events for Mamaway Wiidokdaadwin
REFRESH-INTERVAL;VALUE=DURATION:PT1H
X-Robots-Tag:noindex
X-PUBLISHED-TTL:PT1H
BEGIN:VTIMEZONE
TZID:America/Toronto
BEGIN:DAYLIGHT
TZOFFSETFROM:-0500
TZOFFSETTO:-0400
TZNAME:EDT
DTSTART:20250309T070000
END:DAYLIGHT
BEGIN:STANDARD
TZOFFSETFROM:-0400
TZOFFSETTO:-0500
TZNAME:EST
DTSTART:20251102T060000
END:STANDARD
BEGIN:DAYLIGHT
TZOFFSETFROM:-0500
TZOFFSETTO:-0400
TZNAME:EDT
DTSTART:20260308T070000
END:DAYLIGHT
BEGIN:STANDARD
TZOFFSETFROM:-0400
TZOFFSETTO:-0500
TZNAME:EST
DTSTART:20261101T060000
END:STANDARD
BEGIN:DAYLIGHT
TZOFFSETFROM:-0500
TZOFFSETTO:-0400
TZNAME:EDT
DTSTART:20270314T070000
END:DAYLIGHT
BEGIN:STANDARD
TZOFFSETFROM:-0400
TZOFFSETTO:-0500
TZNAME:EST
DTSTART:20271107T060000
END:STANDARD
END:VTIMEZONE
BEGIN:VEVENT
DTSTART;TZID=America/Toronto:20260114T093000
DTEND;TZID=America/Toronto:20260114T160000
DTSTAMP:20260422T073913
CREATED:20251219T200718Z
LAST-MODIFIED:20251219T200718Z
UID:10005433-1768383000-1768406400@mamaway.ca
SUMMARY:Ribbon Skirt/Shirt Workshop
DESCRIPTION:Join Mamaway Wiidokdaadwin Life Promoter’s\, Courtney Thomas and Bawd Elliott for a Ribbon Skirt/Shirt Workshop on Wednesday\, January 14th\, 2026\, from 9:30am – 4:00pm. \nWe have 6 spots available for Community Members who have not made a skirt or shirt with us before! \nClick here to pre-register: https://survey.alchemer-ca.com/s3/50493300/Ribbon-Skirt-Workshop-January-14-2026 \nOrillia location will be share after spots have been selected! \nIf you have any questions\, please reach out to Courtney Thomas cthomas@banac.on.ca and/or Bawd at belliott@banac.on.ca
URL:https://mamaway.ca/event/ribbon-skirt-shirt-workshop/
LOCATION:110 Matchedash St. N.\, 110 Matchedash St.\, N\, Orillia\, ON\, L3V 4T8\, Canada
CATEGORIES:in-person,Mamaway Wiidokdaadwin
ATTACH;FMTTYPE=image/jpeg:https://mamaway.ca/wp-content/uploads/2025/12/January-14-2026-Ribbon-Skirt-Workshop.jpg
ORGANIZER;CN="Courtney Thomas":MAILTO:cthomas@banac.on.ca
END:VEVENT
BEGIN:VEVENT
DTSTART;TZID=America/Toronto:20260127T100000
DTEND;TZID=America/Toronto:20260127T140000
DTSTAMP:20260422T073913
CREATED:20251219T195058Z
LAST-MODIFIED:20251219T195058Z
UID:10005399-1769508000-1769522400@mamaway.ca
SUMMARY:Building Our Bundles: Uplifting Your Spirit for Frontline Workers
DESCRIPTION:Join Mamaway Wiidokdaadwin Life Promoters Courtney Thomas and Bawd Elliott for Building Our Bundles: Uplifting Your Spirit 6-week Series! \nThis series will provide a safe and supportive space to connect with each other and explore a range of topics related to cultural teachings and building your own bundle. By participating in the program\, it will provide you with the tools and resources you need to help you live a good life! \nHere is the breakdown of the 6-week Series and what we will be doing each week: \n\nWeek 1: What’s in Your Bundle?: What is a bundle? Bundle teachings.\n\n\nWeek 2: Four Sacred Medicines: Teachings about the four sacred medicines and harvesting.\n\n\nWeek 3: Shaker: What are shakers for?\n\n\nWeek 4: Eagle Feather Teachings: Eagle feather dressing and teachings.\n\n\nWeek 5: Ribbon Skirt/Shirt Teachings: Why do we wear ribbon skirts and ribbon skirts? \n\n\nWeek 6: Feast Your Bundles: Potluck Feast! Bring your favorite dish to share!\n\nThroughout the 6 weeks\, participants will make a bundle bag\, smudge kit\, medicine bags\, dress a feather\, a feather case\,  a shaker\, ribbon skirts/shirts and lastly\, bring their favorite dish to feast their bundles. \nThe series will run every Tuesday from 10:00am – 2:00pm in Orillia. \nClick link to register: https://survey.alchemer-ca.com/s3/50491431/Building-Our-Bundles-Uplifting-Your-Spirit-Q4-2026 \nIf you have any questions\, please reach out to Courtney Thomas at cthomas@banac.on.ca or Bawd Elliott at belliott@banac.on.ca 
URL:https://mamaway.ca/event/building-our-bundles-uplifting-your-spirit-for-frontline-workers/2026-01-27/
LOCATION:110 Matchedash St. N.\, 110 Matchedash St.\, N\, Orillia\, ON\, L3V 4T8\, Canada
CATEGORIES:in-person,Mamaway Wiidokdaadwin
ATTACH;FMTTYPE=image/jpeg:https://mamaway.ca/wp-content/uploads/2025/12/Building-Our-Bundles-Series-Q4-Frontline-Worker-Flyer.jpg
ORGANIZER;CN="Courtney Thomas":MAILTO:cthomas@banac.on.ca
END:VEVENT
BEGIN:VEVENT
DTSTART;TZID=America/Toronto:20260129T100000
DTEND;TZID=America/Toronto:20260129T120000
DTSTAMP:20260422T073913
CREATED:20260108T160817Z
LAST-MODIFIED:20260128T175328Z
UID:10005446-1769680800-1769688000@mamaway.ca
SUMMARY:Snow Shoeing at Springwater Park
DESCRIPTION:Come join Chris the Land Based Healing Coordinator and Amaru from the Barrie Native Friendship Center as the lead people on a snowshoe hike through Sunnidale Park. Starting on January 29th\, 2026 at 10 am Weather Permitting. Please meet at the Dorian Parker Center Parking Area by 9:45 am.  If you don’t have your own snowshoes we have some to lend you.
URL:https://mamaway.ca/event/snow-shoeing-at-sunnidale-park-barrie/
LOCATION:Springwater Park\, 1331 ON-26\, Midhurst\, Ontario\, L0L 1X0\, Canada
CATEGORIES:in-person,Mamaway Wiidokdaadwin
ATTACH;FMTTYPE=image/png:https://mamaway.ca/wp-content/uploads/2026/01/Snow-Shoeing-2.png
ORGANIZER;CN="Chris Walser%2C Land Based Healing Coordinator":MAILTO:cwalser@banac.on.ca
END:VEVENT
END:VCALENDAR