BEGIN:VCALENDAR
VERSION:2.0
PRODID:-//Mamaway Wiidokdaadwin - ECPv6.15.12//NONSGML v1.0//EN
CALSCALE:GREGORIAN
METHOD:PUBLISH
X-WR-CALNAME:Mamaway Wiidokdaadwin
X-ORIGINAL-URL:https://mamaway.ca
X-WR-CALDESC:Events for Mamaway Wiidokdaadwin
REFRESH-INTERVAL;VALUE=DURATION:PT1H
X-Robots-Tag:noindex
X-PUBLISHED-TTL:PT1H
BEGIN:VTIMEZONE
TZID:America/Toronto
BEGIN:DAYLIGHT
TZOFFSETFROM:-0500
TZOFFSETTO:-0400
TZNAME:EDT
DTSTART:20230312T070000
END:DAYLIGHT
BEGIN:STANDARD
TZOFFSETFROM:-0400
TZOFFSETTO:-0500
TZNAME:EST
DTSTART:20231105T060000
END:STANDARD
BEGIN:DAYLIGHT
TZOFFSETFROM:-0500
TZOFFSETTO:-0400
TZNAME:EDT
DTSTART:20240310T070000
END:DAYLIGHT
BEGIN:STANDARD
TZOFFSETFROM:-0400
TZOFFSETTO:-0500
TZNAME:EST
DTSTART:20241103T060000
END:STANDARD
BEGIN:DAYLIGHT
TZOFFSETFROM:-0500
TZOFFSETTO:-0400
TZNAME:EDT
DTSTART:20250309T070000
END:DAYLIGHT
BEGIN:STANDARD
TZOFFSETFROM:-0400
TZOFFSETTO:-0500
TZNAME:EST
DTSTART:20251102T060000
END:STANDARD
END:VTIMEZONE
BEGIN:VEVENT
DTSTART;TZID=America/Toronto:20240802T080000
DTEND;TZID=America/Toronto:20240802T170000
DTSTAMP:20260425T071710
CREATED:20240516T140100Z
LAST-MODIFIED:20240516T140100Z
UID:10002468-1722585600-1722618000@mamaway.ca
SUMMARY:Yoga in Our Yurt
DESCRIPTION:Come join us for a 5 week series of Yoga in our Yurt located at Horses are Magic in Orr Lake ON. \ndates are June 28th\, July 5th\, July 12th\, Aug 2nd and Aug 9th from 1 pm – 2 pm each session.
URL:https://mamaway.ca/event/yoga-in-our-yurt/2024-08-02/
LOCATION:Horses are Magic\, 1098 Scarlett Line\, Hillsdale\, ON\, L0L 1V0\, Canada
CATEGORIES:in-person,Mamaway Wiidokdaadwin
ORGANIZER;CN="Chris Walser%2C Land Based Healing Coordinator":MAILTO:cwalser@banac.on.ca
END:VEVENT
BEGIN:VEVENT
DTSTART;TZID=America/Toronto:20240801T130000
DTEND;TZID=America/Toronto:20240801T140000
DTSTAMP:20260425T071710
CREATED:20240702T151304Z
LAST-MODIFIED:20240702T151304Z
UID:10001923-1722517200-1722520800@mamaway.ca
SUMMARY:Traditional Archery Series
DESCRIPTION:
URL:https://mamaway.ca/event/traditional-archery-series/
LOCATION:HEART Retreat at 328 Line 15 North Oro/Medonte\, 328 Line 15 North\, Oro Medonte\, Ontario\, Canada
CATEGORIES:in-person,Mamaway Wiidokdaadwin
ATTACH;FMTTYPE=image/jpeg:https://mamaway.ca/wp-content/uploads/2024/07/Traditional-Archery-Series.jpg
ORGANIZER;CN="Chris Walser%2C Land Based Healing Coordinator":MAILTO:cwalser@banac.on.ca
END:VEVENT
BEGIN:VEVENT
DTSTART;TZID=America/Toronto:20240730T130000
DTEND;TZID=America/Toronto:20240730T150000
DTSTAMP:20260425T071710
CREATED:20240524T135859Z
LAST-MODIFIED:20240710T181134Z
UID:10002478-1722344400-1722351600@mamaway.ca
SUMMARY:Red Road to Recovery- In Person at BANAC/Mamaway Office in Midland
DESCRIPTION:A 10-week program that uses the Medicine Wheel as a teaching tool and our Indigenous approach to healing to address the \nPhysical\, Emotional\, Mental\, and Spiritual \naspects of addiction and mental health recovery. \nFacilitators: Kathy StAmant and Steve Beaupre \nCase Manager: Zoe Horst 705-627-8148
URL:https://mamaway.ca/event/red-road-to-recovery-in-person-at-enaahtig-community-justice-centre-midland/2024-07-30/
LOCATION:BANAC/Mamaway Office. Midland\, 562 King St\, Midland
CATEGORIES:in-person
ATTACH;FMTTYPE=image/png:https://mamaway.ca/wp-content/uploads/2024/05/BANAC-office-Midland-June-25-Aug2024.png
ORGANIZER;CN="Zoe Horst":MAILTO:zhorst@banac.on.ca
END:VEVENT
BEGIN:VEVENT
DTSTART;TZID=America/Toronto:20240729T093000
DTEND;TZID=America/Toronto:20240729T113000
DTSTAMP:20260425T071710
CREATED:20240415T140105Z
LAST-MODIFIED:20240415T181320Z
UID:10002427-1722245400-1722252600@mamaway.ca
SUMMARY:Wiidosendiwag-They Walk with Each other Walking Challenge
DESCRIPTION:Walking Challenge
URL:https://mamaway.ca/event/wiidosendiwag-they-walk-with-each-other-walking-challenge/2024-07-29/
LOCATION:Scouts Valley Orillia
CATEGORIES:in-person,Mamaway Wiidokdaadwin
ORGANIZER;CN="Chris Walser%2C Land Based Healing Coordinator":MAILTO:cwalser@banac.on.ca
END:VEVENT
BEGIN:VEVENT
DTSTART;TZID=America/Toronto:20240723T130000
DTEND;TZID=America/Toronto:20240723T150000
DTSTAMP:20260425T071710
CREATED:20240524T135859Z
LAST-MODIFIED:20240710T181134Z
UID:10002477-1721739600-1721746800@mamaway.ca
SUMMARY:Red Road to Recovery- In Person at BANAC/Mamaway Office in Midland
DESCRIPTION:A 10-week program that uses the Medicine Wheel as a teaching tool and our Indigenous approach to healing to address the \nPhysical\, Emotional\, Mental\, and Spiritual \naspects of addiction and mental health recovery. \nFacilitators: Kathy StAmant and Steve Beaupre \nCase Manager: Zoe Horst 705-627-8148
URL:https://mamaway.ca/event/red-road-to-recovery-in-person-at-enaahtig-community-justice-centre-midland/2024-07-23/
LOCATION:BANAC/Mamaway Office. Midland\, 562 King St\, Midland
CATEGORIES:in-person
ATTACH;FMTTYPE=image/png:https://mamaway.ca/wp-content/uploads/2024/05/BANAC-office-Midland-June-25-Aug2024.png
ORGANIZER;CN="Zoe Horst":MAILTO:zhorst@banac.on.ca
END:VEVENT
BEGIN:VEVENT
DTSTART;TZID=America/Toronto:20240722T093000
DTEND;TZID=America/Toronto:20240722T113000
DTSTAMP:20260425T071710
CREATED:20240415T140105Z
LAST-MODIFIED:20240415T181320Z
UID:10002426-1721640600-1721647800@mamaway.ca
SUMMARY:Wiidosendiwag-They Walk with Each other Walking Challenge
DESCRIPTION:Walking Challenge
URL:https://mamaway.ca/event/wiidosendiwag-they-walk-with-each-other-walking-challenge/2024-07-22/
LOCATION:Scouts Valley Orillia
CATEGORIES:in-person,Mamaway Wiidokdaadwin
ORGANIZER;CN="Chris Walser%2C Land Based Healing Coordinator":MAILTO:cwalser@banac.on.ca
END:VEVENT
BEGIN:VEVENT
DTSTART;TZID=America/Toronto:20240716T130000
DTEND;TZID=America/Toronto:20240716T150000
DTSTAMP:20260425T071710
CREATED:20240524T135859Z
LAST-MODIFIED:20240710T181134Z
UID:10002476-1721134800-1721142000@mamaway.ca
SUMMARY:Red Road to Recovery- In Person at BANAC/Mamaway Office in Midland
DESCRIPTION:A 10-week program that uses the Medicine Wheel as a teaching tool and our Indigenous approach to healing to address the \nPhysical\, Emotional\, Mental\, and Spiritual \naspects of addiction and mental health recovery. \nFacilitators: Kathy StAmant and Steve Beaupre \nCase Manager: Zoe Horst 705-627-8148
URL:https://mamaway.ca/event/red-road-to-recovery-in-person-at-enaahtig-community-justice-centre-midland/2024-07-16/
LOCATION:BANAC/Mamaway Office. Midland\, 562 King St\, Midland
CATEGORIES:in-person
ATTACH;FMTTYPE=image/png:https://mamaway.ca/wp-content/uploads/2024/05/BANAC-office-Midland-June-25-Aug2024.png
ORGANIZER;CN="Zoe Horst":MAILTO:zhorst@banac.on.ca
END:VEVENT
BEGIN:VEVENT
DTSTART;TZID=America/Toronto:20240715T093000
DTEND;TZID=America/Toronto:20240715T113000
DTSTAMP:20260425T071710
CREATED:20240415T140105Z
LAST-MODIFIED:20240415T181320Z
UID:10002425-1721035800-1721043000@mamaway.ca
SUMMARY:Wiidosendiwag-They Walk with Each other Walking Challenge
DESCRIPTION:Walking Challenge
URL:https://mamaway.ca/event/wiidosendiwag-they-walk-with-each-other-walking-challenge/2024-07-15/
LOCATION:Scouts Valley Orillia
CATEGORIES:in-person,Mamaway Wiidokdaadwin
ORGANIZER;CN="Chris Walser%2C Land Based Healing Coordinator":MAILTO:cwalser@banac.on.ca
END:VEVENT
BEGIN:VEVENT
DTSTART;TZID=America/Toronto:20240712T080000
DTEND;TZID=America/Toronto:20240712T170000
DTSTAMP:20260425T071710
CREATED:20240516T140100Z
LAST-MODIFIED:20240516T140100Z
UID:10002467-1720771200-1720803600@mamaway.ca
SUMMARY:Yoga in Our Yurt
DESCRIPTION:Come join us for a 5 week series of Yoga in our Yurt located at Horses are Magic in Orr Lake ON. \ndates are June 28th\, July 5th\, July 12th\, Aug 2nd and Aug 9th from 1 pm – 2 pm each session.
URL:https://mamaway.ca/event/yoga-in-our-yurt/2024-07-12/
LOCATION:Horses are Magic\, 1098 Scarlett Line\, Hillsdale\, ON\, L0L 1V0\, Canada
CATEGORIES:in-person,Mamaway Wiidokdaadwin
ORGANIZER;CN="Chris Walser%2C Land Based Healing Coordinator":MAILTO:cwalser@banac.on.ca
END:VEVENT
BEGIN:VEVENT
DTSTART;TZID=America/Toronto:20240710T100000
DTEND;TZID=America/Toronto:20240710T140000
DTSTAMP:20260425T071710
CREATED:20240617T173524Z
LAST-MODIFIED:20240617T173858Z
UID:10001908-1720605600-1720620000@mamaway.ca
SUMMARY:Learning to Bend wood for snow shoes and lacrosse sticks
DESCRIPTION:
URL:https://mamaway.ca/event/learning-to-bend-wood-for-snow-shoes-and-lacrosse-sticks/2024-07-10/
CATEGORIES:in-person,Mamaway Wiidokdaadwin
ORGANIZER;CN="Chris Walser%2C Land Based Healing Coordinator":MAILTO:cwalser@banac.on.ca
END:VEVENT
BEGIN:VEVENT
DTSTART;TZID=America/Toronto:20240709T130000
DTEND;TZID=America/Toronto:20240709T150000
DTSTAMP:20260425T071710
CREATED:20240524T135859Z
LAST-MODIFIED:20240710T181134Z
UID:10002475-1720530000-1720537200@mamaway.ca
SUMMARY:Red Road to Recovery- In Person at BANAC/Mamaway Office in Midland
DESCRIPTION:A 10-week program that uses the Medicine Wheel as a teaching tool and our Indigenous approach to healing to address the \nPhysical\, Emotional\, Mental\, and Spiritual \naspects of addiction and mental health recovery. \nFacilitators: Kathy StAmant and Steve Beaupre \nCase Manager: Zoe Horst 705-627-8148
URL:https://mamaway.ca/event/red-road-to-recovery-in-person-at-enaahtig-community-justice-centre-midland/2024-07-09/
LOCATION:BANAC/Mamaway Office. Midland\, 562 King St\, Midland
CATEGORIES:in-person
ATTACH;FMTTYPE=image/png:https://mamaway.ca/wp-content/uploads/2024/05/BANAC-office-Midland-June-25-Aug2024.png
ORGANIZER;CN="Zoe Horst":MAILTO:zhorst@banac.on.ca
END:VEVENT
BEGIN:VEVENT
DTSTART;TZID=America/Toronto:20240708T093000
DTEND;TZID=America/Toronto:20240708T113000
DTSTAMP:20260425T071710
CREATED:20240415T140105Z
LAST-MODIFIED:20240415T181320Z
UID:10002424-1720431000-1720438200@mamaway.ca
SUMMARY:Wiidosendiwag-They Walk with Each other Walking Challenge
DESCRIPTION:Walking Challenge
URL:https://mamaway.ca/event/wiidosendiwag-they-walk-with-each-other-walking-challenge/2024-07-08/
LOCATION:Scouts Valley Orillia
CATEGORIES:in-person,Mamaway Wiidokdaadwin
ORGANIZER;CN="Chris Walser%2C Land Based Healing Coordinator":MAILTO:cwalser@banac.on.ca
END:VEVENT
BEGIN:VEVENT
DTSTART;TZID=America/Toronto:20240705T080000
DTEND;TZID=America/Toronto:20240705T170000
DTSTAMP:20260425T071710
CREATED:20240516T140100Z
LAST-MODIFIED:20240516T140100Z
UID:10002466-1720166400-1720198800@mamaway.ca
SUMMARY:Yoga in Our Yurt
DESCRIPTION:Come join us for a 5 week series of Yoga in our Yurt located at Horses are Magic in Orr Lake ON. \ndates are June 28th\, July 5th\, July 12th\, Aug 2nd and Aug 9th from 1 pm – 2 pm each session.
URL:https://mamaway.ca/event/yoga-in-our-yurt/2024-07-05/
LOCATION:Horses are Magic\, 1098 Scarlett Line\, Hillsdale\, ON\, L0L 1V0\, Canada
CATEGORIES:in-person,Mamaway Wiidokdaadwin
ORGANIZER;CN="Chris Walser%2C Land Based Healing Coordinator":MAILTO:cwalser@banac.on.ca
END:VEVENT
BEGIN:VEVENT
DTSTART;TZID=America/Toronto:20240703T130000
DTEND;TZID=America/Toronto:20240703T150000
DTSTAMP:20260425T071710
CREATED:20240527T193613Z
LAST-MODIFIED:20240527T193731Z
UID:10002485-1720011600-1720018800@mamaway.ca
SUMMARY:Drumming in the Teepee
DESCRIPTION:
URL:https://mamaway.ca/event/drumming-in-the-teepee/2024-07-03/
LOCATION:HEART Retreat at 328 Line 15 North Oro/Medonte\, 328 Line 15 North\, Oro Medonte\, Ontario\, Canada
CATEGORIES:in-person,Mamaway Wiidokdaadwin
ORGANIZER;CN="Chris Walser%2C Land Based Healing Coordinator":MAILTO:cwalser@banac.on.ca
END:VEVENT
BEGIN:VEVENT
DTSTART;TZID=America/Toronto:20240703T100000
DTEND;TZID=America/Toronto:20240703T140000
DTSTAMP:20260425T071710
CREATED:20240617T173524Z
LAST-MODIFIED:20240617T173858Z
UID:10001907-1720000800-1720015200@mamaway.ca
SUMMARY:Learning to Bend wood for snow shoes and lacrosse sticks
DESCRIPTION:
URL:https://mamaway.ca/event/learning-to-bend-wood-for-snow-shoes-and-lacrosse-sticks/2024-07-03/
CATEGORIES:in-person,Mamaway Wiidokdaadwin
ORGANIZER;CN="Chris Walser%2C Land Based Healing Coordinator":MAILTO:cwalser@banac.on.ca
END:VEVENT
BEGIN:VEVENT
DTSTART;TZID=America/Toronto:20240702T130000
DTEND;TZID=America/Toronto:20240702T150000
DTSTAMP:20260425T071710
CREATED:20240524T135859Z
LAST-MODIFIED:20240710T181134Z
UID:10002474-1719925200-1719932400@mamaway.ca
SUMMARY:Red Road to Recovery- In Person at BANAC/Mamaway Office in Midland
DESCRIPTION:A 10-week program that uses the Medicine Wheel as a teaching tool and our Indigenous approach to healing to address the \nPhysical\, Emotional\, Mental\, and Spiritual \naspects of addiction and mental health recovery. \nFacilitators: Kathy StAmant and Steve Beaupre \nCase Manager: Zoe Horst 705-627-8148
URL:https://mamaway.ca/event/red-road-to-recovery-in-person-at-enaahtig-community-justice-centre-midland/2024-07-02/
LOCATION:BANAC/Mamaway Office. Midland\, 562 King St\, Midland
CATEGORIES:in-person
ATTACH;FMTTYPE=image/png:https://mamaway.ca/wp-content/uploads/2024/05/BANAC-office-Midland-June-25-Aug2024.png
ORGANIZER;CN="Zoe Horst":MAILTO:zhorst@banac.on.ca
END:VEVENT
BEGIN:VEVENT
DTSTART;TZID=America/Toronto:20240701T093000
DTEND;TZID=America/Toronto:20240701T113000
DTSTAMP:20260425T071710
CREATED:20240415T140105Z
LAST-MODIFIED:20240415T181320Z
UID:10002423-1719826200-1719833400@mamaway.ca
SUMMARY:Wiidosendiwag-They Walk with Each other Walking Challenge
DESCRIPTION:Walking Challenge
URL:https://mamaway.ca/event/wiidosendiwag-they-walk-with-each-other-walking-challenge/2024-07-01/
LOCATION:Scouts Valley Orillia
CATEGORIES:in-person,Mamaway Wiidokdaadwin
ORGANIZER;CN="Chris Walser%2C Land Based Healing Coordinator":MAILTO:cwalser@banac.on.ca
END:VEVENT
BEGIN:VEVENT
DTSTART;TZID=America/Toronto:20240628T080000
DTEND;TZID=America/Toronto:20240628T170000
DTSTAMP:20260425T071710
CREATED:20240516T140100Z
LAST-MODIFIED:20240516T140100Z
UID:10002465-1719561600-1719594000@mamaway.ca
SUMMARY:Yoga in Our Yurt
DESCRIPTION:Come join us for a 5 week series of Yoga in our Yurt located at Horses are Magic in Orr Lake ON. \ndates are June 28th\, July 5th\, July 12th\, Aug 2nd and Aug 9th from 1 pm – 2 pm each session.
URL:https://mamaway.ca/event/yoga-in-our-yurt/2024-06-28/
LOCATION:Horses are Magic\, 1098 Scarlett Line\, Hillsdale\, ON\, L0L 1V0\, Canada
CATEGORIES:in-person,Mamaway Wiidokdaadwin
ORGANIZER;CN="Chris Walser%2C Land Based Healing Coordinator":MAILTO:cwalser@banac.on.ca
END:VEVENT
BEGIN:VEVENT
DTSTART;VALUE=DATE:20240628
DTEND;VALUE=DATE:20240629
DTSTAMP:20260425T071710
CREATED:20240522T121316Z
LAST-MODIFIED:20240527T212341Z
UID:10002471-1719532800-1719619199@mamaway.ca
SUMMARY:Painting with John Rombough
DESCRIPTION:Please join us for a day of painting with John Rombough June 28th from 10am to 4pm. John is a self-taught contemporary woodland painter and is a Denesoline Ancestoral artist His distinctive modern aboriginal designs encompass his own personal visions and strong connection with nature. As John works toward creating original pieces\, Ceremonial Drum Songs flow through his thoughts. Sacred teachings past down from ancestors through his visions inspire John to live a healthy\, creative lifestyle\, honoring ancestral teachings of ‘respect for self\, respect for people and respect for the land’. \nPlease register with this link below. \nPainting with John Rombough June 28th 2024 (alchemer-ca.com)
URL:https://mamaway.ca/event/painting-with-john-rombough/
CATEGORIES:in-person
ATTACH;FMTTYPE=image/png:https://mamaway.ca/wp-content/uploads/2024/05/Untitled-3.png
ORGANIZER;CN="Bawd Elliott":MAILTO:belliott@banac.on.ca
END:VEVENT
BEGIN:VEVENT
DTSTART;TZID=America/Toronto:20240626T100000
DTEND;TZID=America/Toronto:20240626T160000
DTSTAMP:20260425T071710
CREATED:20240528T032842Z
LAST-MODIFIED:20240528T033222Z
UID:10002487-1719396000-1719417600@mamaway.ca
SUMMARY:Fire Keeper Two-Day Knowledge Sharing Event
DESCRIPTION:Fire Keeper two-day event with Biindigegezhig  \nDanny DelearyBiindigegizhig Danny Deleary BIO \nhttps://survey.alchemer-ca.com/s3/50260534/Mamaway-Wiidokdaadwin-Two-Day-Fire-Keeping-Knowledge-Sharing-Event-June-26th-27th
URL:https://mamaway.ca/event/fire-keeper-two-day-knowledge-sharing-event/
LOCATION:Springwater Park\, 1331 ON-26\, Midhurst\, Ontario\, L0L 1X0\, Canada
CATEGORIES:in-person,Mamaway Wiidokdaadwin
ORGANIZER;CN="Troy Monague":MAILTO:tmonague@banac.on.ca
END:VEVENT
BEGIN:VEVENT
DTSTART;TZID=America/Toronto:20240625T130000
DTEND;TZID=America/Toronto:20240625T150000
DTSTAMP:20260425T071710
CREATED:20240524T135859Z
LAST-MODIFIED:20240710T181134Z
UID:10002473-1719320400-1719327600@mamaway.ca
SUMMARY:Red Road to Recovery- In Person at BANAC/Mamaway Office in Midland
DESCRIPTION:A 10-week program that uses the Medicine Wheel as a teaching tool and our Indigenous approach to healing to address the \nPhysical\, Emotional\, Mental\, and Spiritual \naspects of addiction and mental health recovery. \nFacilitators: Kathy StAmant and Steve Beaupre \nCase Manager: Zoe Horst 705-627-8148
URL:https://mamaway.ca/event/red-road-to-recovery-in-person-at-enaahtig-community-justice-centre-midland/2024-06-25/
LOCATION:BANAC/Mamaway Office. Midland\, 562 King St\, Midland
CATEGORIES:in-person
ATTACH;FMTTYPE=image/png:https://mamaway.ca/wp-content/uploads/2024/05/BANAC-office-Midland-June-25-Aug2024.png
ORGANIZER;CN="Zoe Horst":MAILTO:zhorst@banac.on.ca
END:VEVENT
BEGIN:VEVENT
DTSTART;TZID=America/Toronto:20240625T093000
DTEND;TZID=America/Toronto:20240625T170000
DTSTAMP:20260425T071710
CREATED:20240527T192946Z
LAST-MODIFIED:20240527T192946Z
UID:10002483-1719307800-1719334800@mamaway.ca
SUMMARY:Moccasin Making in the Teepee
DESCRIPTION:
URL:https://mamaway.ca/event/moccasin-making-in-the-teepee/
LOCATION:HEART Retreat at 328 Line 15 North Oro/Medonte\, 328 Line 15 North\, Oro Medonte\, Ontario\, Canada
CATEGORIES:in-person,Mamaway Wiidokdaadwin
ORGANIZER;CN="Chris Walser%2C Land Based Healing Coordinator":MAILTO:cwalser@banac.on.ca
END:VEVENT
BEGIN:VEVENT
DTSTART;TZID=America/Toronto:20240624T093000
DTEND;TZID=America/Toronto:20240624T113000
DTSTAMP:20260425T071710
CREATED:20240415T140105Z
LAST-MODIFIED:20240415T181320Z
UID:10002422-1719221400-1719228600@mamaway.ca
SUMMARY:Wiidosendiwag-They Walk with Each other Walking Challenge
DESCRIPTION:Walking Challenge
URL:https://mamaway.ca/event/wiidosendiwag-they-walk-with-each-other-walking-challenge/2024-06-24/
LOCATION:Scouts Valley Orillia
CATEGORIES:in-person,Mamaway Wiidokdaadwin
ORGANIZER;CN="Chris Walser%2C Land Based Healing Coordinator":MAILTO:cwalser@banac.on.ca
END:VEVENT
BEGIN:VEVENT
DTSTART;TZID=America/Toronto:20240619T100000
DTEND;TZID=America/Toronto:20240619T140000
DTSTAMP:20260425T071710
CREATED:20240617T173524Z
LAST-MODIFIED:20240617T173858Z
UID:10001906-1718791200-1718805600@mamaway.ca
SUMMARY:Learning to Bend wood for snow shoes and lacrosse sticks
DESCRIPTION:
URL:https://mamaway.ca/event/learning-to-bend-wood-for-snow-shoes-and-lacrosse-sticks/2024-06-19/
CATEGORIES:in-person,Mamaway Wiidokdaadwin
ORGANIZER;CN="Chris Walser%2C Land Based Healing Coordinator":MAILTO:cwalser@banac.on.ca
END:VEVENT
BEGIN:VEVENT
DTSTART;TZID=America/Toronto:20240617T093000
DTEND;TZID=America/Toronto:20240617T113000
DTSTAMP:20260425T071710
CREATED:20240415T140105Z
LAST-MODIFIED:20240415T181320Z
UID:10002421-1718616600-1718623800@mamaway.ca
SUMMARY:Wiidosendiwag-They Walk with Each other Walking Challenge
DESCRIPTION:Walking Challenge
URL:https://mamaway.ca/event/wiidosendiwag-they-walk-with-each-other-walking-challenge/2024-06-17/
LOCATION:Scouts Valley Orillia
CATEGORIES:in-person,Mamaway Wiidokdaadwin
ORGANIZER;CN="Chris Walser%2C Land Based Healing Coordinator":MAILTO:cwalser@banac.on.ca
END:VEVENT
BEGIN:VEVENT
DTSTART;TZID=America/Toronto:20240615T100000
DTEND;TZID=America/Toronto:20240615T160000
DTSTAMP:20260425T071710
CREATED:20240529T201239Z
LAST-MODIFIED:20240529T201239Z
UID:10002489-1718445600-1718467200@mamaway.ca
SUMMARY:Mamaway Wiidokdaadwin's (Traditional Medicine Workshop with Niganabe (Esstin Mcleod) Saturday\, June 15th (Barrie Area)
DESCRIPTION:https://survey.alchemer-ca.com/s3/50260785/Mamaway-Wiidokdaadwin-s-Traditional-Medicine-Workshop-with-Niganabe-Esstin-Mcleod-Saturday-June-15th-Barrie-Area \n  \nNiganabe (Esstiin Mcleod Bio) \n  \nMamaway Wiidokdaadwin’s Tradtional Medicine Workshop June 15th with Esstion Mcleod (Niganabe)Niganabe (Esstiin Mcleod Bio)
URL:https://mamaway.ca/event/mamaway-wiidokdaadwins-traditional-medicine-workshop-with-niganabe-esstin-mcleod-saturday-june-15th-barrie-area/
CATEGORIES:in-person,Mamaway Wiidokdaadwin
END:VEVENT
BEGIN:VEVENT
DTSTART;TZID=America/Toronto:20240613T180000
DTEND;TZID=America/Toronto:20240613T200000
DTSTAMP:20260425T071710
CREATED:20240524T134446Z
LAST-MODIFIED:20240524T134446Z
UID:10002472-1718301600-1718308800@mamaway.ca
SUMMARY:Red Road to Recovery- In Person at Barrie Native Friendship Centre
DESCRIPTION:A 10-week program that uses the Medicine Wheel teaching tool and our Indigenous approach to healing to address the \nPhysical\, Emotional\, Mental\, and Spiritual \naspects of addiction and mental health recovery. \n  \nFacilitators: Kathy StAmant and Steve Beaupre \nCase Manager: Zoe Horst 705-628-4178 \nThis 10 week group session will start Thurs June 13 @ 6-8 pm and end Thurs Aug 15/24
URL:https://mamaway.ca/event/red-road-to-recovery-in-person-at-barrie-native-friendship-centre/
LOCATION:Barrie Native Friendship Centre\, 175 Bayfield St\, Barrie\, Ontario\, L4M 3B4\, Canada
CATEGORIES:in-person
ATTACH;FMTTYPE=image/png:https://mamaway.ca/wp-content/uploads/2024/05/BNFC-June-13-Aug-15-24.png
ORGANIZER;CN="Zoe Horst":MAILTO:zhorst@banac.on.ca
END:VEVENT
BEGIN:VEVENT
DTSTART;TZID=America/Toronto:20240610T093000
DTEND;TZID=America/Toronto:20240610T113000
DTSTAMP:20260425T071710
CREATED:20240415T140105Z
LAST-MODIFIED:20240415T181320Z
UID:10002420-1718011800-1718019000@mamaway.ca
SUMMARY:Wiidosendiwag-They Walk with Each other Walking Challenge
DESCRIPTION:Walking Challenge
URL:https://mamaway.ca/event/wiidosendiwag-they-walk-with-each-other-walking-challenge/2024-06-10/
LOCATION:Scouts Valley Orillia
CATEGORIES:in-person,Mamaway Wiidokdaadwin
ORGANIZER;CN="Chris Walser%2C Land Based Healing Coordinator":MAILTO:cwalser@banac.on.ca
END:VEVENT
BEGIN:VEVENT
DTSTART;TZID=America/Toronto:20240606T130000
DTEND;TZID=America/Toronto:20240606T150000
DTSTAMP:20260425T071710
CREATED:20240327T180629Z
LAST-MODIFIED:20240412T143746Z
UID:10002391-1717678800-1717686000@mamaway.ca
SUMMARY:Red Road To Recovery- In Person Group @ Enaahtig Outreach Centre\, Orillia
DESCRIPTION:In Person \n10-week program that uses the Medicine Wheel teachings and\nour Indigenous approach to healing to address the\nPhysical\, Emotional\, Mental\, and Spiritual\naspects of addiction and mental health recovery \nFacilitators: Kathy St. Amant and Steve Beaupre \nQuestions? Please call or email Zoe; 705-627-8148 zhorst@banac.on.ca
URL:https://mamaway.ca/event/red-road-to-recovery-in-person-group/2024-06-06/
LOCATION:Enaahtig Orillia Outreach Centre\, 334 West St. N.\, Orillia\, ontaio\, Canada
CATEGORIES:in-person
ATTACH;FMTTYPE=image/png:https://mamaway.ca/wp-content/uploads/2021/10/red-road-logo.png
ORGANIZER;CN="Zoe Horst":MAILTO:zhorst@banac.on.ca
END:VEVENT
BEGIN:VEVENT
DTSTART;TZID=America/Toronto:20240605T130000
DTEND;TZID=America/Toronto:20240605T150000
DTSTAMP:20260425T071710
CREATED:20240527T193613Z
LAST-MODIFIED:20240527T193731Z
UID:10002484-1717592400-1717599600@mamaway.ca
SUMMARY:Drumming in the Teepee
DESCRIPTION:
URL:https://mamaway.ca/event/drumming-in-the-teepee/2024-06-05/
LOCATION:HEART Retreat at 328 Line 15 North Oro/Medonte\, 328 Line 15 North\, Oro Medonte\, Ontario\, Canada
CATEGORIES:in-person,Mamaway Wiidokdaadwin
ORGANIZER;CN="Chris Walser%2C Land Based Healing Coordinator":MAILTO:cwalser@banac.on.ca
END:VEVENT
END:VCALENDAR