BEGIN:VCALENDAR
VERSION:2.0
PRODID:-//Mamaway Wiidokdaadwin - ECPv6.15.12//NONSGML v1.0//EN
CALSCALE:GREGORIAN
METHOD:PUBLISH
X-ORIGINAL-URL:https://mamaway.ca
X-WR-CALDESC:Events for Mamaway Wiidokdaadwin
REFRESH-INTERVAL;VALUE=DURATION:PT1H
X-Robots-Tag:noindex
X-PUBLISHED-TTL:PT1H
BEGIN:VTIMEZONE
TZID:America/Toronto
BEGIN:DAYLIGHT
TZOFFSETFROM:-0500
TZOFFSETTO:-0400
TZNAME:EDT
DTSTART:20250309T070000
END:DAYLIGHT
BEGIN:STANDARD
TZOFFSETFROM:-0400
TZOFFSETTO:-0500
TZNAME:EST
DTSTART:20251102T060000
END:STANDARD
BEGIN:DAYLIGHT
TZOFFSETFROM:-0500
TZOFFSETTO:-0400
TZNAME:EDT
DTSTART:20260308T070000
END:DAYLIGHT
BEGIN:STANDARD
TZOFFSETFROM:-0400
TZOFFSETTO:-0500
TZNAME:EST
DTSTART:20261101T060000
END:STANDARD
BEGIN:DAYLIGHT
TZOFFSETFROM:-0500
TZOFFSETTO:-0400
TZNAME:EDT
DTSTART:20270314T070000
END:DAYLIGHT
BEGIN:STANDARD
TZOFFSETFROM:-0400
TZOFFSETTO:-0500
TZNAME:EST
DTSTART:20271107T060000
END:STANDARD
END:VTIMEZONE
BEGIN:VEVENT
DTSTART;TZID=America/Toronto:20260319T100000
DTEND;TZID=America/Toronto:20260319T100000
DTSTAMP:20260419T193437
CREATED:20260202T152017Z
LAST-MODIFIED:20260202T152045Z
UID:10005453-1773914400-1773914400@mamaway.ca
SUMMARY:Snow Shoeing at Sunnidale Park Barrie
DESCRIPTION:Come join Chris the Land Based Healing Coordinator and Amaru from the Barrie Native Friendship Center as the lead people on a snowshoe hike through Sunnidale Park. Starting on January 29th\, 2026 at 10 am Weather Permitting. Please meet at the Dorian Parker Center Parking Area by 9:45 am.  If you don’t have your own snowshoes we have some to lend you.
URL:https://mamaway.ca/event/snow-shoeing-at-sunnidale-park-barrie-2/2026-03-19/
LOCATION:Springwater Park\, 1331 ON-26\, Midhurst\, Ontario\, L0L 1X0\, Canada
CATEGORIES:in-person,Mamaway Wiidokdaadwin
ATTACH;FMTTYPE=image/png:https://mamaway.ca/wp-content/uploads/2026/01/Snow-Shoeing-2.png
ORGANIZER;CN="Chris Walser%2C Land Based Healing Coordinator":MAILTO:cwalser@banac.on.ca
END:VEVENT
END:VCALENDAR