BEGIN:VCALENDAR
VERSION:2.0
PRODID:-//Mamaway Wiidokdaadwin - ECPv6.15.12//NONSGML v1.0//EN
CALSCALE:GREGORIAN
METHOD:PUBLISH
X-ORIGINAL-URL:https://mamaway.ca
X-WR-CALDESC:Events for Mamaway Wiidokdaadwin
REFRESH-INTERVAL;VALUE=DURATION:PT1H
X-Robots-Tag:noindex
X-PUBLISHED-TTL:PT1H
BEGIN:VTIMEZONE
TZID:America/Toronto
BEGIN:DAYLIGHT
TZOFFSETFROM:-0500
TZOFFSETTO:-0400
TZNAME:EDT
DTSTART:20240310T070000
END:DAYLIGHT
BEGIN:STANDARD
TZOFFSETFROM:-0400
TZOFFSETTO:-0500
TZNAME:EST
DTSTART:20241103T060000
END:STANDARD
BEGIN:DAYLIGHT
TZOFFSETFROM:-0500
TZOFFSETTO:-0400
TZNAME:EDT
DTSTART:20250309T070000
END:DAYLIGHT
BEGIN:STANDARD
TZOFFSETFROM:-0400
TZOFFSETTO:-0500
TZNAME:EST
DTSTART:20251102T060000
END:STANDARD
BEGIN:DAYLIGHT
TZOFFSETFROM:-0500
TZOFFSETTO:-0400
TZNAME:EDT
DTSTART:20260308T070000
END:DAYLIGHT
BEGIN:STANDARD
TZOFFSETFROM:-0400
TZOFFSETTO:-0500
TZNAME:EST
DTSTART:20261101T060000
END:STANDARD
END:VTIMEZONE
BEGIN:VEVENT
DTSTART;TZID=America/Toronto:20250728T100000
DTEND;TZID=America/Toronto:20250728T150000
DTSTAMP:20260423T015725
CREATED:20250721T191608Z
LAST-MODIFIED:20250721T191608Z
UID:10004587-1753696800-1753714800@mamaway.ca
SUMMARY:Fire Keeping Teachings with Troy Monague
DESCRIPTION:Join Mamaway Wiidokdaadwin\, Lakehead University and Orillia Native Women’s Group for Fire Keeping Teachings with Troy Monague on Monday July 28\, 2025 from 10:00am to 3:00pm at 110 Matchedash St N\, Orillia! \nBe prepared to be be outside! Rain or Shine! \nLunch will be provided! There is parking available in the driveway and on the street! \nClick here to register: https://survey.alchemer-ca.com/s3/50382955/Fire-Keeping-Teachings-with-Troy-Monague \nIf you have any questions\, please reach out to Courtney at cthomas@banac.on.ca or Ashley at aht@onwg.net \n 
URL:https://mamaway.ca/event/fire-keeping-teachings-with-troy-monague/
LOCATION:110 Matchedash Street N\, Orillia (Mamaway Wiidokdaadwin Match Hub)\, 110 Matchedash Street N\, Orillia\, Ontario\, L3V 4T8\, Canada
ATTACH;FMTTYPE=image/jpeg:https://mamaway.ca/wp-content/uploads/2025/07/Fire-Keeping-Teachings-with-Troy-FINAL.jpg
ORGANIZER;CN="Courtney Thomas":MAILTO:cthomas@banac.on.ca
END:VEVENT
END:VCALENDAR