BEGIN:VCALENDAR
VERSION:2.0
PRODID:-//Mamaway Wiidokdaadwin - ECPv6.15.12//NONSGML v1.0//EN
CALSCALE:GREGORIAN
METHOD:PUBLISH
X-ORIGINAL-URL:https://mamaway.ca
X-WR-CALDESC:Events for Mamaway Wiidokdaadwin
REFRESH-INTERVAL;VALUE=DURATION:PT1H
X-Robots-Tag:noindex
X-PUBLISHED-TTL:PT1H
BEGIN:VTIMEZONE
TZID:America/Toronto
BEGIN:DAYLIGHT
TZOFFSETFROM:-0500
TZOFFSETTO:-0400
TZNAME:EDT
DTSTART:20240310T070000
END:DAYLIGHT
BEGIN:STANDARD
TZOFFSETFROM:-0400
TZOFFSETTO:-0500
TZNAME:EST
DTSTART:20241103T060000
END:STANDARD
BEGIN:DAYLIGHT
TZOFFSETFROM:-0500
TZOFFSETTO:-0400
TZNAME:EDT
DTSTART:20250309T070000
END:DAYLIGHT
BEGIN:STANDARD
TZOFFSETFROM:-0400
TZOFFSETTO:-0500
TZNAME:EST
DTSTART:20251102T060000
END:STANDARD
BEGIN:DAYLIGHT
TZOFFSETFROM:-0500
TZOFFSETTO:-0400
TZNAME:EDT
DTSTART:20260308T070000
END:DAYLIGHT
BEGIN:STANDARD
TZOFFSETFROM:-0400
TZOFFSETTO:-0500
TZNAME:EST
DTSTART:20261101T060000
END:STANDARD
END:VTIMEZONE
BEGIN:VEVENT
DTSTART;TZID=America/Toronto:20250523T100000
DTEND;TZID=America/Toronto:20250523T120000
DTSTAMP:20260421T085850
CREATED:20250407T200205Z
LAST-MODIFIED:20250407T200205Z
UID:10003684-1747994400-1748001600@mamaway.ca
SUMMARY:Beading Circle Drop In
DESCRIPTION:Join Mamaway Wiidokdaadwin’s Life Promoter Courtney Thomas for 6 weeks to learn how to bead every Friday from 10:00am-12:00pm in Orillia! \n(Location will be shared after registration) \nStarting Friday\, May 9th\, 2025 for 6 weeks! \n  \nClick here to register: https://survey.alchemer-ca.com/s3/50355996/Beading-Circle-Drop-In-Q1 \nIf you have any questions\, please reach out to Courtney at cthomas@banac.on.ca
URL:https://mamaway.ca/event/beading-circle-drop-in/2025-05-23/
LOCATION:ON
ATTACH;FMTTYPE=image/jpeg:https://mamaway.ca/wp-content/uploads/2025/04/Beading-Circle-Drop-In-Q1.jpg
ORGANIZER;CN="Courtney Thomas":MAILTO:cthomas@banac.on.ca
END:VEVENT
BEGIN:VEVENT
DTSTART;TZID=America/Toronto:20250523T103000
DTEND;TZID=America/Toronto:20250523T120000
DTSTAMP:20260421T085850
CREATED:20250422T190550Z
LAST-MODIFIED:20250724T211812Z
UID:10003702-1747996200-1748001600@mamaway.ca
SUMMARY:Traditional Archery at HEART Retreat
DESCRIPTION:Come join Chris the Land Based Healing Coordinator and practice Traditional Archery on the Land at HEART Retreat. May until the end of Aug.
URL:https://mamaway.ca/event/traditional-archery-at-heart-retreat/2025-05-23/
LOCATION:HEART Retreat at 328 Line 15 North Oro/Medonte\, 328 Line 15 North\, Oro Medonte\, Ontario\, Canada
CATEGORIES:in-person,Mamaway Wiidokdaadwin
ATTACH;FMTTYPE=image/png:https://mamaway.ca/wp-content/uploads/2025/04/Traditional-Archery-HEART-Retreat-1.png
ORGANIZER;CN="Chris Walser%2C Land Based Healing Coordinator":MAILTO:cwalser@banac.on.ca
END:VEVENT
END:VCALENDAR