BEGIN:VCALENDAR
VERSION:2.0
PRODID:-//Mamaway Wiidokdaadwin - ECPv6.15.12//NONSGML v1.0//EN
CALSCALE:GREGORIAN
METHOD:PUBLISH
X-WR-CALNAME:Mamaway Wiidokdaadwin
X-ORIGINAL-URL:https://mamaway.ca
X-WR-CALDESC:Events for Mamaway Wiidokdaadwin
REFRESH-INTERVAL;VALUE=DURATION:PT1H
X-Robots-Tag:noindex
X-PUBLISHED-TTL:PT1H
BEGIN:VTIMEZONE
TZID:America/Toronto
BEGIN:DAYLIGHT
TZOFFSETFROM:-0500
TZOFFSETTO:-0400
TZNAME:EDT
DTSTART:20240310T070000
END:DAYLIGHT
BEGIN:STANDARD
TZOFFSETFROM:-0400
TZOFFSETTO:-0500
TZNAME:EST
DTSTART:20241103T060000
END:STANDARD
BEGIN:DAYLIGHT
TZOFFSETFROM:-0500
TZOFFSETTO:-0400
TZNAME:EDT
DTSTART:20250309T070000
END:DAYLIGHT
BEGIN:STANDARD
TZOFFSETFROM:-0400
TZOFFSETTO:-0500
TZNAME:EST
DTSTART:20251102T060000
END:STANDARD
BEGIN:DAYLIGHT
TZOFFSETFROM:-0500
TZOFFSETTO:-0400
TZNAME:EDT
DTSTART:20260308T070000
END:DAYLIGHT
BEGIN:STANDARD
TZOFFSETFROM:-0400
TZOFFSETTO:-0500
TZNAME:EST
DTSTART:20261101T060000
END:STANDARD
END:VTIMEZONE
BEGIN:VEVENT
DTSTART;TZID=America/Toronto:20250429T090000
DTEND;TZID=America/Toronto:20250429T160000
DTSTAMP:20260421T085944
CREATED:20250403T191725Z
LAST-MODIFIED:20250403T191725Z
UID:10003638-1745917200-1745942400@mamaway.ca
SUMMARY:Diane LongBoat - Barrie
DESCRIPTION:Traditional Healing Session with Diane Longboat\, Barrie Clinic. \nPlease contact our clinic closest to you to make a referral \nBarrie Clinic Location \n125 Bell Farm Rd\, Suite 200\nHours: 8:00am – 4:00pm\nPhone: 705-721-9554\nFax: 855-941-2529 \nOrillia Clinic Location \n210 Memorial Ave\, Unit 112A&B\nHours: 8:00am – 4:00pm\nPhone: 705-259-9520\nFax: 855-941-2531 \n1-1 Healing Session with Diane Longboat\, sharing traditional teachings\, and guidance. \nKahontakwas Diane Longboat\, B.A\, B.Ed\, M.Ed is a member of the Turtle Clan\, Mohawk Nation at Six Nations Grand River Territory\, Canada and a citizen of the Haudenosaunee Confederacy. She is the founder of Soul of the Mother\, a healing and teaching lodge on the shores of the Grand River. \nDiane’s work is situated at the intersection of health\, education and traditional First Nations knowledge systems. \nShe is a ceremonial leader\, traditional teacher\, and healer. \nShe works with spirit brought by creation and messages brought by ancestors. \nHealing through listening\, creating the ceremony and listen to the community members.\nHelp them regain balance in spirit\, mind\, body and in their hearts.\nSharing the knowledge with community members\, to provide clarity on their journey. \nShe travels amongst First Nations and globally\, to carry the Sacred Fire for the transformational healing of self\, community and the Earth. \nPodcast:\nhttps://open.spotify.com/episode/4r1hJysr22oQMTXf2pqShM?si=EiGl70E4TH235xmr-0qyHA \nDirect quote: Humanity stands at the precipice. Our thoughts\, behaviours and actions will dictate how life will continue or not\, on Mother Earth. \nWe must evolve spiritually\, receive spiritual guidance daily\, and act on the guidance given in order to grow as individuals and heal Mother Earth as we do so. Only when we truly live the universal spiritual laws and the natural laws of Mother Earth will we complete our spiritual mandate. Life on earth is a training ground to become the spiritual warrior of peace. \n  \n 
URL:https://mamaway.ca/event/diane-longboat-barrie/
LOCATION:210 Memorial Ave Orillia\, Unit 108\, 210 Memorial Ave Unit 108\, Orillia\, ONJ\, L3V7V1\, Canada
CATEGORIES:in-person,Mamaway Wiidokdaadwin
END:VEVENT
BEGIN:VEVENT
DTSTART;TZID=America/Toronto:20250429T183000
DTEND;TZID=America/Toronto:20250429T203000
DTSTAMP:20260421T085944
CREATED:20250122T150350Z
LAST-MODIFIED:20250122T151352Z
UID:10003548-1745951400-1745958600@mamaway.ca
SUMMARY:Ongoing Red Road to Recovery Peer Support Group
DESCRIPTION:If you have attended Red Road to Recovery series in the past and are looking for continued connection. \nThis ongoing peer support group meets weekly over zoom\, Tuesdays from 630-830pm. \nA peer support group is a safe space where community members with similar experiences can connect\, share\, and support each other. \nThis peer support group can help you feel less alone in your recovery\, learn from others\, and maintain hope. \nRegister by emailing Steve for zoom access.
URL:https://mamaway.ca/event/ongoing-red-road-to-recovery-peer-support-group/2025-04-29/
LOCATION:ON
ATTACH;FMTTYPE=image/png:https://mamaway.ca/wp-content/uploads/2025/01/Ongoing-peer-support-group-RR2R.png
ORGANIZER;CN="Steve Beaupre":MAILTO:mwredroad2@banac.on.ca
END:VEVENT
END:VCALENDAR