BEGIN:VCALENDAR
VERSION:2.0
PRODID:-//Mamaway Wiidokdaadwin - ECPv6.15.12//NONSGML v1.0//EN
CALSCALE:GREGORIAN
METHOD:PUBLISH
X-WR-CALNAME:Mamaway Wiidokdaadwin
X-ORIGINAL-URL:https://mamaway.ca
X-WR-CALDESC:Events for Mamaway Wiidokdaadwin
REFRESH-INTERVAL;VALUE=DURATION:PT1H
X-Robots-Tag:noindex
X-PUBLISHED-TTL:PT1H
BEGIN:VTIMEZONE
TZID:America/Toronto
BEGIN:DAYLIGHT
TZOFFSETFROM:-0500
TZOFFSETTO:-0400
TZNAME:EDT
DTSTART:20240310T070000
END:DAYLIGHT
BEGIN:STANDARD
TZOFFSETFROM:-0400
TZOFFSETTO:-0500
TZNAME:EST
DTSTART:20241103T060000
END:STANDARD
BEGIN:DAYLIGHT
TZOFFSETFROM:-0500
TZOFFSETTO:-0400
TZNAME:EDT
DTSTART:20250309T070000
END:DAYLIGHT
BEGIN:STANDARD
TZOFFSETFROM:-0400
TZOFFSETTO:-0500
TZNAME:EST
DTSTART:20251102T060000
END:STANDARD
BEGIN:DAYLIGHT
TZOFFSETFROM:-0500
TZOFFSETTO:-0400
TZNAME:EDT
DTSTART:20260308T070000
END:DAYLIGHT
BEGIN:STANDARD
TZOFFSETFROM:-0400
TZOFFSETTO:-0500
TZNAME:EST
DTSTART:20261101T060000
END:STANDARD
END:VTIMEZONE
BEGIN:VEVENT
DTSTART;TZID=America/Toronto:20250422T090000
DTEND;TZID=America/Toronto:20250422T160000
DTSTAMP:20260421T010056
CREATED:20250113T183844Z
LAST-MODIFIED:20250403T184935Z
UID:10003521-1745312400-1745337600@mamaway.ca
SUMMARY:TH John Rice; Sessions' (Elder/ Traditional Healing Counsellor )
DESCRIPTION:Please contact our clinic closest to you to make a referral \nBarrie Clinic Location \n125 Bell Farm Rd\, Suite 200\nHours: 8:00am – 4:00pm\nPhone: 705-721-9554\nFax: 855-941-2529 \nOrillia Clinic Location \n210 Memorial Ave\, Unit 112A&B\nHours: 8:00am – 4:00pm\nPhone: 705-259-9520\nFax: 855-941-2531 \nThis session is being held in the Mamaway Wiidokdaadwin Orillia Clinic while offering 1-1 Healing Sessions with John Rice\, sharing traditional teachings and offering counselling. \nMore about Elder\, John Rice: \nZahgausgai “Sun Ray”\, Mukwa “Bear Clan”\, is an Ojibwa and a 3rd Degree member of the Three Fires Midewiwin Society. John’s home community is Wasauksing First Nation near Parry Sound\, Ontario. John’s childhood was rich in stories of his people; his Midewiwin Education began in 1982 and is ongoing. He has made it a life passion to study the “Mlikaans” Teachings which are about the whole development of the human before\, during and after life. John is a Storyteller\, Big Drum Carrier\, Ceremonialist\, Singer and Dancer. His greatest joy is watching Ojibwa youth learn and practice the culture. John generously shares his knowledge throughout the Ontario region. He currently works as an Elder and advisor to DBCFS and the cultural programming that occur there for families along with ceremony and teachings around the region as a respected Elder in our region. His past work experience includes work as the Early Psychosis Intervention Team at Canadian Mental Health Association in Barrie\, Ontario as a Healer\, Elder/Healer at the Mental Health Centre in Penetanguishene and Fenbrook Medium Institution near Gravenhurst\, Ontario. He has lectured part time at Georgian College in Barrie. John travels internationally and is a well-respected teacher and elder in the Anishinaabe Nation.
URL:https://mamaway.ca/event/th-john-rice-sessions-elder-traditional-healing-counsellor-2/
LOCATION:210 Memorial Ave Orillia\, Unit 108\, 210 Memorial Ave Unit 108\, Orillia\, ONJ\, L3V7V1\, Canada
CATEGORIES:in-person,Mamaway Wiidokdaadwin
END:VEVENT
BEGIN:VEVENT
DTSTART;TZID=America/Toronto:20250422T183000
DTEND;TZID=America/Toronto:20250422T203000
DTSTAMP:20260421T010056
CREATED:20250122T150350Z
LAST-MODIFIED:20250122T151352Z
UID:10003547-1745346600-1745353800@mamaway.ca
SUMMARY:Ongoing Red Road to Recovery Peer Support Group
DESCRIPTION:If you have attended Red Road to Recovery series in the past and are looking for continued connection. \nThis ongoing peer support group meets weekly over zoom\, Tuesdays from 630-830pm. \nA peer support group is a safe space where community members with similar experiences can connect\, share\, and support each other. \nThis peer support group can help you feel less alone in your recovery\, learn from others\, and maintain hope. \nRegister by emailing Steve for zoom access.
URL:https://mamaway.ca/event/ongoing-red-road-to-recovery-peer-support-group/2025-04-22/
LOCATION:ON
ATTACH;FMTTYPE=image/png:https://mamaway.ca/wp-content/uploads/2025/01/Ongoing-peer-support-group-RR2R.png
ORGANIZER;CN="Steve Beaupre":MAILTO:mwredroad2@banac.on.ca
END:VEVENT
BEGIN:VEVENT
DTSTART;TZID=America/Toronto:20250422T200000
DTEND;TZID=America/Toronto:20250422T210000
DTSTAMP:20260421T010056
CREATED:20250410T194458Z
LAST-MODIFIED:20250410T194458Z
UID:10003689-1745352000-1745355600@mamaway.ca
SUMMARY:Digital Storytelling online with Bawd Elliott
DESCRIPTION:Aaniin! We are hosting some digital storytelling April 22 2025 at 8pm. Please register for this event by clicking on the link below. Thanks a bunch! \n  \nDigital Storytelling with Bawd 04/22/25
URL:https://mamaway.ca/event/digital-storytelling-online-with-bawd-elliott/
LOCATION:ON
CATEGORIES:Virtual Event Offering
ATTACH;FMTTYPE=image/png:https://mamaway.ca/wp-content/uploads/2025/04/Digital-Storytelling-04-22-25.png
END:VEVENT
END:VCALENDAR