BEGIN:VCALENDAR
VERSION:2.0
PRODID:-//Mamaway Wiidokdaadwin - ECPv6.15.12//NONSGML v1.0//EN
CALSCALE:GREGORIAN
METHOD:PUBLISH
X-ORIGINAL-URL:https://mamaway.ca
X-WR-CALDESC:Events for Mamaway Wiidokdaadwin
REFRESH-INTERVAL;VALUE=DURATION:PT1H
X-Robots-Tag:noindex
X-PUBLISHED-TTL:PT1H
BEGIN:VTIMEZONE
TZID:America/Toronto
BEGIN:DAYLIGHT
TZOFFSETFROM:-0500
TZOFFSETTO:-0400
TZNAME:EDT
DTSTART:20240310T070000
END:DAYLIGHT
BEGIN:STANDARD
TZOFFSETFROM:-0400
TZOFFSETTO:-0500
TZNAME:EST
DTSTART:20241103T060000
END:STANDARD
BEGIN:DAYLIGHT
TZOFFSETFROM:-0500
TZOFFSETTO:-0400
TZNAME:EDT
DTSTART:20250309T070000
END:DAYLIGHT
BEGIN:STANDARD
TZOFFSETFROM:-0400
TZOFFSETTO:-0500
TZNAME:EST
DTSTART:20251102T060000
END:STANDARD
BEGIN:DAYLIGHT
TZOFFSETFROM:-0500
TZOFFSETTO:-0400
TZNAME:EDT
DTSTART:20260308T070000
END:DAYLIGHT
BEGIN:STANDARD
TZOFFSETFROM:-0400
TZOFFSETTO:-0500
TZNAME:EST
DTSTART:20261101T060000
END:STANDARD
END:VTIMEZONE
BEGIN:VEVENT
DTSTART;TZID=America/Toronto:20250331T200000
DTEND;TZID=America/Toronto:20250331T210000
DTSTAMP:20260420T233625
CREATED:20250305T204741Z
LAST-MODIFIED:20250305T204741Z
UID:10003631-1743451200-1743454800@mamaway.ca
SUMMARY:Digital Storytelling with Bawd  03/31/25
DESCRIPTION:Aanii\, we will be doing some digital storytelling on March 31st at 8:oopm online.\nWintertime is when we usually do our storytelling. These stories involve our ancestor Nanabush and his interactions with the animals of the forest. These tales\, made using AI generated pictures\, usually come with a moral at the end. Hope to see you there\, have a great week!\n\n Please register for this event by visiting this link Digital Storytelling with Bawd 03/31/25\nor by scanning the QR Code in the flyer.\nChi-miigwech!
URL:https://mamaway.ca/event/digital-storytelling-with-bawd-03-31-25/
LOCATION:ON
CATEGORIES:Virtual Event Offering
ATTACH;FMTTYPE=image/png:https://mamaway.ca/wp-content/uploads/2025/03/Digital-Storytelling-03-31-25.png
ORGANIZER;CN="Bawd Elliott":MAILTO:belliott@banac.on.ca
END:VEVENT
END:VCALENDAR