BEGIN:VCALENDAR
VERSION:2.0
PRODID:-//Mamaway Wiidokdaadwin - ECPv6.15.12//NONSGML v1.0//EN
CALSCALE:GREGORIAN
METHOD:PUBLISH
X-ORIGINAL-URL:https://mamaway.ca
X-WR-CALDESC:Events for Mamaway Wiidokdaadwin
REFRESH-INTERVAL;VALUE=DURATION:PT1H
X-Robots-Tag:noindex
X-PUBLISHED-TTL:PT1H
BEGIN:VTIMEZONE
TZID:America/Toronto
BEGIN:DAYLIGHT
TZOFFSETFROM:-0500
TZOFFSETTO:-0400
TZNAME:EDT
DTSTART:20240310T070000
END:DAYLIGHT
BEGIN:STANDARD
TZOFFSETFROM:-0400
TZOFFSETTO:-0500
TZNAME:EST
DTSTART:20241103T060000
END:STANDARD
BEGIN:DAYLIGHT
TZOFFSETFROM:-0500
TZOFFSETTO:-0400
TZNAME:EDT
DTSTART:20250309T070000
END:DAYLIGHT
BEGIN:STANDARD
TZOFFSETFROM:-0400
TZOFFSETTO:-0500
TZNAME:EST
DTSTART:20251102T060000
END:STANDARD
BEGIN:DAYLIGHT
TZOFFSETFROM:-0500
TZOFFSETTO:-0400
TZNAME:EDT
DTSTART:20260308T070000
END:DAYLIGHT
BEGIN:STANDARD
TZOFFSETFROM:-0400
TZOFFSETTO:-0500
TZNAME:EST
DTSTART:20261101T060000
END:STANDARD
END:VTIMEZONE
BEGIN:VEVENT
DTSTART;TZID=America/Toronto:20250326T090000
DTEND;TZID=America/Toronto:20250326T160000
DTSTAMP:20260420T233700
CREATED:20250214T163257Z
LAST-MODIFIED:20250214T163257Z
UID:10003605-1742979600-1743004800@mamaway.ca
SUMMARY:TH Esstin Mcleod Session's (Medicine Healer)
DESCRIPTION:Traditional Healing Session with Esstin Mcleod  in Mamaway Wiidokdaadwins Orillia clinic (in-person) \nPlease contact our clinic closest to you to make a referral \nBarrie Clinic Location \n125 Bell Farm Rd\, Suite 200\nHours: 8:00am – 4:00pm\nPhone: 705-721-9554\nFax: 855-941-2529 \nOrillia Clinic Location \n210 Memorial Ave\, Unit 112A&B\nHours: 8:00am – 4:00pm\nPhone: 705-259-9520\nFax: 855-941-2531 \nA little more about Esstin; \nEsstin (Niganobe)\, Anishinaabe Kwe of the Mississaugi First Nations in Mid-Northern Ontario\, is a Healer / Medicine Practitioner. Esstin provides spiritual consultation and remedies to Native Health Care Centers in northern Ontario. \nAs Medicine Practitioner\, Esstin provides plant-based remedies and instruction. As a Healer\, Esstin works with spiritual energies and is influenced by ceremonial practices and Anishinaabe Elders and teachers. Throughout her 30 years of study and experience\, Esstin developed a “Anishinaabe Wisdom Healing\,” workshop series. Esstin facilitates Anishinaabe Women’s retreats and healing workshops utilizing the Medicine Wheel as an approach to holistic health and healing. \nPlease prepare your tobacco ahead of time to provide to Esstin Mcleod at your session. \nDue to high demand\, we ask that you please call if you have to cancel your appointment so others on the waitlist can see Esstin. Miigwech for your understanding.
URL:https://mamaway.ca/event/th-esstin-mcleod-orillia-sessions-medicine-healer-3/
LOCATION:ON
CATEGORIES:in-person,Mamaway Wiidokdaadwin,Virtual Event Offering
END:VEVENT
BEGIN:VEVENT
DTSTART;TZID=America/Toronto:20250326T180000
DTEND;TZID=America/Toronto:20250326T200000
DTSTAMP:20260420T233700
CREATED:20250109T002745Z
LAST-MODIFIED:20250109T002842Z
UID:10003515-1743012000-1743019200@mamaway.ca
SUMMARY:Red Road to Recovery - Open to Community members (Virtual Session)
DESCRIPTION:Good day\,\n\n\n\nWe will be hosting a 10 week Red road to recovery session Open to all community members over zoom\, please email Kathy to register for the series.\n\n\n\nFeel free to share with those who would benefit from attending this series.\n\n\nMiigwech!
URL:https://mamaway.ca/event/red-road-to-recovery-open-to-community-virtual-session/2025-03-26/
LOCATION:Zoom
ATTACH;FMTTYPE=image/png:https://mamaway.ca/wp-content/uploads/2025/01/Virtual-RR2R-Jan29-Apr-22025-Open-to-community.png
ORGANIZER;CN="Kathy St Amant":MAILTO:redroad1@banac.on.ca
END:VEVENT
END:VCALENDAR