BEGIN:VCALENDAR
VERSION:2.0
PRODID:-//Mamaway Wiidokdaadwin - ECPv6.15.12//NONSGML v1.0//EN
CALSCALE:GREGORIAN
METHOD:PUBLISH
X-WR-CALNAME:Mamaway Wiidokdaadwin
X-ORIGINAL-URL:https://mamaway.ca
X-WR-CALDESC:Events for Mamaway Wiidokdaadwin
REFRESH-INTERVAL;VALUE=DURATION:PT1H
X-Robots-Tag:noindex
X-PUBLISHED-TTL:PT1H
BEGIN:VTIMEZONE
TZID:America/Toronto
BEGIN:DAYLIGHT
TZOFFSETFROM:-0500
TZOFFSETTO:-0400
TZNAME:EDT
DTSTART:20240310T070000
END:DAYLIGHT
BEGIN:STANDARD
TZOFFSETFROM:-0400
TZOFFSETTO:-0500
TZNAME:EST
DTSTART:20241103T060000
END:STANDARD
BEGIN:DAYLIGHT
TZOFFSETFROM:-0500
TZOFFSETTO:-0400
TZNAME:EDT
DTSTART:20250309T070000
END:DAYLIGHT
BEGIN:STANDARD
TZOFFSETFROM:-0400
TZOFFSETTO:-0500
TZNAME:EST
DTSTART:20251102T060000
END:STANDARD
BEGIN:DAYLIGHT
TZOFFSETFROM:-0500
TZOFFSETTO:-0400
TZNAME:EDT
DTSTART:20260308T070000
END:DAYLIGHT
BEGIN:STANDARD
TZOFFSETFROM:-0400
TZOFFSETTO:-0500
TZNAME:EST
DTSTART:20261101T060000
END:STANDARD
END:VTIMEZONE
BEGIN:VEVENT
DTSTART;TZID=America/Toronto:20250325T100000
DTEND;TZID=America/Toronto:20250325T140000
DTSTAMP:20260420T233446
CREATED:20250303T223305Z
LAST-MODIFIED:20250310T144259Z
UID:10003630-1742896800-1742911200@mamaway.ca
SUMMARY:Building Odewe'iigaan
DESCRIPTION:Come join Chris in the upper Cabin at Heart Retreat to learn how to build your own Hand Drum with a birthing Ceremony to follow at a later date. Limited spaces available\, please register early. If you have done this workshop previously please allow others to enjoy the experience! March 25th at 10 am in the cabin at HEART Retreat.
URL:https://mamaway.ca/event/building-odeweiigaan/
LOCATION:HEART Retreat at 328 Line 15 North Oro/Medonte\, 328 Line 15 North\, Oro Medonte\, Ontario\, Canada
CATEGORIES:in-person,Mamaway Wiidokdaadwin
ATTACH;FMTTYPE=image/png:https://mamaway.ca/wp-content/uploads/2025/03/Building-Odeweiigaan-1.png
ORGANIZER;CN="Chris Walser%2C Land Based Healing Coordinator":MAILTO:cwalser@banac.on.ca
END:VEVENT
BEGIN:VEVENT
DTSTART;TZID=America/Toronto:20250325T120000
DTEND;TZID=America/Toronto:20250325T120000
DTSTAMP:20260420T233446
CREATED:20250207T150520Z
LAST-MODIFIED:20250207T150835Z
UID:10003600-1742904000-1742904000@mamaway.ca
SUMMARY:Addiction Support & Education Circle
DESCRIPTION:Good day!\n\n\n\nStarting March 3rd\, 2025\n\n\n\nThis four-week program is designed to support indigenous and non indigenous participants in recovery from substance use helping to increase self-awareness\, emotional resilience\, and practical coping skills.\n\n\n\nThe information covered will help participants to gain tools to manage cravings\, process emotions\, and reach their substance use goals.\n\n\n\nKey topics covered include:\n– Wellness & Self-Awareness: Explore the four domains of wellness: physical\, mental\, spiritual\, and emotional.\n– CBT & Thought Patterns: Learn how thoughts\, feelings\, and behaviors influence substance use; recognize maladaptive thinking and practice positive self-talk.\n– DBT Skills for Recovery: Develop mindfulness\, distress tolerance\, interpersonal effectiveness\, and emotional regulation to manage cravings and emotional triggers.\n– Empathy\, Self-Compassion & Forgiveness: Cultivate kindness toward yourself and others while letting go of past mistakes.\n– Resilience & Emotional Processing: Strengthen the ability to navigate stress\, fully experience emotions\, and reframe negative narratives.\n– Relapse Prevention & Future Planning: Identify community resources\, support systems\, and coping strategies to maintain long-term sobriety.\n\n\n\nBy the end of the program\, participants will have a personalized recovery plan with clear goals and practical tools to help them to sustain their progress and confidently face future challenges.\n\n\n\nTo register for this program\, contact our Central Registration at: 705-721-9554\n\n\n\nIf you have any questions\, please email Lorie at lroberts@banac.on.ca
URL:https://mamaway.ca/event/13073/2025-03-25/
LOCATION:virtual
ATTACH;FMTTYPE=image/png:https://mamaway.ca/wp-content/uploads/2025/02/Addiction-Support-Education-Circle-March-2025.png
ORGANIZER;CN="Lorie Roberts":MAILTO:lroberts@banac.on.ca
END:VEVENT
BEGIN:VEVENT
DTSTART;TZID=America/Toronto:20250325T183000
DTEND;TZID=America/Toronto:20250325T203000
DTSTAMP:20260420T233446
CREATED:20250122T150350Z
LAST-MODIFIED:20250122T151352Z
UID:10003543-1742927400-1742934600@mamaway.ca
SUMMARY:Ongoing Red Road to Recovery Peer Support Group
DESCRIPTION:If you have attended Red Road to Recovery series in the past and are looking for continued connection. \nThis ongoing peer support group meets weekly over zoom\, Tuesdays from 630-830pm. \nA peer support group is a safe space where community members with similar experiences can connect\, share\, and support each other. \nThis peer support group can help you feel less alone in your recovery\, learn from others\, and maintain hope. \nRegister by emailing Steve for zoom access.
URL:https://mamaway.ca/event/ongoing-red-road-to-recovery-peer-support-group/2025-03-25/
LOCATION:ON
ATTACH;FMTTYPE=image/png:https://mamaway.ca/wp-content/uploads/2025/01/Ongoing-peer-support-group-RR2R.png
ORGANIZER;CN="Steve Beaupre":MAILTO:mwredroad2@banac.on.ca
END:VEVENT
END:VCALENDAR