BEGIN:VCALENDAR
VERSION:2.0
PRODID:-//Mamaway Wiidokdaadwin - ECPv6.15.12//NONSGML v1.0//EN
CALSCALE:GREGORIAN
METHOD:PUBLISH
X-ORIGINAL-URL:https://mamaway.ca
X-WR-CALDESC:Events for Mamaway Wiidokdaadwin
REFRESH-INTERVAL;VALUE=DURATION:PT1H
X-Robots-Tag:noindex
X-PUBLISHED-TTL:PT1H
BEGIN:VTIMEZONE
TZID:America/Toronto
BEGIN:DAYLIGHT
TZOFFSETFROM:-0500
TZOFFSETTO:-0400
TZNAME:EDT
DTSTART:20240310T070000
END:DAYLIGHT
BEGIN:STANDARD
TZOFFSETFROM:-0400
TZOFFSETTO:-0500
TZNAME:EST
DTSTART:20241103T060000
END:STANDARD
BEGIN:DAYLIGHT
TZOFFSETFROM:-0500
TZOFFSETTO:-0400
TZNAME:EDT
DTSTART:20250309T070000
END:DAYLIGHT
BEGIN:STANDARD
TZOFFSETFROM:-0400
TZOFFSETTO:-0500
TZNAME:EST
DTSTART:20251102T060000
END:STANDARD
BEGIN:DAYLIGHT
TZOFFSETFROM:-0500
TZOFFSETTO:-0400
TZNAME:EDT
DTSTART:20260308T070000
END:DAYLIGHT
BEGIN:STANDARD
TZOFFSETFROM:-0400
TZOFFSETTO:-0500
TZNAME:EST
DTSTART:20261101T060000
END:STANDARD
END:VTIMEZONE
BEGIN:VEVENT
DTSTART;TZID=America/Toronto:20250321T110000
DTEND;TZID=America/Toronto:20250321T140000
DTSTAMP:20260420T233656
CREATED:20250213T042754Z
LAST-MODIFIED:20250228T180847Z
UID:10003604-1742554800-1742565600@mamaway.ca
SUMMARY:Niimooshnaadaan Minadoo Waatsoowin - 3rd Annual Feeding Our Spirit Series
DESCRIPTION:Hello\, \nWe are extremely excited to share that we will be hosting our 3rd  Annual  “Niimooshnaadaan Minadoo Waatsoowin – Feeding Our Spirit Series! \nThe 4 Fridays in March (7th\, 14th\, 21st and 28th) we are gathering to grow our sacred community bundles by taking in the teachings of a number of elders and healers from our communities\, from 11am-2pm!  A light lunch will be provided😊 \nWe are thrilled to share that Leroy Jock Hill will be joining us week 3 of the series! \nWe are dedicated to engaging our community and building the knowledge and sharing with our communities in traditional ways that not only build our identity as Indigenous Peoples but grow our connection to each other and the land we walk on.
URL:https://mamaway.ca/event/niimooshnaadaan-minadoo-waatsoowin-3rd-annual-feeding-our-spirit-series-2/
LOCATION:ON
ATTACH;FMTTYPE=image/png:https://mamaway.ca/wp-content/uploads/2025/02/Feeding-our-Spirit-Series-Flyer-2025.png
ORGANIZER;CN="Sheila Winegarden":MAILTO:swinegarden@banac.on.ca
END:VEVENT
END:VCALENDAR