BEGIN:VCALENDAR
VERSION:2.0
PRODID:-//Mamaway Wiidokdaadwin - ECPv6.15.12//NONSGML v1.0//EN
CALSCALE:GREGORIAN
METHOD:PUBLISH
X-WR-CALNAME:Mamaway Wiidokdaadwin
X-ORIGINAL-URL:https://mamaway.ca
X-WR-CALDESC:Events for Mamaway Wiidokdaadwin
REFRESH-INTERVAL;VALUE=DURATION:PT1H
X-Robots-Tag:noindex
X-PUBLISHED-TTL:PT1H
BEGIN:VTIMEZONE
TZID:America/Toronto
BEGIN:DAYLIGHT
TZOFFSETFROM:-0500
TZOFFSETTO:-0400
TZNAME:EDT
DTSTART:20240310T070000
END:DAYLIGHT
BEGIN:STANDARD
TZOFFSETFROM:-0400
TZOFFSETTO:-0500
TZNAME:EST
DTSTART:20241103T060000
END:STANDARD
BEGIN:DAYLIGHT
TZOFFSETFROM:-0500
TZOFFSETTO:-0400
TZNAME:EDT
DTSTART:20250309T070000
END:DAYLIGHT
BEGIN:STANDARD
TZOFFSETFROM:-0400
TZOFFSETTO:-0500
TZNAME:EST
DTSTART:20251102T060000
END:STANDARD
BEGIN:DAYLIGHT
TZOFFSETFROM:-0500
TZOFFSETTO:-0400
TZNAME:EDT
DTSTART:20260308T070000
END:DAYLIGHT
BEGIN:STANDARD
TZOFFSETFROM:-0400
TZOFFSETTO:-0500
TZNAME:EST
DTSTART:20261101T060000
END:STANDARD
END:VTIMEZONE
BEGIN:VEVENT
DTSTART;TZID=America/Toronto:20250318T120000
DTEND;TZID=America/Toronto:20250318T120000
DTSTAMP:20260420T233419
CREATED:20250207T150520Z
LAST-MODIFIED:20250207T150835Z
UID:10003598-1742299200-1742299200@mamaway.ca
SUMMARY:Addiction Support & Education Circle
DESCRIPTION:Good day!\n\n\n\nStarting March 3rd\, 2025\n\n\n\nThis four-week program is designed to support indigenous and non indigenous participants in recovery from substance use helping to increase self-awareness\, emotional resilience\, and practical coping skills.\n\n\n\nThe information covered will help participants to gain tools to manage cravings\, process emotions\, and reach their substance use goals.\n\n\n\nKey topics covered include:\n– Wellness & Self-Awareness: Explore the four domains of wellness: physical\, mental\, spiritual\, and emotional.\n– CBT & Thought Patterns: Learn how thoughts\, feelings\, and behaviors influence substance use; recognize maladaptive thinking and practice positive self-talk.\n– DBT Skills for Recovery: Develop mindfulness\, distress tolerance\, interpersonal effectiveness\, and emotional regulation to manage cravings and emotional triggers.\n– Empathy\, Self-Compassion & Forgiveness: Cultivate kindness toward yourself and others while letting go of past mistakes.\n– Resilience & Emotional Processing: Strengthen the ability to navigate stress\, fully experience emotions\, and reframe negative narratives.\n– Relapse Prevention & Future Planning: Identify community resources\, support systems\, and coping strategies to maintain long-term sobriety.\n\n\n\nBy the end of the program\, participants will have a personalized recovery plan with clear goals and practical tools to help them to sustain their progress and confidently face future challenges.\n\n\n\nTo register for this program\, contact our Central Registration at: 705-721-9554\n\n\n\nIf you have any questions\, please email Lorie at lroberts@banac.on.ca
URL:https://mamaway.ca/event/13073/2025-03-18/
LOCATION:virtual
ATTACH;FMTTYPE=image/png:https://mamaway.ca/wp-content/uploads/2025/02/Addiction-Support-Education-Circle-March-2025.png
ORGANIZER;CN="Lorie Roberts":MAILTO:lroberts@banac.on.ca
END:VEVENT
BEGIN:VEVENT
DTSTART;TZID=America/Toronto:20250318T130000
DTEND;TZID=America/Toronto:20250318T150000
DTSTAMP:20260420T233419
CREATED:20241214T052024Z
LAST-MODIFIED:20241214T052105Z
UID:10001774-1742302800-1742310000@mamaway.ca
SUMMARY:Moonlodge with Grandmother Renee & Sarah Connors
DESCRIPTION:Ongoing until March 2026 \n3rd Tues of every month\, 1-3pm \nWe meet monthly over Microsoft Teams \nEmail Lianne to be added to the distribution list. \nMoon Lodge Registration 2025
URL:https://mamaway.ca/event/moonlodge-with-grandmother-renee-sarah-connors-3-2/2025-03-18/
LOCATION:Microsoft Teams
ATTACH;FMTTYPE=image/png:https://mamaway.ca/wp-content/uploads/2024/02/Moonlodge-2024-25-1.png
ORGANIZER;CN="Lianne Hudon":MAILTO:lhudon@banac.on.ca
END:VEVENT
BEGIN:VEVENT
DTSTART;TZID=America/Toronto:20250318T183000
DTEND;TZID=America/Toronto:20250318T203000
DTSTAMP:20260420T233419
CREATED:20250122T150350Z
LAST-MODIFIED:20250122T151352Z
UID:10003542-1742322600-1742329800@mamaway.ca
SUMMARY:Ongoing Red Road to Recovery Peer Support Group
DESCRIPTION:If you have attended Red Road to Recovery series in the past and are looking for continued connection. \nThis ongoing peer support group meets weekly over zoom\, Tuesdays from 630-830pm. \nA peer support group is a safe space where community members with similar experiences can connect\, share\, and support each other. \nThis peer support group can help you feel less alone in your recovery\, learn from others\, and maintain hope. \nRegister by emailing Steve for zoom access.
URL:https://mamaway.ca/event/ongoing-red-road-to-recovery-peer-support-group/2025-03-18/
LOCATION:ON
ATTACH;FMTTYPE=image/png:https://mamaway.ca/wp-content/uploads/2025/01/Ongoing-peer-support-group-RR2R.png
ORGANIZER;CN="Steve Beaupre":MAILTO:mwredroad2@banac.on.ca
END:VEVENT
END:VCALENDAR