BEGIN:VCALENDAR
VERSION:2.0
PRODID:-//Mamaway Wiidokdaadwin - ECPv6.15.12//NONSGML v1.0//EN
CALSCALE:GREGORIAN
METHOD:PUBLISH
X-ORIGINAL-URL:https://mamaway.ca
X-WR-CALDESC:Events for Mamaway Wiidokdaadwin
REFRESH-INTERVAL;VALUE=DURATION:PT1H
X-Robots-Tag:noindex
X-PUBLISHED-TTL:PT1H
BEGIN:VTIMEZONE
TZID:America/Toronto
BEGIN:DAYLIGHT
TZOFFSETFROM:-0500
TZOFFSETTO:-0400
TZNAME:EDT
DTSTART:20240310T070000
END:DAYLIGHT
BEGIN:STANDARD
TZOFFSETFROM:-0400
TZOFFSETTO:-0500
TZNAME:EST
DTSTART:20241103T060000
END:STANDARD
BEGIN:DAYLIGHT
TZOFFSETFROM:-0500
TZOFFSETTO:-0400
TZNAME:EDT
DTSTART:20250309T070000
END:DAYLIGHT
BEGIN:STANDARD
TZOFFSETFROM:-0400
TZOFFSETTO:-0500
TZNAME:EST
DTSTART:20251102T060000
END:STANDARD
BEGIN:DAYLIGHT
TZOFFSETFROM:-0500
TZOFFSETTO:-0400
TZNAME:EDT
DTSTART:20260308T070000
END:DAYLIGHT
BEGIN:STANDARD
TZOFFSETFROM:-0400
TZOFFSETTO:-0500
TZNAME:EST
DTSTART:20261101T060000
END:STANDARD
END:VTIMEZONE
BEGIN:VEVENT
DTSTART;TZID=America/Toronto:20250211T100000
DTEND;TZID=America/Toronto:20250211T120000
DTSTAMP:20260420T220212
CREATED:20250122T141359Z
LAST-MODIFIED:20250122T142307Z
UID:10003527-1739268000-1739275200@mamaway.ca
SUMMARY:Addiction Support & Education Circle Series
DESCRIPTION:The next cycle of our Addiction Support and Education Circle is set to run February 3rd to February 25th\, 2025 from 10am-12pm . It will be a daytime offering. \nThe Family Day holiday is a Monday in this cycle. The group will not run on that day. \nA friendly reminder that the program is for those who are in the Action stage of change with respect to their substance use. They will have a goal that they are at least starting to work on. We ask that participants to discussion and interact respectfully with other members of the group. \nThe program remains virtual at this time so participants also need to have the technology\, wifi access and enough tech savvy to join meetings by zoom. They also need to be able to ensure a private space for the confidentiality of other members. \nWhile we really want participants to attend the Peer Support Group (PSG) as part of this program\, it can be difficult with it being at a different time than the program itself. We continue to strongly encourage attendance and we now have three groups; the original PSG (weekly)\, one for those who identify as Indigenous (weekly) and a monthly Women’s PSG. \nTo refer\, please provide the central referral number listed on the flyer. Central Referral is located at Mamaway; after the initial basic information gathering\, clients will receive a call from a facilitator who will complete an Intake and provide all necessary details. \nClients can contact our Central Referral to register at 705-721-9554
URL:https://mamaway.ca/event/addiction-support-education-circle-series/2025-02-11/
LOCATION:Virtual Offering
ATTACH;FMTTYPE=image/png:https://mamaway.ca/wp-content/uploads/2025/01/Addiction-Support-Education-Circle-Feb-2025.png
END:VEVENT
BEGIN:VEVENT
DTSTART;TZID=America/Toronto:20250211T100000
DTEND;TZID=America/Toronto:20250211T140000
DTSTAMP:20260420T220212
CREATED:20241217T210903Z
LAST-MODIFIED:20241217T211355Z
UID:10003399-1739268000-1739282400@mamaway.ca
SUMMARY:Building Our Bundles: Uplifting Your Spirit
DESCRIPTION:Join Mamaway Wiidokdaadwin Life Promoters Courtney Thomas and Bawd Elliott for Building Our Bundles: Uplifting Your Spirit 8-week Series! \nThis series will provide a safe and supportive space to connect with other community members and explore a range of topics related to cultural teachings and building your own bundle. By participating in the program\, it will provide you with the tools and resources you need to help you live a good life! \nHere is the breakdown of the 8-week Series and what we will be doing each week: \n\nWeek 1: What’s in Your Bundle?: What is a bundle? Bundle teachings.\n\n\nWeek 2: Four Sacred Medicines: Teachings about the four sacred medicines and harvesting.\n\n\nWeek 3: Eagle Feather Teachings: Eagle feather dressing and teachings.\n\n\nWeek 4: The Moccasin We Wear: Share various style of moccasins from different nations around Turtle Island.\n\n\nWeek 5: Shaker: What are shakers for?\n\n\nWeek 6: Feast Bundle: Making a feast bundle.\n\n\nWeek 7: Ribbon Skirt/Shirt Teachings: Why do we wear ribbon skirts and ribbon skirts? What are your colors?\n\n\nWeek 8: Feast Your Bundles: Potluck Feast! Bring your favorite dish to share!\n\nThroughout the 8 weeks\, participants will make a bundle bag\, smudge kit\, medicine bags\, dress a feather\, a feather case\, moccasins\, a shaker\, build a feast bundle\, ribbon skirts/shirts and lastly\, bring their favorite dish to feast their bundles. \nThe series will run every Tuesday from 10:00am – 2:00pm in Orillia. \nClick link to register: https://survey.alchemer-ca.com/s3/50291887/Building-Our-Bundles-Uplifting-Your-Spirit-Q4 \nIf you have any questions\, please reach out to Courtney Thomas at cthomas@banac.on.ca or Bawd Elliott at belliott@banac.on.ca 
URL:https://mamaway.ca/event/building-our-bundles-uplifting-your-spirit-2/2025-02-11/
LOCATION:110 Matchedash Street N\, Orillia (Mamaway Wiidokdaadwin Match Hub)\, 110 Matchedash Street N\, Orillia\, Ontario\, L3V 4T8\, Canada
ATTACH;FMTTYPE=image/jpeg:https://mamaway.ca/wp-content/uploads/2024/12/Building-Our-Bundles-Series-Q4-Flyer.jpg
ORGANIZER;CN="Courtney Thomas":MAILTO:cthomas@banac.on.ca
END:VEVENT
BEGIN:VEVENT
DTSTART;TZID=America/Toronto:20250211T183000
DTEND;TZID=America/Toronto:20250211T203000
DTSTAMP:20260420T220212
CREATED:20250122T150350Z
LAST-MODIFIED:20250122T151352Z
UID:10003537-1739298600-1739305800@mamaway.ca
SUMMARY:Ongoing Red Road to Recovery Peer Support Group
DESCRIPTION:If you have attended Red Road to Recovery series in the past and are looking for continued connection. \nThis ongoing peer support group meets weekly over zoom\, Tuesdays from 630-830pm. \nA peer support group is a safe space where community members with similar experiences can connect\, share\, and support each other. \nThis peer support group can help you feel less alone in your recovery\, learn from others\, and maintain hope. \nRegister by emailing Steve for zoom access.
URL:https://mamaway.ca/event/ongoing-red-road-to-recovery-peer-support-group/2025-02-11/
LOCATION:ON
ATTACH;FMTTYPE=image/png:https://mamaway.ca/wp-content/uploads/2025/01/Ongoing-peer-support-group-RR2R.png
ORGANIZER;CN="Steve Beaupre":MAILTO:mwredroad2@banac.on.ca
END:VEVENT
END:VCALENDAR