BEGIN:VCALENDAR
VERSION:2.0
PRODID:-//Mamaway Wiidokdaadwin - ECPv6.15.12//NONSGML v1.0//EN
CALSCALE:GREGORIAN
METHOD:PUBLISH
X-WR-CALNAME:Mamaway Wiidokdaadwin
X-ORIGINAL-URL:https://mamaway.ca
X-WR-CALDESC:Events for Mamaway Wiidokdaadwin
REFRESH-INTERVAL;VALUE=DURATION:PT1H
X-Robots-Tag:noindex
X-PUBLISHED-TTL:PT1H
BEGIN:VTIMEZONE
TZID:America/Toronto
BEGIN:DAYLIGHT
TZOFFSETFROM:-0500
TZOFFSETTO:-0400
TZNAME:EDT
DTSTART:20240310T070000
END:DAYLIGHT
BEGIN:STANDARD
TZOFFSETFROM:-0400
TZOFFSETTO:-0500
TZNAME:EST
DTSTART:20241103T060000
END:STANDARD
BEGIN:DAYLIGHT
TZOFFSETFROM:-0500
TZOFFSETTO:-0400
TZNAME:EDT
DTSTART:20250309T070000
END:DAYLIGHT
BEGIN:STANDARD
TZOFFSETFROM:-0400
TZOFFSETTO:-0500
TZNAME:EST
DTSTART:20251102T060000
END:STANDARD
BEGIN:DAYLIGHT
TZOFFSETFROM:-0500
TZOFFSETTO:-0400
TZNAME:EDT
DTSTART:20260308T070000
END:DAYLIGHT
BEGIN:STANDARD
TZOFFSETFROM:-0400
TZOFFSETTO:-0500
TZNAME:EST
DTSTART:20261101T060000
END:STANDARD
END:VTIMEZONE
BEGIN:VEVENT
DTSTART;VALUE=DATE:20250124
DTEND;VALUE=DATE:20250125
DTSTAMP:20260420T170400
CREATED:20241218T140007Z
LAST-MODIFIED:20241218T215517Z
UID:10003473-1737676800-1737763199@mamaway.ca
SUMMARY:Building Ojibway Style Moccasins
DESCRIPTION:Hello Please join Chris on Jan 24th\, 2025 to learn how to build your own Ojibway style moccasins. This will be a full day of challenging sewing and you will need strong hands to complete this project. The class will start at 9 am until completed. Lunch will be provided.
URL:https://mamaway.ca/event/building-ojibway-style-moccasins/
LOCATION:110 Matchedash Street N\, Orillia (Mamaway Wiidokdaadwin Match Hub)\, 110 Matchedash Street N\, Orillia\, Ontario\, L3V 4T8\, Canada
ATTACH;FMTTYPE=image/png:https://mamaway.ca/wp-content/uploads/2024/12/Buildiing-Ojibway-style-moccasins-.png
ORGANIZER;CN="Chris Walser%2C Land Based Healing Coordinator":MAILTO:cwalser@banac.on.ca
END:VEVENT
END:VCALENDAR