BEGIN:VCALENDAR
VERSION:2.0
PRODID:-//Mamaway Wiidokdaadwin - ECPv6.15.12//NONSGML v1.0//EN
CALSCALE:GREGORIAN
METHOD:PUBLISH
X-ORIGINAL-URL:https://mamaway.ca
X-WR-CALDESC:Events for Mamaway Wiidokdaadwin
REFRESH-INTERVAL;VALUE=DURATION:PT1H
X-Robots-Tag:noindex
X-PUBLISHED-TTL:PT1H
BEGIN:VTIMEZONE
TZID:America/Toronto
BEGIN:DAYLIGHT
TZOFFSETFROM:-0500
TZOFFSETTO:-0400
TZNAME:EDT
DTSTART:20240310T070000
END:DAYLIGHT
BEGIN:STANDARD
TZOFFSETFROM:-0400
TZOFFSETTO:-0500
TZNAME:EST
DTSTART:20241103T060000
END:STANDARD
BEGIN:DAYLIGHT
TZOFFSETFROM:-0500
TZOFFSETTO:-0400
TZNAME:EDT
DTSTART:20250309T070000
END:DAYLIGHT
BEGIN:STANDARD
TZOFFSETFROM:-0400
TZOFFSETTO:-0500
TZNAME:EST
DTSTART:20251102T060000
END:STANDARD
BEGIN:DAYLIGHT
TZOFFSETFROM:-0500
TZOFFSETTO:-0400
TZNAME:EDT
DTSTART:20260308T070000
END:DAYLIGHT
BEGIN:STANDARD
TZOFFSETFROM:-0400
TZOFFSETTO:-0500
TZNAME:EST
DTSTART:20261101T060000
END:STANDARD
END:VTIMEZONE
BEGIN:VEVENT
DTSTART;TZID=America/Toronto:20250107T100000
DTEND;TZID=America/Toronto:20250107T110000
DTSTAMP:20260420T170532
CREATED:20241217T203900Z
LAST-MODIFIED:20241217T203900Z
UID:10003415-1736244000-1736247600@mamaway.ca
SUMMARY:Drumming in the Teepee with Chris
DESCRIPTION:Come and join Chris on the land in the teepee to share some song and laughter. Please bring your drums or shakers if you have one\, but not necessary. Let Chris know if you need to borrow one for the day. https://survey.alchemer-ca.com/s3/50292370/c1c0a1c14aa8 \n 
URL:https://mamaway.ca/event/drumming-in-the-teepee-with-chris/
LOCATION:HEART Retreat at 328 Line 15 North Oro/Medonte\, 328 Line 15 North\, Oro Medonte\, Ontario\, Canada
ATTACH;FMTTYPE=image/png:https://mamaway.ca/wp-content/uploads/2024/12/January-Drumming-2025.png
ORGANIZER;CN="Chris Walser%2C Land Based Healing Coordinator":MAILTO:cwalser@banac.on.ca
END:VEVENT
BEGIN:VEVENT
DTSTART;TZID=America/Toronto:20250107T130000
DTEND;TZID=America/Toronto:20250107T150000
DTSTAMP:20260420T170532
CREATED:20241030T144824Z
LAST-MODIFIED:20241030T144824Z
UID:10003360-1736254800-1736262000@mamaway.ca
SUMMARY:Red Road to Recovery- In Person at Enaahtig Outreach- Orillia
DESCRIPTION:A 10-week program that uses the Medicine Wheel as a teaching tool and our Indigenous approach to healing to address the \nPhysical\, Emotional\, Mental\, and Spiritual \naspects of addiction and mental health recovery. \nRed Road Facilitators: Kathy St.Amant and Steve Beaupre \n  \n  \n 
URL:https://mamaway.ca/event/red-road-to-recovery-in-person-at-enaahtig-outreach-orillia/2025-01-07/
LOCATION:Enaahtig Orillia Outreach Centre\, 334 West St. N.\, Orillia\, ontaio\, Canada
ATTACH;FMTTYPE=image/png:https://mamaway.ca/wp-content/uploads/2024/10/Enaahtig-Outreach-Nov12-24-Jan28-25.png
ORGANIZER;CN="Zoe Horst":MAILTO:zhorst@banac.on.ca
END:VEVENT
BEGIN:VEVENT
DTSTART;TZID=America/Toronto:20250107T183000
DTEND;TZID=America/Toronto:20250107T203000
DTSTAMP:20260420T170532
CREATED:20250122T150350Z
LAST-MODIFIED:20250122T151352Z
UID:10003532-1736274600-1736281800@mamaway.ca
SUMMARY:Ongoing Red Road to Recovery Peer Support Group
DESCRIPTION:If you have attended Red Road to Recovery series in the past and are looking for continued connection. \nThis ongoing peer support group meets weekly over zoom\, Tuesdays from 630-830pm. \nA peer support group is a safe space where community members with similar experiences can connect\, share\, and support each other. \nThis peer support group can help you feel less alone in your recovery\, learn from others\, and maintain hope. \nRegister by emailing Steve for zoom access.
URL:https://mamaway.ca/event/ongoing-red-road-to-recovery-peer-support-group/2025-01-07/
LOCATION:ON
ATTACH;FMTTYPE=image/png:https://mamaway.ca/wp-content/uploads/2025/01/Ongoing-peer-support-group-RR2R.png
ORGANIZER;CN="Steve Beaupre":MAILTO:mwredroad2@banac.on.ca
END:VEVENT
END:VCALENDAR