BEGIN:VCALENDAR
VERSION:2.0
PRODID:-//Mamaway Wiidokdaadwin - ECPv6.15.12//NONSGML v1.0//EN
CALSCALE:GREGORIAN
METHOD:PUBLISH
X-WR-CALNAME:Mamaway Wiidokdaadwin
X-ORIGINAL-URL:https://mamaway.ca
X-WR-CALDESC:Events for Mamaway Wiidokdaadwin
REFRESH-INTERVAL;VALUE=DURATION:PT1H
X-Robots-Tag:noindex
X-PUBLISHED-TTL:PT1H
BEGIN:VTIMEZONE
TZID:America/Toronto
BEGIN:DAYLIGHT
TZOFFSETFROM:-0500
TZOFFSETTO:-0400
TZNAME:EDT
DTSTART:20230312T070000
END:DAYLIGHT
BEGIN:STANDARD
TZOFFSETFROM:-0400
TZOFFSETTO:-0500
TZNAME:EST
DTSTART:20231105T060000
END:STANDARD
BEGIN:DAYLIGHT
TZOFFSETFROM:-0500
TZOFFSETTO:-0400
TZNAME:EDT
DTSTART:20240310T070000
END:DAYLIGHT
BEGIN:STANDARD
TZOFFSETFROM:-0400
TZOFFSETTO:-0500
TZNAME:EST
DTSTART:20241103T060000
END:STANDARD
BEGIN:DAYLIGHT
TZOFFSETFROM:-0500
TZOFFSETTO:-0400
TZNAME:EDT
DTSTART:20250309T070000
END:DAYLIGHT
BEGIN:STANDARD
TZOFFSETFROM:-0400
TZOFFSETTO:-0500
TZNAME:EST
DTSTART:20251102T060000
END:STANDARD
END:VTIMEZONE
BEGIN:VEVENT
DTSTART;TZID=America/Toronto:20241220T090000
DTEND;TZID=America/Toronto:20241220T150000
DTSTAMP:20260420T153840
CREATED:20241126T173115Z
LAST-MODIFIED:20241127T140213Z
UID:10003384-1734685200-1734706800@mamaway.ca
SUMMARY:Traditional Healing Session with John in Rama
DESCRIPTION:Please contact our clinic closest to you to make a referral \nBarrie Clinic Location \n125 Bell Farm Rd\, Suite 200\nHours: 8:00am – 4:00pm\nPhone: 705-721-9554\nFax: 855-941-2529 \nOrillia Clinic Location \n210 Memorial Ave\, Unit 112A&B\nHours: 8:00am – 4:00pm\nPhone: 705-259-9520\nFax: 855-941-2531 \nThis session is being held in Rama BANAC Head Office\, 6030 Rama Rd\, Unit 3 \n1-1 Healing Session with John Rice\, sharing traditional teachings and offering counselling. \nMore about Elder\, John Rice: \nZahgausgai “Sun Ray”\, Mukwa “Bear Clan”\, is an Ojibwa and a 3rd Degree member of the Three Fires Midewiwin Society. John’s home community is Wasauksing First Nation near Parry Sound\, Ontario. John’s childhood was rich in stories of his people; his Midewiwin Education began in 1982 and is ongoing. He has made it a life passion to study the “Mlikaans” Teachings which are about the whole development of the human before\, during and after life. John is a Storyteller\, Big Drum Carrier\, Ceremonialist\, Singer and Dancer. His greatest joy is watching Ojibwa youth learn and practice the culture. John generously shares his knowledge throughout the Ontario region. He currently works as part of the Early Psychosis Intervention Team at Canadian Mental Health Association in Barrie\, Ontario as a Healer. His past work experience includes work as the Elder/Healer at the Mental Health Centre in Penetanguishene and Fenbrook Medium Institution near Gravenhurst\, Ontario. He has lectured part time at Georgian College in Barrie. John travels internationally and is a well-respected teacher and elder in the Anishinaabe Nation.
URL:https://mamaway.ca/event/traditional-healing-session-with-john-in-rama/
LOCATION:ON
ATTACH;FMTTYPE=image/png:https://mamaway.ca/wp-content/uploads/2024/11/Mamaway-consultations-1-1.png
END:VEVENT
BEGIN:VEVENT
DTSTART;TZID=America/Toronto:20241220T110000
DTEND;TZID=America/Toronto:20241220T140000
DTSTAMP:20260420T153840
CREATED:20241204T215746Z
LAST-MODIFIED:20241204T222316Z
UID:10003386-1734692400-1734703200@mamaway.ca
SUMMARY:Community Cooking Circle
DESCRIPTION:Join our Nutritionist Christal Champagne to cook\, eat and share stories. \nYou will make Three sister’s soup together 🙂 \n  \nPlease note overflow parking will be at the church 2 doors down\, more details to come after registration. \nThere is limited permit parking (2 spots on site). \n  \nthank you for your understanding.
URL:https://mamaway.ca/event/community-cooking-circle/
LOCATION:562 King St\, Midland ON\, 562 King St\, Midland\, Ontario\, L4R 4P3\, Canada
ATTACH;FMTTYPE=image/png:https://mamaway.ca/wp-content/uploads/2024/12/Nutritional-Cooking-class-Midland.png
END:VEVENT
END:VCALENDAR