BEGIN:VCALENDAR
VERSION:2.0
PRODID:-//Mamaway Wiidokdaadwin - ECPv6.15.12//NONSGML v1.0//EN
CALSCALE:GREGORIAN
METHOD:PUBLISH
X-WR-CALNAME:Mamaway Wiidokdaadwin
X-ORIGINAL-URL:https://mamaway.ca
X-WR-CALDESC:Events for Mamaway Wiidokdaadwin
REFRESH-INTERVAL;VALUE=DURATION:PT1H
X-Robots-Tag:noindex
X-PUBLISHED-TTL:PT1H
BEGIN:VTIMEZONE
TZID:America/Toronto
BEGIN:DAYLIGHT
TZOFFSETFROM:-0500
TZOFFSETTO:-0400
TZNAME:EDT
DTSTART:20230312T070000
END:DAYLIGHT
BEGIN:STANDARD
TZOFFSETFROM:-0400
TZOFFSETTO:-0500
TZNAME:EST
DTSTART:20231105T060000
END:STANDARD
BEGIN:DAYLIGHT
TZOFFSETFROM:-0500
TZOFFSETTO:-0400
TZNAME:EDT
DTSTART:20240310T070000
END:DAYLIGHT
BEGIN:STANDARD
TZOFFSETFROM:-0400
TZOFFSETTO:-0500
TZNAME:EST
DTSTART:20241103T060000
END:STANDARD
BEGIN:DAYLIGHT
TZOFFSETFROM:-0500
TZOFFSETTO:-0400
TZNAME:EDT
DTSTART:20250309T070000
END:DAYLIGHT
BEGIN:STANDARD
TZOFFSETFROM:-0400
TZOFFSETTO:-0500
TZNAME:EST
DTSTART:20251102T060000
END:STANDARD
END:VTIMEZONE
BEGIN:VEVENT
DTSTART;TZID=America/Toronto:20241203T090000
DTEND;TZID=America/Toronto:20241203T160000
DTSTAMP:20260420T153838
CREATED:20241126T164411Z
LAST-MODIFIED:20241126T172059Z
UID:10003383-1733216400-1733241600@mamaway.ca
SUMMARY:Traditional Healing Session with Esstin Mcleod in Orillia
DESCRIPTION:Please contact our clinic closest to you to make a referral \nBarrie Clinic Location \n125 Bell Farm Rd\, Suite 200\nHours: 8:00am – 4:00pm\nPhone: 705-721-9554\nFax: 855-941-2529 \nOrillia Clinic Location \n210 Memorial Ave\, Unit 112A&B\nHours: 8:00am – 4:00pm\nPhone: 705-259-9520\nFax: 855-941-2531 \nA little more about Esstin; \nEsstin (Niganobe)\, Anishinaabe Kwe of the Mississaugi First Nations in Mid-Northern Ontario\, is a Healer / Medicine Practitioner. Esstin provides spiritual consultation and remedies to Native Health Care Centers in northern Ontario. As Medicine Practitioner\, Esstin provides plant-based remedies and instruction. As Healer\, Esstin’s works with spiritual energies and is influenced by ceremonial practices and Anishinaabe Elders and teachers. Throughout her 30 years of study and experience\, Esstin developed a “Anishinaabe Wisdom Healing\,” workshop series. Esstin facilitates Anishinaabe Women’s retreats and healing workshops utilizing the Medicine Wheel as an approach to holistic health and healing. \nPlease prepare your tobacco ahead of time to provide to Esstin Mcleod at your session. \nDue to high demand\, we ask that you please call if you have to cancel your appointment so others on the waitlist can see Esstin. Miigwech for your understanding.
URL:https://mamaway.ca/event/traditional-healing-session-with-esstin-mcleod-in-orillia/
LOCATION:Orillia Mamaway Wiidokdaadwin\, 210 Memorial Ave\, Suite 108\, Orillia\, Ontario\, L3V7V1\, Canada
ATTACH;FMTTYPE=image/png:https://mamaway.ca/wp-content/uploads/2024/11/Mamaway-consultations-1-1.png
ORGANIZER;CN="Troy Monague":MAILTO:tmonague@banac.on.ca
END:VEVENT
BEGIN:VEVENT
DTSTART;TZID=America/Toronto:20241203T103000
DTEND;TZID=America/Toronto:20241203T123000
DTSTAMP:20260420T153838
CREATED:20240806T162121Z
LAST-MODIFIED:20241127T193154Z
UID:10002906-1733221800-1733229000@mamaway.ca
SUMMARY:Find my Spirit Within
DESCRIPTION:Come join us for an 8 week series where people can find identity\, culture and ceremony. Starting Thursday Sept Oct 1st\, 2024 at 10:30-12:30 pm. \nhttps://survey.alchemer-ca.com/s3/50268176/Find-my-spirit-within
URL:https://mamaway.ca/event/find-my-spirit-within/2024-12-03/
LOCATION:HEART Retreat at 328 Line 15 North Oro/Medonte\, 328 Line 15 North\, Oro Medonte\, Ontario\, Canada
CATEGORIES:in-person,Mamaway Wiidokdaadwin
ATTACH;FMTTYPE=image/png:https://mamaway.ca/wp-content/uploads/2024/08/Find-my-spirit-within.png
ORGANIZER;CN="Chris Walser%2C Land Based Healing Coordinator":MAILTO:cwalser@banac.on.ca
END:VEVENT
BEGIN:VEVENT
DTSTART;TZID=America/Toronto:20241203T130000
DTEND;TZID=America/Toronto:20241203T150000
DTSTAMP:20260420T153838
CREATED:20241030T144824Z
LAST-MODIFIED:20241030T144824Z
UID:10003357-1733230800-1733238000@mamaway.ca
SUMMARY:Red Road to Recovery- In Person at Enaahtig Outreach- Orillia
DESCRIPTION:A 10-week program that uses the Medicine Wheel as a teaching tool and our Indigenous approach to healing to address the \nPhysical\, Emotional\, Mental\, and Spiritual \naspects of addiction and mental health recovery. \nRed Road Facilitators: Kathy St.Amant and Steve Beaupre \n  \n  \n 
URL:https://mamaway.ca/event/red-road-to-recovery-in-person-at-enaahtig-outreach-orillia/2024-12-03/
LOCATION:Enaahtig Orillia Outreach Centre\, 334 West St. N.\, Orillia\, ontaio\, Canada
ATTACH;FMTTYPE=image/png:https://mamaway.ca/wp-content/uploads/2024/10/Enaahtig-Outreach-Nov12-24-Jan28-25.png
ORGANIZER;CN="Zoe Horst":MAILTO:zhorst@banac.on.ca
END:VEVENT
END:VCALENDAR