BEGIN:VCALENDAR
VERSION:2.0
PRODID:-//Mamaway Wiidokdaadwin - ECPv6.15.12//NONSGML v1.0//EN
CALSCALE:GREGORIAN
METHOD:PUBLISH
X-ORIGINAL-URL:https://mamaway.ca
X-WR-CALDESC:Events for Mamaway Wiidokdaadwin
REFRESH-INTERVAL;VALUE=DURATION:PT1H
X-Robots-Tag:noindex
X-PUBLISHED-TTL:PT1H
BEGIN:VTIMEZONE
TZID:America/Toronto
BEGIN:DAYLIGHT
TZOFFSETFROM:-0500
TZOFFSETTO:-0400
TZNAME:EDT
DTSTART:20230312T070000
END:DAYLIGHT
BEGIN:STANDARD
TZOFFSETFROM:-0400
TZOFFSETTO:-0500
TZNAME:EST
DTSTART:20231105T060000
END:STANDARD
BEGIN:DAYLIGHT
TZOFFSETFROM:-0500
TZOFFSETTO:-0400
TZNAME:EDT
DTSTART:20240310T070000
END:DAYLIGHT
BEGIN:STANDARD
TZOFFSETFROM:-0400
TZOFFSETTO:-0500
TZNAME:EST
DTSTART:20241103T060000
END:STANDARD
BEGIN:DAYLIGHT
TZOFFSETFROM:-0500
TZOFFSETTO:-0400
TZNAME:EDT
DTSTART:20250309T070000
END:DAYLIGHT
BEGIN:STANDARD
TZOFFSETFROM:-0400
TZOFFSETTO:-0500
TZNAME:EST
DTSTART:20251102T060000
END:STANDARD
END:VTIMEZONE
BEGIN:VEVENT
DTSTART;TZID=America/Toronto:20241202T090000
DTEND;TZID=America/Toronto:20241202T160000
DTSTAMP:20260420T201915
CREATED:20241126T161617Z
LAST-MODIFIED:20241126T164114Z
UID:10003378-1733130000-1733155200@mamaway.ca
SUMMARY:Traditional Healing Session with Arrole = Midland
DESCRIPTION:Please contact our clinic closest to you to make a referral \nBarrie Clinic Location \n125 Bell Farm Rd\, Suite 200\nHours: 8:00am – 4:00pm\nPhone: 705-721-9554\nFax: 855-941-2529 \nOrillia Clinic Location \n210 Memorial Ave\, Unit 112A&B\nHours: 8:00am – 4:00pm\nPhone: 705-259-9520\nFax: 855-941-2531 \nSessions are also offered in Midland (Chigamik) and Rama BANAC Head Office\, 6030 Rama Rd\, Unit 3 \nA little more about Arrole\, Our energy healer \nArrole Lawrence is a Saulteaux healer and band member of the Keeseekoowenin First Nation located in Elphinstone\, Manitoba. Over 20 years of practice\, he has worked at many First Nations healing centres across south and central Ontario\, where he has performed thousands of healing sessions. \nThe healing centres have given him extensive experience in addressing physical disease\, injury rehabilitation\, as well as dealing with issues of a mental and emotional nature.  Healing has required development of skills sets for addressing physical and emotional trauma\, addiction recovery\, ancestor healing\, the breaking of spiritual agreements and helping clients connect to the heart and spirit so they can live a life in communication with spirit. As an indigenous healer\, Arrole helps individuals to quickly resolve\, crippling physical ailments\, patterns of depression\, grief and trauma. \nClients seeking healing are asked to come forward\, exchange tobacco for the healing they will be receiving and be prepared to provide permission for the healing work. Once permission is granted\, you will be guided inward by closing your eyes\, deep breathing\, then connecting to the heart. \nOnce the connection is made\, clients are guided through their physical and spiritual systems to address\, trauma\, drama\, fear\, pain\, suffering and spiritual fragmentation. The work is extensive and so much can be healed in an hour.  The goal is always to return the individual to health\, wellness and balance for the highest possible outcome.
URL:https://mamaway.ca/event/traditional-healing-session-with-arrole-midland/
LOCATION:Chigamik Community Health Hub\, 287 Bayshore Dr.\, Midland\, ON\, L4R1L3\, Canada
ATTACH;FMTTYPE=image/png:https://mamaway.ca/wp-content/uploads/2024/11/Mamaway-consultations-1-1.png
ORGANIZER;CN="Troy Monague":MAILTO:tmonague@banac.on.ca
END:VEVENT
END:VCALENDAR