BEGIN:VCALENDAR
VERSION:2.0
PRODID:-//Mamaway Wiidokdaadwin - ECPv6.15.12//NONSGML v1.0//EN
CALSCALE:GREGORIAN
METHOD:PUBLISH
X-ORIGINAL-URL:https://mamaway.ca
X-WR-CALDESC:Events for Mamaway Wiidokdaadwin
REFRESH-INTERVAL;VALUE=DURATION:PT1H
X-Robots-Tag:noindex
X-PUBLISHED-TTL:PT1H
BEGIN:VTIMEZONE
TZID:America/Toronto
BEGIN:DAYLIGHT
TZOFFSETFROM:-0500
TZOFFSETTO:-0400
TZNAME:EDT
DTSTART:20230312T070000
END:DAYLIGHT
BEGIN:STANDARD
TZOFFSETFROM:-0400
TZOFFSETTO:-0500
TZNAME:EST
DTSTART:20231105T060000
END:STANDARD
BEGIN:DAYLIGHT
TZOFFSETFROM:-0500
TZOFFSETTO:-0400
TZNAME:EDT
DTSTART:20240310T070000
END:DAYLIGHT
BEGIN:STANDARD
TZOFFSETFROM:-0400
TZOFFSETTO:-0500
TZNAME:EST
DTSTART:20241103T060000
END:STANDARD
BEGIN:DAYLIGHT
TZOFFSETFROM:-0500
TZOFFSETTO:-0400
TZNAME:EDT
DTSTART:20250309T070000
END:DAYLIGHT
BEGIN:STANDARD
TZOFFSETFROM:-0400
TZOFFSETTO:-0500
TZNAME:EST
DTSTART:20251102T060000
END:STANDARD
END:VTIMEZONE
BEGIN:VEVENT
DTSTART;TZID=America/Toronto:20241121T100000
DTEND;TZID=America/Toronto:20241121T120000
DTSTAMP:20260420T154033
CREATED:20240918T184733Z
LAST-MODIFIED:20240918T184733Z
UID:10002973-1732183200-1732190400@mamaway.ca
SUMMARY:Beading Circle
DESCRIPTION:Join Mamaway Wiidokdaadwin’s Life Promoter Courtney Thomas for 8 weeks to learn how to bead every Thursday from 10:00am-12:00pm in Orillia! \n(Location will be shared after registration) \nStarting Thursday\, October 3rd\, 2024\, for 8 weeks! \n  \nClick here to register: https://survey.alchemer-ca.com/s3/50274274/Beading-Circle-Q3 \nIf you have any questions\, please reach out to Courtney at cthomas@banac.on.ca
URL:https://mamaway.ca/event/beading-circle/2024-11-21/
LOCATION:ON
ATTACH;FMTTYPE=image/jpeg:https://mamaway.ca/wp-content/uploads/2024/09/Beading-Circle-Q3-FINAL.jpg
ORGANIZER;CN="Courtney Thomas":MAILTO:cthomas@banac.on.ca
END:VEVENT
BEGIN:VEVENT
DTSTART;TZID=America/Toronto:20241121T130000
DTEND;TZID=America/Toronto:20241121T150000
DTSTAMP:20260420T154033
CREATED:20241030T144037Z
LAST-MODIFIED:20241030T144037Z
UID:10003347-1732194000-1732201200@mamaway.ca
SUMMARY:Red Road to Recovery- In Person at Georgian Bay Native Friendship Centre
DESCRIPTION:A 10-week program that uses the Medicine Wheel as a teaching tool and our Indigenous approach to healing to address the \nPhysical\, Emotional\, Mental\, and Spiritual \naspects of addiction and mental health recovery. \nRed Road Facilitators: Kathy St.Amant and Steve Beaupre \n  \n 
URL:https://mamaway.ca/event/red-road-to-recovery-in-person-at-georgian-bay-native-friendship-centre/2024-11-21/
LOCATION:Georgian Bay Native Friendship Centre\, 175 Yonge St.\, Midland\, Ontario\, Canada
ATTACH;FMTTYPE=image/png:https://mamaway.ca/wp-content/uploads/2024/10/GBNFC-Midland-Oct31-Jan162025.png
ORGANIZER;CN="Zoe Horst":MAILTO:zhorst@banac.on.ca
END:VEVENT
BEGIN:VEVENT
DTSTART;TZID=America/Toronto:20241121T200000
DTEND;TZID=America/Toronto:20241121T210000
DTSTAMP:20260420T154033
CREATED:20241108T193213Z
LAST-MODIFIED:20241108T193308Z
UID:10003374-1732219200-1732222800@mamaway.ca
SUMMARY:Digital Storytelling (Virtual Engagement)
DESCRIPTION:New digital storytelling is on its way. The next show will be November 21st 2024.  We will be covering chapter 7\,8 and 9 of The Mishomis Book by Edward Benton Banai Baa. Please register for this by using the link below or by scanning the QR code found in the flyer. You can also catch up on past chapters using the link below or also by scanning the other QR Code found in the same flyer. Thanks a bunch! \nRegistration for Zoom show. \nDigital Storytelling with Bawd 11/21/24 \nChapters 1 through 6 \nhttps://youtube.com/playlist?list=PL-dIVAWHPkHnIefPMnBUFhdP3fOF7WZiY&si=buYicnRFLdJpoxw1
URL:https://mamaway.ca/event/digital-storytelling-virtual-engagement/
LOCATION:Virtually
ATTACH;FMTTYPE=image/png:https://mamaway.ca/wp-content/uploads/2024/11/Digital-Storytelling-11-21-24.png
ORGANIZER;CN="Bawdweodung Elliott":MAILTO:belliott@banac.on.ca
END:VEVENT
END:VCALENDAR