BEGIN:VCALENDAR
VERSION:2.0
PRODID:-//Mamaway Wiidokdaadwin - ECPv6.15.12//NONSGML v1.0//EN
CALSCALE:GREGORIAN
METHOD:PUBLISH
X-WR-CALNAME:Mamaway Wiidokdaadwin
X-ORIGINAL-URL:https://mamaway.ca
X-WR-CALDESC:Events for Mamaway Wiidokdaadwin
REFRESH-INTERVAL;VALUE=DURATION:PT1H
X-Robots-Tag:noindex
X-PUBLISHED-TTL:PT1H
BEGIN:VTIMEZONE
TZID:America/Toronto
BEGIN:DAYLIGHT
TZOFFSETFROM:-0500
TZOFFSETTO:-0400
TZNAME:EDT
DTSTART:20230312T070000
END:DAYLIGHT
BEGIN:STANDARD
TZOFFSETFROM:-0400
TZOFFSETTO:-0500
TZNAME:EST
DTSTART:20231105T060000
END:STANDARD
BEGIN:DAYLIGHT
TZOFFSETFROM:-0500
TZOFFSETTO:-0400
TZNAME:EDT
DTSTART:20240310T070000
END:DAYLIGHT
BEGIN:STANDARD
TZOFFSETFROM:-0400
TZOFFSETTO:-0500
TZNAME:EST
DTSTART:20241103T060000
END:STANDARD
BEGIN:DAYLIGHT
TZOFFSETFROM:-0500
TZOFFSETTO:-0400
TZNAME:EDT
DTSTART:20250309T070000
END:DAYLIGHT
BEGIN:STANDARD
TZOFFSETFROM:-0400
TZOFFSETTO:-0500
TZNAME:EST
DTSTART:20251102T060000
END:STANDARD
END:VTIMEZONE
BEGIN:VEVENT
DTSTART;TZID=America/Toronto:20241115T100000
DTEND;TZID=America/Toronto:20241115T110000
DTSTAMP:20260420T153837
CREATED:20241016T125912Z
LAST-MODIFIED:20241017T182828Z
UID:10003060-1731664800-1731668400@mamaway.ca
SUMMARY:Fall Yoga in the Yurt
DESCRIPTION:Come and join us for some gentle yoga at your own pace. Happening on Friday mornings at 10 am at Horses are Magic in Hillsdale.
URL:https://mamaway.ca/event/fall-yoga-in-the-yurt/2024-11-15/
LOCATION:Horses are Magic\, 1098 Scarlett Line\, Hillsdale\, ON\, L0L 1V0\, Canada
CATEGORIES:in-person,Mamaway Wiidokdaadwin
ATTACH;FMTTYPE=image/png:https://mamaway.ca/wp-content/uploads/2024/10/Fall-Yoga-flyer.png
ORGANIZER;CN="Chris Walser%2C Land Based Healing Coordinator":MAILTO:cwalser@banac.on.ca
END:VEVENT
BEGIN:VEVENT
DTSTART;TZID=America/Toronto:20241115T120000
DTEND;TZID=America/Toronto:20241115T150000
DTSTAMP:20260420T153837
CREATED:20241017T193822Z
LAST-MODIFIED:20241017T193822Z
UID:10003063-1731672000-1731682800@mamaway.ca
SUMMARY:Nokomis Giizis Gathering
DESCRIPTION:Join us for our monthly Nokomis engagement happening Friday\, Nov 15th\,\, 2024\, from 12-3pm\, that will offer both healing and connection as we lean into our culture\, traditions\, and Nokomis Giizis Teachings.\nWe will gather at HEART Retreat in Oro Medonte. \nThis month we lean into the energy of the Freezing Moon – Gshkadin Dbik Giizis. \n(Freezing Moon) November is when our ancestors are closest to us\, and we share in feast and stories of our loved ones.  All of creation prepares for the winter by strengthening our spirits and bodies. \nThis Nokomis engagement location will be at HEART Retreat where we will explore the freezing moon! \nWe had some cancellations this month therefore we decided to postpone this month’s teachings until next month therefore we will discuss the falling leaves as well before freezing moon. \nFeel free to share with those who this may interest. \nThank you for registering with the link below so we can prepare adequately. \nhttps://survey.alchemer-ca.com/s3/50280637/Nokomis-Giizis-Series-Nov-2024 \n  \nVisit our website to see all the other programs happening this month: www.mamaway.ca/events \nDon’t forget to follow us on Socials if you haven’t done so (Facebook\, Instagram and Twitter) \n  \nThroughout the year\, we will gather on the land each month to deepen our connection to the land and self.\nEach month our adventures will include traditional moon teaching\, wellness teachings\, periodically a physical adventure or a hands-on creation. \n  \nIf you have any questions\, please contact lhudon@banac.on.ca \n  \nChris\, Heather and I look forward to connecting with you in a few weeks!
URL:https://mamaway.ca/event/nokomis-giizis-gathering/
LOCATION:HEART Retreat at 328 Line 15 North Oro/Medonte\, 328 Line 15 North\, Oro Medonte\, Ontario\, Canada
ATTACH;FMTTYPE=image/png:https://mamaway.ca/wp-content/uploads/2024/10/Nokomis-Giizis-Series-2024-Nov.png
ORGANIZER;CN="Lianne Hudon":MAILTO:lhudon@banac.on.ca
END:VEVENT
END:VCALENDAR