BEGIN:VCALENDAR
VERSION:2.0
PRODID:-//Mamaway Wiidokdaadwin - ECPv6.15.12//NONSGML v1.0//EN
CALSCALE:GREGORIAN
METHOD:PUBLISH
X-ORIGINAL-URL:https://mamaway.ca
X-WR-CALDESC:Events for Mamaway Wiidokdaadwin
REFRESH-INTERVAL;VALUE=DURATION:PT1H
X-Robots-Tag:noindex
X-PUBLISHED-TTL:PT1H
BEGIN:VTIMEZONE
TZID:America/Toronto
BEGIN:DAYLIGHT
TZOFFSETFROM:-0500
TZOFFSETTO:-0400
TZNAME:EDT
DTSTART:20230312T070000
END:DAYLIGHT
BEGIN:STANDARD
TZOFFSETFROM:-0400
TZOFFSETTO:-0500
TZNAME:EST
DTSTART:20231105T060000
END:STANDARD
BEGIN:DAYLIGHT
TZOFFSETFROM:-0500
TZOFFSETTO:-0400
TZNAME:EDT
DTSTART:20240310T070000
END:DAYLIGHT
BEGIN:STANDARD
TZOFFSETFROM:-0400
TZOFFSETTO:-0500
TZNAME:EST
DTSTART:20241103T060000
END:STANDARD
BEGIN:DAYLIGHT
TZOFFSETFROM:-0500
TZOFFSETTO:-0400
TZNAME:EDT
DTSTART:20250309T070000
END:DAYLIGHT
BEGIN:STANDARD
TZOFFSETFROM:-0400
TZOFFSETTO:-0500
TZNAME:EST
DTSTART:20251102T060000
END:STANDARD
END:VTIMEZONE
BEGIN:VEVENT
DTSTART;TZID=America/Toronto:20241107T100000
DTEND;TZID=America/Toronto:20241107T120000
DTSTAMP:20260420T170526
CREATED:20240918T184733Z
LAST-MODIFIED:20240918T184733Z
UID:10002971-1730973600-1730980800@mamaway.ca
SUMMARY:Beading Circle
DESCRIPTION:Join Mamaway Wiidokdaadwin’s Life Promoter Courtney Thomas for 8 weeks to learn how to bead every Thursday from 10:00am-12:00pm in Orillia! \n(Location will be shared after registration) \nStarting Thursday\, October 3rd\, 2024\, for 8 weeks! \n  \nClick here to register: https://survey.alchemer-ca.com/s3/50274274/Beading-Circle-Q3 \nIf you have any questions\, please reach out to Courtney at cthomas@banac.on.ca
URL:https://mamaway.ca/event/beading-circle/2024-11-07/
LOCATION:ON
ATTACH;FMTTYPE=image/jpeg:https://mamaway.ca/wp-content/uploads/2024/09/Beading-Circle-Q3-FINAL.jpg
ORGANIZER;CN="Courtney Thomas":MAILTO:cthomas@banac.on.ca
END:VEVENT
BEGIN:VEVENT
DTSTART;TZID=America/Toronto:20241107T130000
DTEND;TZID=America/Toronto:20241107T150000
DTSTAMP:20260420T170526
CREATED:20241030T144037Z
LAST-MODIFIED:20241030T144037Z
UID:10003345-1730984400-1730991600@mamaway.ca
SUMMARY:Red Road to Recovery- In Person at Georgian Bay Native Friendship Centre
DESCRIPTION:A 10-week program that uses the Medicine Wheel as a teaching tool and our Indigenous approach to healing to address the \nPhysical\, Emotional\, Mental\, and Spiritual \naspects of addiction and mental health recovery. \nRed Road Facilitators: Kathy St.Amant and Steve Beaupre \n  \n 
URL:https://mamaway.ca/event/red-road-to-recovery-in-person-at-georgian-bay-native-friendship-centre/2024-11-07/
LOCATION:Georgian Bay Native Friendship Centre\, 175 Yonge St.\, Midland\, Ontario\, Canada
ATTACH;FMTTYPE=image/png:https://mamaway.ca/wp-content/uploads/2024/10/GBNFC-Midland-Oct31-Jan162025.png
ORGANIZER;CN="Zoe Horst":MAILTO:zhorst@banac.on.ca
END:VEVENT
BEGIN:VEVENT
DTSTART;TZID=America/Toronto:20241107T163000
DTEND;TZID=America/Toronto:20241107T210000
DTSTAMP:20260420T170526
CREATED:20241008T173424Z
LAST-MODIFIED:20241008T173424Z
UID:10003001-1730997000-1731013200@mamaway.ca
SUMMARY:Mamaway Wiidokdaadwin's Fall Memorial Feast with Elder Hector Copegog
DESCRIPTION:https://survey.alchemer-ca.com/s3/50278690/Memorial-Feast-Reg-November-7th-2024 \n  \nPlease see this Memorial Feast opportunity happening soon. Please register  via the link. \n  \nWhen: Thursday\, November 7th\, 2024 \nTime: 4:00pm-9:00PM (Depending on turnout\, it could be an earlier end time) \nWhat to bring: Feast Bundle (Plate\, bowl\, cup\, cutlery) Shaker\, Ribbon shirt (Women identifying)\, Ribbon shirt (Male identifying) \nWhy: Dish being made for a Loved one. who has passed away a year or more before the ceremony date \n  \nDetails for the dish \n  \n-Dish to be made with kind thoughts towards the spirit who is being called in (Do not taste while making) \n-Loosely made tobacco tie to be used with the dish \n-No drugs or alcohol permitted to be in the dish \n-Shaker will be used during the songs \n-All food must be eaten\, please bring a small portion for 1 person (Large Cereal Bowl sized dish) \n 
URL:https://mamaway.ca/event/mamaway-wiidokdaadwins-fall-memorial-feast-with-elder-hector-copegog/
LOCATION:110 Matchedash Street N\, Orillia (Mamaway Wiidokdaadwin Match Hub)\, 110 Matchedash Street N\, Orillia\, Ontario\, L3V 4T8\, Canada
CATEGORIES:in-person,Mamaway Wiidokdaadwin
END:VEVENT
END:VCALENDAR