BEGIN:VCALENDAR
VERSION:2.0
PRODID:-//Mamaway Wiidokdaadwin - ECPv6.15.12//NONSGML v1.0//EN
CALSCALE:GREGORIAN
METHOD:PUBLISH
X-ORIGINAL-URL:https://mamaway.ca
X-WR-CALDESC:Events for Mamaway Wiidokdaadwin
REFRESH-INTERVAL;VALUE=DURATION:PT1H
X-Robots-Tag:noindex
X-PUBLISHED-TTL:PT1H
BEGIN:VTIMEZONE
TZID:America/Toronto
BEGIN:DAYLIGHT
TZOFFSETFROM:-0500
TZOFFSETTO:-0400
TZNAME:EDT
DTSTART:20230312T070000
END:DAYLIGHT
BEGIN:STANDARD
TZOFFSETFROM:-0400
TZOFFSETTO:-0500
TZNAME:EST
DTSTART:20231105T060000
END:STANDARD
BEGIN:DAYLIGHT
TZOFFSETFROM:-0500
TZOFFSETTO:-0400
TZNAME:EDT
DTSTART:20240310T070000
END:DAYLIGHT
BEGIN:STANDARD
TZOFFSETFROM:-0400
TZOFFSETTO:-0500
TZNAME:EST
DTSTART:20241103T060000
END:STANDARD
BEGIN:DAYLIGHT
TZOFFSETFROM:-0500
TZOFFSETTO:-0400
TZNAME:EDT
DTSTART:20250309T070000
END:DAYLIGHT
BEGIN:STANDARD
TZOFFSETFROM:-0400
TZOFFSETTO:-0500
TZNAME:EST
DTSTART:20251102T060000
END:STANDARD
END:VTIMEZONE
BEGIN:VEVENT
DTSTART;TZID=America/Toronto:20241023T090000
DTEND;TZID=America/Toronto:20241023T160000
DTSTAMP:20260420T121100
CREATED:20240924T170048Z
LAST-MODIFIED:20240924T170048Z
UID:10002987-1729674000-1729699200@mamaway.ca
SUMMARY:Ribbon Skirt Workshop
DESCRIPTION:Join Mamaway Wiidokdaadwin Life Promoter’s\, Courtney Thomas and Bawd Elliott for a Ribbon Skirt Workshop on Wednesday\, October 23rd\, 2024\, from 9:00am – 4:00pm. \nWe have 7 spots available! \nClick here to register: https://survey.alchemer-ca.com/s3/50271191/Ribbon-Skirt-Workshop-October-23-2024 \nLocation will be share after registration. \nIf you have any questions\, please reach out to Courtney Thomas cthomas@banac.on.ca and/or Bawd at belliott@banac.on.ca
URL:https://mamaway.ca/event/ribbon-skirt-workshop-3/
LOCATION:ON
ATTACH;FMTTYPE=image/jpeg:https://mamaway.ca/wp-content/uploads/2024/09/Ribbon-Skirt-Workshop-October-23rd-FINAL.jpg
ORGANIZER;CN="Courtney Thomas":MAILTO:cthomas@banac.on.ca
END:VEVENT
BEGIN:VEVENT
DTSTART;TZID=America/Toronto:20241023T163000
DTEND;TZID=America/Toronto:20241023T193000
DTSTAMP:20260420T121100
CREATED:20240926T144643Z
LAST-MODIFIED:20241015T173152Z
UID:10002992-1729701000-1729711800@mamaway.ca
SUMMARY:Azhoge Nini Wellness Program
DESCRIPTION:  \n \n  \nPlease register via this link or QR code if interested. Please see eligibility on the poster. \n  \nhttps://survey.alchemer-ca.com/s3/50271910survey.alchemer-ca.com/…/Mamaway-Wiidokdaadwin-s-Azhoge-Nini-Group-Wellness-Program-copysurvey.alchemer-ca.com/…/Mamaway-Wiidokdaadwin-s-Azhoge-Nini-Group-Wellness-Program-copy/Mamaway-Wiidokdaadwin-s-Azhoge-Nini-Group-Wellness-Program-copy
URL:https://mamaway.ca/event/azhoge-nini-wellness-program/2024-10-23/
LOCATION:Chigamik Community Health Hub\, 287 Bayshore Dr.\, Midland\, ON\, L4R1L3\, Canada
CATEGORIES:in-person
ATTACH;FMTTYPE=image/jpeg:https://mamaway.ca/wp-content/uploads/2024/09/10-week-Azhoge-Nini-Wellness-Program-via-Mamaway-Chigamik.jpg
ORGANIZER;CN="Troy Monague":MAILTO:tmonague@banac.on.ca
END:VEVENT
BEGIN:VEVENT
DTSTART;TZID=America/Toronto:20241023T180000
DTEND;TZID=America/Toronto:20241023T200000
DTSTAMP:20260420T121100
CREATED:20240722T191325Z
LAST-MODIFIED:20240816T172041Z
UID:10002859-1729706400-1729713600@mamaway.ca
SUMMARY:Virtual Red Road to Recovery
DESCRIPTION:A 10-week program that uses the Medicine Wheel as a teaching tool and our Indigenous approach to healing to address the Physical\, Emotional\, Mental\, and Spiritual \naspects of addiction and mental health recovery \n  \nRed Road to Recovery Facilitators: Kathy St Amant and Steve Beaupre \nMamaway Wiidokdaadwin Case Manager: Zoe Horst- 705-627-8148\, email: zhorst@banac.on.ca
URL:https://mamaway.ca/event/virtual-red-road-to-recovery-2/2024-10-23/
LOCATION:Zoom
CATEGORIES:Virtual Program Offering
ATTACH;FMTTYPE=image/png:https://mamaway.ca/wp-content/uploads/2024/07/Virtual-Aug28-Oct32024.png
ORGANIZER;CN="Zoe Horst":MAILTO:zhorst@banac.on.ca
END:VEVENT
END:VCALENDAR