BEGIN:VCALENDAR
VERSION:2.0
PRODID:-//Mamaway Wiidokdaadwin - ECPv6.15.12//NONSGML v1.0//EN
CALSCALE:GREGORIAN
METHOD:PUBLISH
X-WR-CALNAME:Mamaway Wiidokdaadwin
X-ORIGINAL-URL:https://mamaway.ca
X-WR-CALDESC:Events for Mamaway Wiidokdaadwin
REFRESH-INTERVAL;VALUE=DURATION:PT1H
X-Robots-Tag:noindex
X-PUBLISHED-TTL:PT1H
BEGIN:VTIMEZONE
TZID:America/Toronto
BEGIN:DAYLIGHT
TZOFFSETFROM:-0500
TZOFFSETTO:-0400
TZNAME:EDT
DTSTART:20230312T070000
END:DAYLIGHT
BEGIN:STANDARD
TZOFFSETFROM:-0400
TZOFFSETTO:-0500
TZNAME:EST
DTSTART:20231105T060000
END:STANDARD
BEGIN:DAYLIGHT
TZOFFSETFROM:-0500
TZOFFSETTO:-0400
TZNAME:EDT
DTSTART:20240310T070000
END:DAYLIGHT
BEGIN:STANDARD
TZOFFSETFROM:-0400
TZOFFSETTO:-0500
TZNAME:EST
DTSTART:20241103T060000
END:STANDARD
BEGIN:DAYLIGHT
TZOFFSETFROM:-0500
TZOFFSETTO:-0400
TZNAME:EDT
DTSTART:20250309T070000
END:DAYLIGHT
BEGIN:STANDARD
TZOFFSETFROM:-0400
TZOFFSETTO:-0500
TZNAME:EST
DTSTART:20251102T060000
END:STANDARD
END:VTIMEZONE
BEGIN:VEVENT
DTSTART;TZID=America/Toronto:20241021T100000
DTEND;TZID=America/Toronto:20241021T140000
DTSTAMP:20260420T120935
CREATED:20241011T194154Z
LAST-MODIFIED:20241011T194344Z
UID:10003003-1729504800-1729519200@mamaway.ca
SUMMARY:Journey of the Ojibwe Spirit Pony
DESCRIPTION:  \nThis free event is for Indigenous community members\, Indigenous Health Circle members\, and leadership from Indigenous-led and Indigenous Governed Organizations. \n🌿 Join us for a powerful story of Indigenous resilience! 🌿 \n✨ Journey of the Ojibwe Spirit Pony: Connecting through story\, uplifting by spirit ✨ \n📅 October 21\, 2024\n🕙 10:00am – 2:00pm\n📍 180 Courtland St\, Ramara\, ON Registration is required \nFacilitated by Rhonda Snow\, Loon Clan\, Visual Artist\, and Knowledge Keeper of The Ojibwe Spirit Pony’s Story\, this event will bring teachings\, original artwork\, a traditional catered lunch\, and live musical entertainment. \n🌟 Come be part of this unique gathering and connect through story and art. 🌟 \n📲 Register today by visiting https://survey.alchemer-ca.com/s3/50275857/2024-Registration
URL:https://mamaway.ca/event/journey-of-the-ojibwe-spirit-pony/
LOCATION:ON
ATTACH;FMTTYPE=image/png:https://mamaway.ca/wp-content/uploads/2024/10/Ojibwe-Spirit-Pony-w-Rhonda-Snow-Registration-Required.png
END:VEVENT
END:VCALENDAR