BEGIN:VCALENDAR
VERSION:2.0
PRODID:-//Mamaway Wiidokdaadwin - ECPv6.15.12//NONSGML v1.0//EN
CALSCALE:GREGORIAN
METHOD:PUBLISH
X-WR-CALNAME:Mamaway Wiidokdaadwin
X-ORIGINAL-URL:https://mamaway.ca
X-WR-CALDESC:Events for Mamaway Wiidokdaadwin
REFRESH-INTERVAL;VALUE=DURATION:PT1H
X-Robots-Tag:noindex
X-PUBLISHED-TTL:PT1H
BEGIN:VTIMEZONE
TZID:America/Toronto
BEGIN:DAYLIGHT
TZOFFSETFROM:-0500
TZOFFSETTO:-0400
TZNAME:EDT
DTSTART:20230312T070000
END:DAYLIGHT
BEGIN:STANDARD
TZOFFSETFROM:-0400
TZOFFSETTO:-0500
TZNAME:EST
DTSTART:20231105T060000
END:STANDARD
BEGIN:DAYLIGHT
TZOFFSETFROM:-0500
TZOFFSETTO:-0400
TZNAME:EDT
DTSTART:20240310T070000
END:DAYLIGHT
BEGIN:STANDARD
TZOFFSETFROM:-0400
TZOFFSETTO:-0500
TZNAME:EST
DTSTART:20241103T060000
END:STANDARD
BEGIN:DAYLIGHT
TZOFFSETFROM:-0500
TZOFFSETTO:-0400
TZNAME:EDT
DTSTART:20250309T070000
END:DAYLIGHT
BEGIN:STANDARD
TZOFFSETFROM:-0400
TZOFFSETTO:-0500
TZNAME:EST
DTSTART:20251102T060000
END:STANDARD
END:VTIMEZONE
BEGIN:VEVENT
DTSTART;TZID=America/Toronto:20241016T100000
DTEND;TZID=America/Toronto:20241016T130000
DTSTAMP:20260420T120846
CREATED:20240925T153638Z
LAST-MODIFIED:20240925T153744Z
UID:10002988-1729072800-1729083600@mamaway.ca
SUMMARY:Haudenosaunee Lunch & Learn
DESCRIPTION:Mamaway Wiidokdaadwin Life Promoter’s invite you to join us in learning the teachings of Haudenosaunee Line Work Anthology with Shillene Dale. \nWhat is Haudenosaunee Line Work Anthology? \nAnthology of Haudenosaunee Line work is tattooing that has been a part of the Haudenosaunee culture for millennia. Each nation has its own variation of the line work much like our languages its similarities among each nation with slight variations. You could distinguish between hunters\, runners (messengers) and planters (gardeners) by the tattoos they had. As colonial influence increased\, the practice of tattooing evolved into bead work and we hid our stories within our regalia & other crafts. \nDuring this workshop\, this evolution will be described. The symbolism and meaning for the broader definitions will be broken down. At the end of the class the participants will build there own stories in linework based on the symbolism taught. \n\nShillene Dale (McNaughton) is of the Onondaga Nation\, Beaver Clan from Six Nations\, ON and grew up travelling Indian country learning from various elders & knowledge keepers. Learning languages and longhouse traditions has always been her passion. She’s spent the last 10 years teaching culture to those who never had her opportunities to learn. Her long term goal is to one day be fluent in the Onondaga language and her primary goal is to dissuade pan Indigenous teachings because our Indigenous cultures are unique to each nation in beautiful ways. “Just because something is different doesn’t make it wrong.”\n\nA light lunch will be provided. \nDate: Wednesday\, October 16\, 2024 \nTime:  10:00am-12:00pm \nLocation: Orillia (address will be shared after registration) \nClick here to register: https://survey.alchemer-ca.com/s3/50257011/Haudenosaunee-Lunch-Learn \nIf you have any questions\, feel free to reach out to Courtney Thomas at cthomas@banac.on.ca
URL:https://mamaway.ca/event/haudenosaunee-lunch-learn/
LOCATION:ON
ATTACH;FMTTYPE=image/jpeg:https://mamaway.ca/wp-content/uploads/2024/09/Haudenosaunee-Lunch_Learn-with-S-Dale-FINAL1.jpg
ORGANIZER;CN="Courtney Thomas":MAILTO:cthomas@banac.on.ca
END:VEVENT
BEGIN:VEVENT
DTSTART;TZID=America/Toronto:20241016T163000
DTEND;TZID=America/Toronto:20241016T193000
DTSTAMP:20260420T120846
CREATED:20240926T144643Z
LAST-MODIFIED:20241015T173152Z
UID:10002991-1729096200-1729107000@mamaway.ca
SUMMARY:Azhoge Nini Wellness Program
DESCRIPTION:  \n \n  \nPlease register via this link or QR code if interested. Please see eligibility on the poster. \n  \nhttps://survey.alchemer-ca.com/s3/50271910survey.alchemer-ca.com/…/Mamaway-Wiidokdaadwin-s-Azhoge-Nini-Group-Wellness-Program-copysurvey.alchemer-ca.com/…/Mamaway-Wiidokdaadwin-s-Azhoge-Nini-Group-Wellness-Program-copy/Mamaway-Wiidokdaadwin-s-Azhoge-Nini-Group-Wellness-Program-copy
URL:https://mamaway.ca/event/azhoge-nini-wellness-program/2024-10-16/
LOCATION:Chigamik Community Health Hub\, 287 Bayshore Dr.\, Midland\, ON\, L4R1L3\, Canada
CATEGORIES:in-person
ATTACH;FMTTYPE=image/jpeg:https://mamaway.ca/wp-content/uploads/2024/09/10-week-Azhoge-Nini-Wellness-Program-via-Mamaway-Chigamik.jpg
ORGANIZER;CN="Troy Monague":MAILTO:tmonague@banac.on.ca
END:VEVENT
BEGIN:VEVENT
DTSTART;TZID=America/Toronto:20241016T180000
DTEND;TZID=America/Toronto:20241016T200000
DTSTAMP:20260420T120846
CREATED:20240722T191325Z
LAST-MODIFIED:20240816T172041Z
UID:10002858-1729101600-1729108800@mamaway.ca
SUMMARY:Virtual Red Road to Recovery
DESCRIPTION:A 10-week program that uses the Medicine Wheel as a teaching tool and our Indigenous approach to healing to address the Physical\, Emotional\, Mental\, and Spiritual \naspects of addiction and mental health recovery \n  \nRed Road to Recovery Facilitators: Kathy St Amant and Steve Beaupre \nMamaway Wiidokdaadwin Case Manager: Zoe Horst- 705-627-8148\, email: zhorst@banac.on.ca
URL:https://mamaway.ca/event/virtual-red-road-to-recovery-2/2024-10-16/
LOCATION:Zoom
CATEGORIES:Virtual Program Offering
ATTACH;FMTTYPE=image/png:https://mamaway.ca/wp-content/uploads/2024/07/Virtual-Aug28-Oct32024.png
ORGANIZER;CN="Zoe Horst":MAILTO:zhorst@banac.on.ca
END:VEVENT
END:VCALENDAR