BEGIN:VCALENDAR
VERSION:2.0
PRODID:-//Mamaway Wiidokdaadwin - ECPv6.15.12//NONSGML v1.0//EN
CALSCALE:GREGORIAN
METHOD:PUBLISH
X-ORIGINAL-URL:https://mamaway.ca
X-WR-CALDESC:Events for Mamaway Wiidokdaadwin
REFRESH-INTERVAL;VALUE=DURATION:PT1H
X-Robots-Tag:noindex
X-PUBLISHED-TTL:PT1H
BEGIN:VTIMEZONE
TZID:America/Toronto
BEGIN:DAYLIGHT
TZOFFSETFROM:-0500
TZOFFSETTO:-0400
TZNAME:EDT
DTSTART:20230312T070000
END:DAYLIGHT
BEGIN:STANDARD
TZOFFSETFROM:-0400
TZOFFSETTO:-0500
TZNAME:EST
DTSTART:20231105T060000
END:STANDARD
BEGIN:DAYLIGHT
TZOFFSETFROM:-0500
TZOFFSETTO:-0400
TZNAME:EDT
DTSTART:20240310T070000
END:DAYLIGHT
BEGIN:STANDARD
TZOFFSETFROM:-0400
TZOFFSETTO:-0500
TZNAME:EST
DTSTART:20241103T060000
END:STANDARD
BEGIN:DAYLIGHT
TZOFFSETFROM:-0500
TZOFFSETTO:-0400
TZNAME:EDT
DTSTART:20250309T070000
END:DAYLIGHT
BEGIN:STANDARD
TZOFFSETFROM:-0400
TZOFFSETTO:-0500
TZNAME:EST
DTSTART:20251102T060000
END:STANDARD
END:VTIMEZONE
BEGIN:VEVENT
DTSTART;TZID=America/Toronto:20241001T100000
DTEND;TZID=America/Toronto:20241001T100000
DTSTAMP:20260420T103330
CREATED:20240904T144806Z
LAST-MODIFIED:20240904T184226Z
UID:10002883-1727776800-1727776800@mamaway.ca
SUMMARY:Building Our Bundles: Uplifting Our Spirits
DESCRIPTION:Join Mamaway Wiidokdaadwin Life Promoters Courtney Thomas and Bawd Elliott for Building Our Bundles: Uplifting Your Spirit 8-week Series! \nThis series will provide a safe and supportive space to connect with other community members and explore a range of topics related to cultural teachings and building your own bundle. By participating in the program\, it will provide you with the tools and resources you need to help you live a good life! \nHere is the breakdown of the 8-week Series and what we will be doing each week: \n\nWeek 1: Four Sacred Medicines: Teachings about the four sacred medicines and harvesting.\n\n\nWeek 2: What’s in Your Bundle?: What is a bundle? Bundle teachings.\n\n\nWeek 3: Eagle Feather Teachings: Eagle feather dressing and teachings.\n\n\nWeek 4: The Moccasin We Wear: Share various style of moccasins from different nations around Turtle Island.\n\n\nWeek 5: Shaker & Songs: What are shakers for?\n\n\nWeek 6: Medicine Pouches: Making medicine pouches for your bundle.\n\n\nWeek 7: Ribbon Skirt/Shirt Teachings: Why do we wear ribbon skirts and ribbon skirts? What are your colors?\n\n\nWeek 8: Feast Your Bundles: Potluck Feast! Bring your favorite dish to share!\n\nThroughout the 8 weeks\, participants will make a bundle bag\, smudge kit\, dress their feather\, a feather case\, moccasins\, a shaker\, learn songs such as the Eagle Song and Traveling Song\, ribbon skirts/shirts and lastly\, bring their favorite dish to feast their bundles. \nThe series will run every Tuesday from 10:00am – 2:00pm in Orillia. \nClick link to register: https://survey.alchemer-ca.com/s3/50269903/Building-Our-Bundles-Uplifting-Your-Spirit-Q3 \nIf you have any questions\, please reach out to Courtney Thomas at cthomas@banac.on.ca or Bawd Elliott at belliott@banac.on.ca 
URL:https://mamaway.ca/event/building-our-bundles-uplifting-our-spirits-2/2024-10-01/
LOCATION:ON
CATEGORIES:in-person,Mamaway Wiidokdaadwin
ATTACH;FMTTYPE=image/jpeg:https://mamaway.ca/wp-content/uploads/2024/09/Building-Our-Bundles-Series-Q3-Flyer-2024-FINAL.jpg
ORGANIZER;CN="Courtney Thomas":MAILTO:cthomas@banac.on.ca
END:VEVENT
BEGIN:VEVENT
DTSTART;TZID=America/Toronto:20241001T103000
DTEND;TZID=America/Toronto:20241001T123000
DTSTAMP:20260420T103330
CREATED:20240806T162121Z
LAST-MODIFIED:20241127T193154Z
UID:10002899-1727778600-1727785800@mamaway.ca
SUMMARY:Find my Spirit Within
DESCRIPTION:Come join us for an 8 week series where people can find identity\, culture and ceremony. Starting Thursday Sept Oct 1st\, 2024 at 10:30-12:30 pm. \nhttps://survey.alchemer-ca.com/s3/50268176/Find-my-spirit-within
URL:https://mamaway.ca/event/find-my-spirit-within/2024-10-01/
LOCATION:HEART Retreat at 328 Line 15 North Oro/Medonte\, 328 Line 15 North\, Oro Medonte\, Ontario\, Canada
CATEGORIES:in-person,Mamaway Wiidokdaadwin
ATTACH;FMTTYPE=image/png:https://mamaway.ca/wp-content/uploads/2024/08/Find-my-spirit-within.png
ORGANIZER;CN="Chris Walser%2C Land Based Healing Coordinator":MAILTO:cwalser@banac.on.ca
END:VEVENT
BEGIN:VEVENT
DTSTART;TZID=America/Toronto:20241001T130000
DTEND;TZID=America/Toronto:20241001T150000
DTSTAMP:20260420T103330
CREATED:20240816T172723Z
LAST-MODIFIED:20240816T172723Z
UID:10002865-1727787600-1727794800@mamaway.ca
SUMMARY:Red Road to Recovery- In Person at the Georgian Bay Native Womens Assoc.
DESCRIPTION:Anishinaabe Miikan \nA 10-week program that uses the Medicine Wheel as a teaching tool and our Indigenous approach to healing to address the Physical\, Emotional\, Mental\, and Spiritual aspects of addiction and mental health recovery. \nRed Road Facilitators: Kathy St.Amant and Steve Beaupre \nRed Road Case Manager: Zoe Horst 1-705-627-8148 \nHosted by the Waabano Program: Lisa Moreau; Waabano Co-ordinator at the GBNWA \n  \n 
URL:https://mamaway.ca/event/red-road-to-recovery-in-person-at-the-georgian-bay-native-womens-assoc/2024-10-01/
LOCATION:Georgian Bay Native Womens Association 41 Main St. Penetanguishene\, ON\, 41 Main St.\, Penetanguishene\, ON
CATEGORIES:in-person
ATTACH;FMTTYPE=image/png:https://mamaway.ca/wp-content/uploads/2024/08/GBNWA-Waabano-Penetang-Sept3-Nov52024.png
END:VEVENT
END:VCALENDAR