BEGIN:VCALENDAR
VERSION:2.0
PRODID:-//Mamaway Wiidokdaadwin - ECPv6.15.12//NONSGML v1.0//EN
CALSCALE:GREGORIAN
METHOD:PUBLISH
X-ORIGINAL-URL:https://mamaway.ca
X-WR-CALDESC:Events for Mamaway Wiidokdaadwin
REFRESH-INTERVAL;VALUE=DURATION:PT1H
X-Robots-Tag:noindex
X-PUBLISHED-TTL:PT1H
BEGIN:VTIMEZONE
TZID:America/Toronto
BEGIN:DAYLIGHT
TZOFFSETFROM:-0500
TZOFFSETTO:-0400
TZNAME:EDT
DTSTART:20230312T070000
END:DAYLIGHT
BEGIN:STANDARD
TZOFFSETFROM:-0400
TZOFFSETTO:-0500
TZNAME:EST
DTSTART:20231105T060000
END:STANDARD
BEGIN:DAYLIGHT
TZOFFSETFROM:-0500
TZOFFSETTO:-0400
TZNAME:EDT
DTSTART:20240310T070000
END:DAYLIGHT
BEGIN:STANDARD
TZOFFSETFROM:-0400
TZOFFSETTO:-0500
TZNAME:EST
DTSTART:20241103T060000
END:STANDARD
BEGIN:DAYLIGHT
TZOFFSETFROM:-0500
TZOFFSETTO:-0400
TZNAME:EDT
DTSTART:20250309T070000
END:DAYLIGHT
BEGIN:STANDARD
TZOFFSETFROM:-0400
TZOFFSETTO:-0500
TZNAME:EST
DTSTART:20251102T060000
END:STANDARD
END:VTIMEZONE
BEGIN:VEVENT
DTSTART;TZID=America/Toronto:20240926T130000
DTEND;TZID=America/Toronto:20240926T150000
DTSTAMP:20260420T220415
CREATED:20240718T124202Z
LAST-MODIFIED:20240816T171736Z
UID:10002847-1727355600-1727362800@mamaway.ca
SUMMARY:Red Road to Recovery- In Person at Rama First Nation
DESCRIPTION:Anishinaabae Miikan \nA 10-week program that uses the Medicine Wheel as a teaching tool and our Indigenous approach to healing to address the Physical\, Emotional\, Mental\, and Spiritual aspects of addiction and mental health recovery. \nFacilitators: Kathy St.Amant and Steve Beaupre \nCase Manager: Zoe Horst 705-627-8148
URL:https://mamaway.ca/event/red-road-to-recovery-in-person-at-rama-first-nation/2024-09-26/
LOCATION:Wewena Minodoodawin Health Centre\, 6036 Rama Rd\, Rama First Nation\, Ontario\, Canada
ATTACH;FMTTYPE=image/png:https://mamaway.ca/wp-content/uploads/2024/07/Rama-FN-Aug-22-Oct-24-24.png
END:VEVENT
END:VCALENDAR