BEGIN:VCALENDAR
VERSION:2.0
PRODID:-//Mamaway Wiidokdaadwin - ECPv6.15.12//NONSGML v1.0//EN
CALSCALE:GREGORIAN
METHOD:PUBLISH
X-WR-CALNAME:Mamaway Wiidokdaadwin
X-ORIGINAL-URL:https://mamaway.ca
X-WR-CALDESC:Events for Mamaway Wiidokdaadwin
REFRESH-INTERVAL;VALUE=DURATION:PT1H
X-Robots-Tag:noindex
X-PUBLISHED-TTL:PT1H
BEGIN:VTIMEZONE
TZID:America/Toronto
BEGIN:DAYLIGHT
TZOFFSETFROM:-0500
TZOFFSETTO:-0400
TZNAME:EDT
DTSTART:20230312T070000
END:DAYLIGHT
BEGIN:STANDARD
TZOFFSETFROM:-0400
TZOFFSETTO:-0500
TZNAME:EST
DTSTART:20231105T060000
END:STANDARD
BEGIN:DAYLIGHT
TZOFFSETFROM:-0500
TZOFFSETTO:-0400
TZNAME:EDT
DTSTART:20240310T070000
END:DAYLIGHT
BEGIN:STANDARD
TZOFFSETFROM:-0400
TZOFFSETTO:-0500
TZNAME:EST
DTSTART:20241103T060000
END:STANDARD
BEGIN:DAYLIGHT
TZOFFSETFROM:-0500
TZOFFSETTO:-0400
TZNAME:EDT
DTSTART:20250309T070000
END:DAYLIGHT
BEGIN:STANDARD
TZOFFSETFROM:-0400
TZOFFSETTO:-0500
TZNAME:EST
DTSTART:20251102T060000
END:STANDARD
END:VTIMEZONE
BEGIN:VEVENT
DTSTART;VALUE=DATE:20240924
DTEND;VALUE=DATE:20240925
DTSTAMP:20260421T010221
CREATED:20240820T180413Z
LAST-MODIFIED:20240820T180413Z
UID:10002871-1727136000-1727222399@mamaway.ca
SUMMARY:Moccasin Making in the Teepee
DESCRIPTION:Come and learn to build Anishnaabe style moccasins in the Teepee at HEART retreat. \nThis is a challenging workshop that requires strong hands for hours of sewing. \nhttps://survey.alchemer-ca.com/s3/50269631/Making-Moccasins-in-the-Teepee \n 
URL:https://mamaway.ca/event/moccasin-making-in-the-teepee-2/
LOCATION:HEART Retreat at 328 Line 15 North Oro/Medonte\, 328 Line 15 North\, Oro Medonte\, Ontario\, Canada
CATEGORIES:in-person,Mamaway Wiidokdaadwin
ORGANIZER;CN="Chris Walser%2C Land Based Healing Coordinator":MAILTO:cwalser@banac.on.ca
END:VEVENT
BEGIN:VEVENT
DTSTART;TZID=America/Toronto:20240924T130000
DTEND;TZID=America/Toronto:20240924T150000
DTSTAMP:20260421T010221
CREATED:20240816T172723Z
LAST-MODIFIED:20240816T172723Z
UID:10002864-1727182800-1727190000@mamaway.ca
SUMMARY:Red Road to Recovery- In Person at the Georgian Bay Native Womens Assoc.
DESCRIPTION:Anishinaabe Miikan \nA 10-week program that uses the Medicine Wheel as a teaching tool and our Indigenous approach to healing to address the Physical\, Emotional\, Mental\, and Spiritual aspects of addiction and mental health recovery. \nRed Road Facilitators: Kathy St.Amant and Steve Beaupre \nRed Road Case Manager: Zoe Horst 1-705-627-8148 \nHosted by the Waabano Program: Lisa Moreau; Waabano Co-ordinator at the GBNWA \n  \n 
URL:https://mamaway.ca/event/red-road-to-recovery-in-person-at-the-georgian-bay-native-womens-assoc/2024-09-24/
LOCATION:Georgian Bay Native Womens Association 41 Main St. Penetanguishene\, ON\, 41 Main St.\, Penetanguishene\, ON
CATEGORIES:in-person
ATTACH;FMTTYPE=image/png:https://mamaway.ca/wp-content/uploads/2024/08/GBNWA-Waabano-Penetang-Sept3-Nov52024.png
END:VEVENT
END:VCALENDAR