BEGIN:VCALENDAR
VERSION:2.0
PRODID:-//Mamaway Wiidokdaadwin - ECPv6.15.12//NONSGML v1.0//EN
CALSCALE:GREGORIAN
METHOD:PUBLISH
X-WR-CALNAME:Mamaway Wiidokdaadwin
X-ORIGINAL-URL:https://mamaway.ca
X-WR-CALDESC:Events for Mamaway Wiidokdaadwin
REFRESH-INTERVAL;VALUE=DURATION:PT1H
X-Robots-Tag:noindex
X-PUBLISHED-TTL:PT1H
BEGIN:VTIMEZONE
TZID:America/Toronto
BEGIN:DAYLIGHT
TZOFFSETFROM:-0500
TZOFFSETTO:-0400
TZNAME:EDT
DTSTART:20230312T070000
END:DAYLIGHT
BEGIN:STANDARD
TZOFFSETFROM:-0400
TZOFFSETTO:-0500
TZNAME:EST
DTSTART:20231105T060000
END:STANDARD
BEGIN:DAYLIGHT
TZOFFSETFROM:-0500
TZOFFSETTO:-0400
TZNAME:EDT
DTSTART:20240310T070000
END:DAYLIGHT
BEGIN:STANDARD
TZOFFSETFROM:-0400
TZOFFSETTO:-0500
TZNAME:EST
DTSTART:20241103T060000
END:STANDARD
BEGIN:DAYLIGHT
TZOFFSETFROM:-0500
TZOFFSETTO:-0400
TZNAME:EDT
DTSTART:20250309T070000
END:DAYLIGHT
BEGIN:STANDARD
TZOFFSETFROM:-0400
TZOFFSETTO:-0500
TZNAME:EST
DTSTART:20251102T060000
END:STANDARD
END:VTIMEZONE
BEGIN:VEVENT
DTSTART;TZID=America/Toronto:20240920T130000
DTEND;TZID=America/Toronto:20240920T170000
DTSTAMP:20260421T150944
CREATED:20240822T190854Z
LAST-MODIFIED:20240920T171020Z
UID:10002873-1726837200-1726851600@mamaway.ca
SUMMARY:Plant Medicine Harvesting
DESCRIPTION:Come join Chris on Sept 20th at 1 pm at HEART retreat\, to Harvest Medicines to make 7 Pine pain Cream and Jewellweed skin irritation cream. The Following week on Sept 25th\, 2024 at 10 am\, we will gather at 110 Matchedash St N Orillia to make the Medicines. You must attend the Harvesting day to attend the Medicine Making day! \nhttps://survey.alchemer-ca.com/s3/50269983/Plant-Medicine-Harvesting \n 
URL:https://mamaway.ca/event/plant-medicine-harvesting/
LOCATION:HEART Retreat at 328 Line 15 North Oro/Medonte\, 328 Line 15 North\, Oro Medonte\, Ontario\, Canada
ATTACH;FMTTYPE=image/jpeg:https://mamaway.ca/wp-content/uploads/2024/08/Medicine-Making.jpg
ORGANIZER;CN="Chris Walser%2C Land Based Healing Coordinator":MAILTO:cwalser@banac.on.ca
END:VEVENT
END:VCALENDAR