BEGIN:VCALENDAR
VERSION:2.0
PRODID:-//Mamaway Wiidokdaadwin - ECPv6.15.12//NONSGML v1.0//EN
CALSCALE:GREGORIAN
METHOD:PUBLISH
X-ORIGINAL-URL:https://mamaway.ca
X-WR-CALDESC:Events for Mamaway Wiidokdaadwin
REFRESH-INTERVAL;VALUE=DURATION:PT1H
X-Robots-Tag:noindex
X-PUBLISHED-TTL:PT1H
BEGIN:VTIMEZONE
TZID:America/Toronto
BEGIN:DAYLIGHT
TZOFFSETFROM:-0500
TZOFFSETTO:-0400
TZNAME:EDT
DTSTART:20230312T070000
END:DAYLIGHT
BEGIN:STANDARD
TZOFFSETFROM:-0400
TZOFFSETTO:-0500
TZNAME:EST
DTSTART:20231105T060000
END:STANDARD
BEGIN:DAYLIGHT
TZOFFSETFROM:-0500
TZOFFSETTO:-0400
TZNAME:EDT
DTSTART:20240310T070000
END:DAYLIGHT
BEGIN:STANDARD
TZOFFSETFROM:-0400
TZOFFSETTO:-0500
TZNAME:EST
DTSTART:20241103T060000
END:STANDARD
BEGIN:DAYLIGHT
TZOFFSETFROM:-0500
TZOFFSETTO:-0400
TZNAME:EDT
DTSTART:20250309T070000
END:DAYLIGHT
BEGIN:STANDARD
TZOFFSETFROM:-0400
TZOFFSETTO:-0500
TZNAME:EST
DTSTART:20251102T060000
END:STANDARD
END:VTIMEZONE
BEGIN:VEVENT
DTSTART;TZID=America/Toronto:20240918T120000
DTEND;TZID=America/Toronto:20240918T150000
DTSTAMP:20260421T184120
CREATED:20240906T132611Z
LAST-MODIFIED:20240906T132611Z
UID:10002965-1726660800-1726671600@mamaway.ca
SUMMARY:Nokomis Giizis Gathering - Corn Moon
DESCRIPTION:
URL:https://mamaway.ca/event/nokomis-giizis-gathering-corn-moon/
LOCATION:HEART Retreat at 328 Line 15 North Oro/Medonte\, 328 Line 15 North\, Oro Medonte\, Ontario\, Canada
ATTACH;FMTTYPE=image/png:https://mamaway.ca/wp-content/uploads/2024/09/Nokomis-Giizis-Series-2024-Sept.png
ORGANIZER;CN="Chris Walser%2C Land Based Healing Coordinator":MAILTO:cwalser@banac.on.ca
END:VEVENT
BEGIN:VEVENT
DTSTART;TZID=America/Toronto:20240918T180000
DTEND;TZID=America/Toronto:20240918T200000
DTSTAMP:20260421T184120
CREATED:20240722T191325Z
LAST-MODIFIED:20240816T172041Z
UID:10002854-1726682400-1726689600@mamaway.ca
SUMMARY:Virtual Red Road to Recovery
DESCRIPTION:A 10-week program that uses the Medicine Wheel as a teaching tool and our Indigenous approach to healing to address the Physical\, Emotional\, Mental\, and Spiritual \naspects of addiction and mental health recovery \n  \nRed Road to Recovery Facilitators: Kathy St Amant and Steve Beaupre \nMamaway Wiidokdaadwin Case Manager: Zoe Horst- 705-627-8148\, email: zhorst@banac.on.ca
URL:https://mamaway.ca/event/virtual-red-road-to-recovery-2/2024-09-18/
LOCATION:Zoom
CATEGORIES:Virtual Program Offering
ATTACH;FMTTYPE=image/png:https://mamaway.ca/wp-content/uploads/2024/07/Virtual-Aug28-Oct32024.png
ORGANIZER;CN="Zoe Horst":MAILTO:zhorst@banac.on.ca
END:VEVENT
END:VCALENDAR