BEGIN:VCALENDAR
VERSION:2.0
PRODID:-//Mamaway Wiidokdaadwin - ECPv6.15.12//NONSGML v1.0//EN
CALSCALE:GREGORIAN
METHOD:PUBLISH
X-ORIGINAL-URL:https://mamaway.ca
X-WR-CALDESC:Events for Mamaway Wiidokdaadwin
REFRESH-INTERVAL;VALUE=DURATION:PT1H
X-Robots-Tag:noindex
X-PUBLISHED-TTL:PT1H
BEGIN:VTIMEZONE
TZID:America/Toronto
BEGIN:DAYLIGHT
TZOFFSETFROM:-0500
TZOFFSETTO:-0400
TZNAME:EDT
DTSTART:20230312T070000
END:DAYLIGHT
BEGIN:STANDARD
TZOFFSETFROM:-0400
TZOFFSETTO:-0500
TZNAME:EST
DTSTART:20231105T060000
END:STANDARD
BEGIN:DAYLIGHT
TZOFFSETFROM:-0500
TZOFFSETTO:-0400
TZNAME:EDT
DTSTART:20240310T070000
END:DAYLIGHT
BEGIN:STANDARD
TZOFFSETFROM:-0400
TZOFFSETTO:-0500
TZNAME:EST
DTSTART:20241103T060000
END:STANDARD
BEGIN:DAYLIGHT
TZOFFSETFROM:-0500
TZOFFSETTO:-0400
TZNAME:EDT
DTSTART:20250309T070000
END:DAYLIGHT
BEGIN:STANDARD
TZOFFSETFROM:-0400
TZOFFSETTO:-0500
TZNAME:EST
DTSTART:20251102T060000
END:STANDARD
END:VTIMEZONE
BEGIN:VEVENT
DTSTART;TZID=America/Toronto:20240827T100000
DTEND;TZID=America/Toronto:20240827T140000
DTSTAMP:20260422T134440
CREATED:20240606T142718Z
LAST-MODIFIED:20240606T174524Z
UID:10001887-1724752800-1724767200@mamaway.ca
SUMMARY:Building Our Bundles: Uplifting Our Spirits
DESCRIPTION:This series will provide a safe and supportive space to connect with other community members and explore a range of topics related to cultural teachings and building your own bundle. By participating in the program\, it will provide you with the tools and resources you need to help you live a good life! \nHere is the breakdown of the 8-week Series and what we will be doing each week: \n\nWeek 1: Four Sacred Medicines: Teachings about the four sacred medicines and harvesting.\n\n\nWeek 2: What’s in Your Bundle?: What is a bundle? Bundle teachings.\n\n\nWeek 3: Eagle Feather Teachings: Eagle feather dressing and teachings.\n\n\nWeek 4: The Moccasin We Wear: Share various style of moccasins from different nations around Turtle Island.\n\n\nWeek 5: Shaker Teachings: What are shakers for?\n\n\nWeek 6: Learn the Songs: What do the songs mean? What songs do you know?\n\n\nWeek 7: Ribbon Skirt/Shirt Teachings: Why do we wear ribbon skirts and ribbon skirts? What are your colors?\n\n\nWeek 8: Feast Your Bundles: Potluck Feast! Bring your favorite dish to share!\n\nThroughout the 8 weeks\, participants will make a bundle bag\, smudge kit\, dress their feather\, a feather case\, moccasins\, a shaker\, learn songs such as the Eagle Song and Traveling Song\, ribbon skirts/shirts and lastly\, bring their favorite dish to feast their bundles. \nThe series will run every Tuesday from 10:00am – 2:00pm in Orillia. \nClick link to register: https://survey.alchemer-ca.com/s3/50259416/Building-Our-Bundles-Uplifting-Your-Spirit-Q2 \nIf you have any questions\, please reach out to Courtney Thomas at cthomas@banac.on.ca or Bawd Elliott at belliott@banac.on.ca 
URL:https://mamaway.ca/event/building-our-bundles-uplifting-our-spirits/2024-08-27/
LOCATION:ONJ
ATTACH;FMTTYPE=image/jpeg:https://mamaway.ca/wp-content/uploads/2024/06/Building-Our-Bundles-Series-Q2-Flyer-2024.jpg
ORGANIZER;CN="Courtney Thomas":MAILTO:cthomas@banac.on.ca
END:VEVENT
BEGIN:VEVENT
DTSTART;TZID=America/Toronto:20240827T100000
DTEND;TZID=America/Toronto:20240827T140000
DTSTAMP:20260422T134440
CREATED:20240702T152153Z
LAST-MODIFIED:20240711T121454Z
UID:10002500-1724752800-1724767200@mamaway.ca
SUMMARY:Building Drums in them Yurt
DESCRIPTION:
URL:https://mamaway.ca/event/building-drums-in-them-yurt/
LOCATION:Horses are Magic\, 1098 Scarlett Line\, Hillsdale\, ON\, L0L 1V0\, Canada
CATEGORIES:in-person,Mamaway Wiidokdaadwin
ATTACH;FMTTYPE=image/jpeg:https://mamaway.ca/wp-content/uploads/2024/07/Building-Drums-in-the-Yurt.jpg
ORGANIZER;CN="Chris Walser%2C Land Based Healing Coordinator":MAILTO:cwalser@banac.on.ca
END:VEVENT
BEGIN:VEVENT
DTSTART;TZID=America/Toronto:20240827T130000
DTEND;TZID=America/Toronto:20240827T150000
DTSTAMP:20260422T134440
CREATED:20240524T135859Z
LAST-MODIFIED:20240710T181134Z
UID:10002482-1724763600-1724770800@mamaway.ca
SUMMARY:Red Road to Recovery- In Person at BANAC/Mamaway Office in Midland
DESCRIPTION:A 10-week program that uses the Medicine Wheel as a teaching tool and our Indigenous approach to healing to address the \nPhysical\, Emotional\, Mental\, and Spiritual \naspects of addiction and mental health recovery. \nFacilitators: Kathy StAmant and Steve Beaupre \nCase Manager: Zoe Horst 705-627-8148
URL:https://mamaway.ca/event/red-road-to-recovery-in-person-at-enaahtig-community-justice-centre-midland/2024-08-27/
LOCATION:BANAC/Mamaway Office. Midland\, 562 King St\, Midland
CATEGORIES:in-person
ATTACH;FMTTYPE=image/png:https://mamaway.ca/wp-content/uploads/2024/05/BANAC-office-Midland-June-25-Aug2024.png
ORGANIZER;CN="Zoe Horst":MAILTO:zhorst@banac.on.ca
END:VEVENT
BEGIN:VEVENT
DTSTART;TZID=America/Toronto:20240827T200000
DTEND;TZID=America/Toronto:20240827T210000
DTSTAMP:20260422T134440
CREATED:20240801T020810Z
LAST-MODIFIED:20240802T190159Z
UID:10002774-1724788800-1724792400@mamaway.ca
SUMMARY:Digital Storytelling with Bawd Elliott  August 29th 2024
DESCRIPTION:Hello\, all! \nPlease join me online for some digital storytelling August 27th at 8:00 p.m.  I will be covering some chapters from The Mishomis Book written by Eddie Benton Banai Baa.  Please register for this event by using the Alchemer link provided at the bottom of the page.
URL:https://mamaway.ca/event/digital-storytelling-with-bawd-elliott-august-29th-2024/
LOCATION:ONJ
CATEGORIES:Virtual Program Offering
ATTACH;FMTTYPE=image/png:https://mamaway.ca/wp-content/uploads/2024/07/Digital-Storytelling-08-27-24-1.png
END:VEVENT
END:VCALENDAR