BEGIN:VCALENDAR
VERSION:2.0
PRODID:-//Mamaway Wiidokdaadwin - ECPv6.15.12//NONSGML v1.0//EN
CALSCALE:GREGORIAN
METHOD:PUBLISH
X-ORIGINAL-URL:https://mamaway.ca
X-WR-CALDESC:Events for Mamaway Wiidokdaadwin
REFRESH-INTERVAL;VALUE=DURATION:PT1H
X-Robots-Tag:noindex
X-PUBLISHED-TTL:PT1H
BEGIN:VTIMEZONE
TZID:America/Toronto
BEGIN:DAYLIGHT
TZOFFSETFROM:-0500
TZOFFSETTO:-0400
TZNAME:EDT
DTSTART:20230312T070000
END:DAYLIGHT
BEGIN:STANDARD
TZOFFSETFROM:-0400
TZOFFSETTO:-0500
TZNAME:EST
DTSTART:20231105T060000
END:STANDARD
BEGIN:DAYLIGHT
TZOFFSETFROM:-0500
TZOFFSETTO:-0400
TZNAME:EDT
DTSTART:20240310T070000
END:DAYLIGHT
BEGIN:STANDARD
TZOFFSETFROM:-0400
TZOFFSETTO:-0500
TZNAME:EST
DTSTART:20241103T060000
END:STANDARD
BEGIN:DAYLIGHT
TZOFFSETFROM:-0500
TZOFFSETTO:-0400
TZNAME:EDT
DTSTART:20250309T070000
END:DAYLIGHT
BEGIN:STANDARD
TZOFFSETFROM:-0400
TZOFFSETTO:-0500
TZNAME:EST
DTSTART:20251102T060000
END:STANDARD
END:VTIMEZONE
BEGIN:VEVENT
DTSTART;TZID=America/Toronto:20240801T090000
DTEND;TZID=America/Toronto:20240801T160000
DTSTAMP:20260422T134442
CREATED:20240702T145311Z
LAST-MODIFIED:20240702T153102Z
UID:10001915-1722502800-1722528000@mamaway.ca
SUMMARY:Star Blanket Workshop with Nikki Shawana
DESCRIPTION:Join the Mamaway Wiidokdaadwin Life Promoters on July 31st & August 1st for a Star Blanket Workshop with Nikki Shawana! \nNikki Shawana is an Indigenous artist from the Odawa Nation (Anishinaabe)\, Eagle clan. Her roots are from Wiikwemkoong\, Manitoulin Island\, however\, she grew up in Southern Ontario. Nikki currently resides and raises her family in Norfolk County.\nNikki started Pow Wow dancing at an early age as a way to keep connected to her Anishinaabe culture while growing up in an urban setting. As a teenager\, she gathered teachings from Elders\, dancers\, singers and crafts people in her community and the powwow trail. Growing up in Southern Ontario\, Nikki learned many teachings\, songs\, dances and language from the Haudenosaunee as well. She quickly found herself as a role model for other youth in her community that wanted to learn more about their culture. \nSPACE IS LIMITED TO FIVE (5) SPOTS!!  \nPlease register here: https://survey.alchemer-ca.com/s3/50263045/Star-Blanket-Workshop \nTime: 9:00am – 4:00pm \nLocation will be shared after registration is complete!
URL:https://mamaway.ca/event/star-blanket-workshop-with-nikki-shawana/2024-08-01/
LOCATION:ONJ
ATTACH;FMTTYPE=image/jpeg:https://mamaway.ca/wp-content/uploads/2024/07/Star-Blanket-with-Nikki-Shawana-2024-FINAL.jpg
ORGANIZER;CN="Courtney Thomas":MAILTO:cthomas@banac.on.ca
END:VEVENT
BEGIN:VEVENT
DTSTART;TZID=America/Toronto:20240801T130000
DTEND;TZID=America/Toronto:20240801T140000
DTSTAMP:20260422T134442
CREATED:20240702T151304Z
LAST-MODIFIED:20240702T151304Z
UID:10001923-1722517200-1722520800@mamaway.ca
SUMMARY:Traditional Archery Series
DESCRIPTION:
URL:https://mamaway.ca/event/traditional-archery-series/
LOCATION:HEART Retreat at 328 Line 15 North Oro/Medonte\, 328 Line 15 North\, Oro Medonte\, Ontario\, Canada
CATEGORIES:in-person,Mamaway Wiidokdaadwin
ATTACH;FMTTYPE=image/jpeg:https://mamaway.ca/wp-content/uploads/2024/07/Traditional-Archery-Series.jpg
ORGANIZER;CN="Chris Walser%2C Land Based Healing Coordinator":MAILTO:cwalser@banac.on.ca
END:VEVENT
BEGIN:VEVENT
DTSTART;TZID=America/Toronto:20240801T130000
DTEND;TZID=America/Toronto:20240801T150000
DTSTAMP:20260422T134442
CREATED:20240418T182640Z
LAST-MODIFIED:20240606T174638Z
UID:10002450-1722517200-1722524400@mamaway.ca
SUMMARY:Beading/Sewing Circle
DESCRIPTION:  \nJoin Mamaway Wiidokdaadwin Life Promoter\, Courtney Thomas for a Beading/Sewing Circle from 1:00pm-3:00pm weekly starting on Thursday\, July 11th\, 2024. \nCourtney will teach you different beading techniques and/or sewing techniques that you would like to learn. Light refreshments will be provided. \n**Location will be shared after registration. \nClick here to register: https://survey.alchemer-ca.com/s3/50261557/Beading-Sewing-Circle-Q2 \nIf you have any questions\, feel free to reach out to Courtney at cthomas@banac.on.ca
URL:https://mamaway.ca/event/beading-sewing-circles/2024-08-01/
LOCATION:ONJ
CATEGORIES:Mamaway Wiidokdaadwin
ATTACH;FMTTYPE=image/jpeg:https://mamaway.ca/wp-content/uploads/2024/04/Beading-Circle-Flyer-Q2-.jpg
ORGANIZER;CN="Courtney Thomas":MAILTO:cthomas@banac.on.ca
END:VEVENT
BEGIN:VEVENT
DTSTART;TZID=America/Toronto:20240801T163000
DTEND;TZID=America/Toronto:20240801T190000
DTSTAMP:20260422T134442
CREATED:20240529T204136Z
LAST-MODIFIED:20240612T035829Z
UID:10002496-1722529800-1722538800@mamaway.ca
SUMMARY:#NotOurMedicine Campaign Development (8 weeks)
DESCRIPTION:Throughout the 8-week creation (8 consecutive Thursdays 430-7pm) of multi-media assets and campaign messaging\, there will be an effort in raising awareness and education for the youth in the region.  Our goal is for this to be a long-lasting campaign that is relevant in a meaningful and cultural way. \nThe campaign will focus on these key elements: \n\nAwareness about the dangers of opioid misuse\nUnderstanding what is our medicine\, building our bundles\nDiscuss where to go to for help and support when you needed.\n\nThe foundational philosophy is to reduce the stigma of opioid addiction.  And the message woven throughout will be the strength of cultural connections as supporting factors in recovery.
URL:https://mamaway.ca/event/notourmedicine-campaign-development-8-weeks/2024-08-01/
LOCATION:ONJ
ATTACH;FMTTYPE=image/png:https://mamaway.ca/wp-content/uploads/2024/05/NoM-8-week-engagment-Draft-v2-website-place-holder.png
ORGANIZER;CN="Bawdweodung Elliott":MAILTO:belliott@banac.on.ca
END:VEVENT
END:VCALENDAR