BEGIN:VCALENDAR
VERSION:2.0
PRODID:-//Mamaway Wiidokdaadwin - ECPv6.15.12//NONSGML v1.0//EN
CALSCALE:GREGORIAN
METHOD:PUBLISH
X-WR-CALNAME:Mamaway Wiidokdaadwin
X-ORIGINAL-URL:https://mamaway.ca
X-WR-CALDESC:Events for Mamaway Wiidokdaadwin
REFRESH-INTERVAL;VALUE=DURATION:PT1H
X-Robots-Tag:noindex
X-PUBLISHED-TTL:PT1H
BEGIN:VTIMEZONE
TZID:America/Toronto
BEGIN:DAYLIGHT
TZOFFSETFROM:-0500
TZOFFSETTO:-0400
TZNAME:EDT
DTSTART:20230312T070000
END:DAYLIGHT
BEGIN:STANDARD
TZOFFSETFROM:-0400
TZOFFSETTO:-0500
TZNAME:EST
DTSTART:20231105T060000
END:STANDARD
BEGIN:DAYLIGHT
TZOFFSETFROM:-0500
TZOFFSETTO:-0400
TZNAME:EDT
DTSTART:20240310T070000
END:DAYLIGHT
BEGIN:STANDARD
TZOFFSETFROM:-0400
TZOFFSETTO:-0500
TZNAME:EST
DTSTART:20241103T060000
END:STANDARD
BEGIN:DAYLIGHT
TZOFFSETFROM:-0500
TZOFFSETTO:-0400
TZNAME:EDT
DTSTART:20250309T070000
END:DAYLIGHT
BEGIN:STANDARD
TZOFFSETFROM:-0400
TZOFFSETTO:-0500
TZNAME:EST
DTSTART:20251102T060000
END:STANDARD
END:VTIMEZONE
BEGIN:VEVENT
DTSTART;TZID=America/Toronto:20240731T090000
DTEND;TZID=America/Toronto:20240731T160000
DTSTAMP:20260422T134241
CREATED:20240702T145311Z
LAST-MODIFIED:20240702T153102Z
UID:10001914-1722416400-1722441600@mamaway.ca
SUMMARY:Star Blanket Workshop with Nikki Shawana
DESCRIPTION:Join the Mamaway Wiidokdaadwin Life Promoters on July 31st & August 1st for a Star Blanket Workshop with Nikki Shawana! \nNikki Shawana is an Indigenous artist from the Odawa Nation (Anishinaabe)\, Eagle clan. Her roots are from Wiikwemkoong\, Manitoulin Island\, however\, she grew up in Southern Ontario. Nikki currently resides and raises her family in Norfolk County.\nNikki started Pow Wow dancing at an early age as a way to keep connected to her Anishinaabe culture while growing up in an urban setting. As a teenager\, she gathered teachings from Elders\, dancers\, singers and crafts people in her community and the powwow trail. Growing up in Southern Ontario\, Nikki learned many teachings\, songs\, dances and language from the Haudenosaunee as well. She quickly found herself as a role model for other youth in her community that wanted to learn more about their culture. \nSPACE IS LIMITED TO FIVE (5) SPOTS!!  \nPlease register here: https://survey.alchemer-ca.com/s3/50263045/Star-Blanket-Workshop \nTime: 9:00am – 4:00pm \nLocation will be shared after registration is complete!
URL:https://mamaway.ca/event/star-blanket-workshop-with-nikki-shawana/2024-07-31/
LOCATION:ONJ
ATTACH;FMTTYPE=image/jpeg:https://mamaway.ca/wp-content/uploads/2024/07/Star-Blanket-with-Nikki-Shawana-2024-FINAL.jpg
ORGANIZER;CN="Courtney Thomas":MAILTO:cthomas@banac.on.ca
END:VEVENT
END:VCALENDAR