BEGIN:VCALENDAR
VERSION:2.0
PRODID:-//Mamaway Wiidokdaadwin - ECPv6.15.12//NONSGML v1.0//EN
CALSCALE:GREGORIAN
METHOD:PUBLISH
X-ORIGINAL-URL:https://mamaway.ca
X-WR-CALDESC:Events for Mamaway Wiidokdaadwin
REFRESH-INTERVAL;VALUE=DURATION:PT1H
X-Robots-Tag:noindex
X-PUBLISHED-TTL:PT1H
BEGIN:VTIMEZONE
TZID:America/Toronto
BEGIN:DAYLIGHT
TZOFFSETFROM:-0500
TZOFFSETTO:-0400
TZNAME:EDT
DTSTART:20230312T070000
END:DAYLIGHT
BEGIN:STANDARD
TZOFFSETFROM:-0400
TZOFFSETTO:-0500
TZNAME:EST
DTSTART:20231105T060000
END:STANDARD
BEGIN:DAYLIGHT
TZOFFSETFROM:-0500
TZOFFSETTO:-0400
TZNAME:EDT
DTSTART:20240310T070000
END:DAYLIGHT
BEGIN:STANDARD
TZOFFSETFROM:-0400
TZOFFSETTO:-0500
TZNAME:EST
DTSTART:20241103T060000
END:STANDARD
BEGIN:DAYLIGHT
TZOFFSETFROM:-0500
TZOFFSETTO:-0400
TZNAME:EDT
DTSTART:20250309T070000
END:DAYLIGHT
BEGIN:STANDARD
TZOFFSETFROM:-0400
TZOFFSETTO:-0500
TZNAME:EST
DTSTART:20251102T060000
END:STANDARD
END:VTIMEZONE
BEGIN:VEVENT
DTSTART;TZID=America/Toronto:20240721T190000
DTEND;TZID=America/Toronto:20240721T200000
DTSTAMP:20260424T060218
CREATED:20240618T002447Z
LAST-MODIFIED:20240618T160318Z
UID:10001910-1721588400-1721592000@mamaway.ca
SUMMARY:Digital Storytelling with Bawd Elliott  07/21/24
DESCRIPTION:Aaniin.  Please join me Sunday July 21st at 7pm (on Zoom) for some digital storytelling. \nI will be using AI generated art to depicted the Creation Story as told by Edward Benton- Banai Baa in his works titled The Mishomis Book\, The Voice of the Ojibway. \nPlease register for this online event by using the link provided below. \n  \n 
URL:https://mamaway.ca/event/digital-storytelling-with-bawd-elliott-07-21-24/
LOCATION:ON
ATTACH;FMTTYPE=image/png:https://mamaway.ca/wp-content/uploads/2024/06/Untitled-4.png
ORGANIZER;CN="Bawdweodung Elliott":MAILTO:belliott@banac.on.ca
END:VEVENT
END:VCALENDAR